Workbook

Sheet Sumário

Sheet Sumário Provisório
A1: PLANO ESTATÍSTICO - HOSPITAL JEAN BITAR - INDSH - SESPA
A2: ANO: | B2: 2018
A3: GESTORES: | B3: GIOVANE MERENDA | C3: DIRETOR EXECUTIVO
B4: RODRIGO FRÖHLICH | C4: DIRETOR ADMINISTRATIVO E FINANCEIRO
B5: DENISE VILLACORTA | C5: DIRETORA TÉCNICA
B6: CAROLINA KAHWAGE | C6: DIRETORA CLÍNICA
B7: SOLANGE ANTONELLI | C7: GERENTE ASSISTÊNCIAL
A8: SUMÁRIO
A9: 1. | B9: Estatística de Pacientes Internados | D9: 2. | E9: Serviços Assistenciais | F9: Serviços Assistenciais | G9: 3. | H9: Serviço de Apoio Diagnóstico Terapêutico | I9: Serviço de Apoio Diagnóstico Terapêutico | J9: 4. | K9: Serviços de Apoio
A10: 1.1. | B10: Nº de Leitos por Unidade | C10: Nº de Leitos por Unidade | D10: 2.1. | E10: Centro Cirúrgico | F10: Centro Cirúrgico | G10: 3.1. | H10: Anátomo Patológico | I10: Anátomo Patológico | J10: 4.1. | K10: Nutrição e Dietética
A11: 1.2. | B11: Nº de Leitos-Dia por Unidade | C11: Nº de Leitos-Dia por Unidade | D11: 2.2. | E11: Anestesia | F11: Anestesia | G11: 3.2. | H11: Bomba de Insulina | J11: 4.2. | K11: Processamento da Roupa
A12: 1.3. | B12: Nº de Pacientes-Dia por Especialidade | C12: Nº de Pacientes-Dia por Especialidade | D12: 2.3. | E12: Centro Cirúrgico - Procedimento Endoscópico | F12: Centro Cirúrgico - Procedimento Endoscópico | G12: 3.3. | H12: Broncoscopia | I12: Broncoscopia | J12: 4.3. | K12: Manutenção
A13: 1.4. | B13: Nº de Pacientes-Dia por Unidade | C13: Nº de Pacientes-Dia por Unidade | D13: 2.4. | E13: Anestesia | F13: Anestesia | G13: 3.4. | H13: Densitometria Óssea | I13: Densitometria Óssea | J13: 4.4. | K13: Telefonia
A14: 1.5. | B14: Média Diária de Pacientes por Unidade | C14: Média Diária de Pacientes por Unidade | D14: 2.5. | E14: Central de Material Esterilizado | F14: Central de Material Esterilizado | G14: 3.5. | H14: Ecocardiograma | I14: Ecocardiograma | J14: 4.5. | K14: Encadernação
A15: 1.6. | B15: Internações por Especialidade | C15: Internações por Especialidade | D15: 2.6. | E15: Ambulatório de Referência e Pronto Atendimento | F15: Ambulatório de Referência e Pronto Atendimento | G15: 3.6. | H15: ECG - Eletrocardiograma | I15: ECG - Eletrocardiograma | J15: 4.6. | K15: Plastificação
A16: 1.7. | B16: Internações por Unidade | C16: Internações por Unidade | D16: 2.6.2. | E16: Atendimento por Especialidades – Ambulatório - Consultas Médicas | F16: Atendimento por Especialidades – Ambulatório - Consultas Médicas | G16: 3.7. | H16: Endoscopia Digestiva Alta | I16: Endoscopia Digestiva Alta | J16: 4.7. | K16: Cópias
A17: 1.8. | B17: Internações por Município | C17: Internações por Município | D17: 2.6.3. | E17: Atendimento por Especialidades – Ambulatório - Consultas Não Médicas | F17: Atendimento por Especialidades – Ambulatório - Consultas Não Médicas | G17: 3.8. | H17: Endoscopia Digestiva Baixa - Colonoscopia | I17: Endoscopia Digestiva Baixa - Colonoscopia
A18: 1.9. | B18: Internações por Faixa etária | C18: Internações por Faixa etária | D18: 2.6.4. | E18: Procedimentos Realizados no ambulatório | F18: Procedimentos Realizados no ambulatório | G18: 3.9. | H18: Escleroterapia Ecoviada com Espuma | I18: Escleroterapia Ecoviada com Espuma | J18: 5. | K18: Serviços Administrativos
A19: 1.10. | B19: Altas Melhoradas Por Especialidade | C19: Altas Melhoradas Por Especialidade | D19: 2.7. | E19: Atividades Sociais | F19: Atividades Sociais | G19: 3.10. | H19: Espirometria - Prova de Função Pulmonar | I19: Espirometria - Prova de Função Pulmonar
A20: 1.11. | B20: Altas por Unidade (sem transferências) | C20: Altas por Unidade (sem transferências) | D20: 2.7.1. | E20: S.A.U | F20: S.A.U | G20: 3.11. | H20: Holter de Glicemia | I20: Holter de Glicemia | J20: 6. | K20: Resumo Geral de Informações
A21: 1.12. | B21: Óbitos por Especialidade | C21: Óbitos por Especialidade | D21: 2.7.2. | E21: Serviço Social | F21: Serviço Social | G21: 3.12. | H21: Laboratório de Análises Clínicas | I21: Laboratório de Análises Clínicas
A22: 1.13. | B22: Óbitos por Unidade | C22: Óbitos por Unidade | D22: 2.7.3. | E22: Serviço Nutricional | F22: Serviço Nutricional | G22: 3.13. | H22: Mamografia | I22: Mamografia
A23: 1.14. | B23: Óbitos Não Institucionais p/ Especialidade (-48h) | C23: Óbitos Não Institucionais p/ Especialidade (-48h) | D23: 2.7.4. | E23: Serviço Psicologia | F23: Serviço Psicologia | G23: 3.14. | H23: MAPA - Monitorização Ambulatorial de Pressão Arterial | I23: MAPA - Monitorização Ambulatorial de Pressão Arterial
A24: 1.15. | B24: Óbitos Institucionais p/ Especialidade (+48h) | C24: Óbitos Institucionais p/ Especialidade (+48h) | D24: 2.7.5. | E24: Educação Permanente | F24: Educação Permanente | G24: 3.15. | H24: Medicina Nuclear - Cintilografia | I24: Medicina Nuclear - Cintilografia
A25: 1.16. | B25: Óbitos por Faixa Etária | C25: Óbitos por Faixa Etária | G25: 3.16. | H25: Medicina Nuclear - Iodoterapia | I25: Medicina Nuclear - Iodoterapia
A26: 1.17. | B26: Transferência Interna por Unidade (Entrada) | C26: Transferência Interna por Unidade (Entrada) | G26: 3.17. | H26: PAAF - Biópsia de Tireóide | I26: PAAF - Biópsia de Tireóide
A27: 1.18. | B27: Transferência Interna por Unidade (Saída) | C27: Transferência Interna por Unidade (Saída) | G27: 3.18. | H27: Polissonografia | I27: Polissonografia
A28: 1.19. | B28: Pacientes Saídos p/ Especialidade | C28: Pacientes Saídos p/ Especialidade | G28: 3.19. | H28: Radiologia - Raio-X | I28: Radiologia - Raio-X
A29: 1.20. | B29: Pacientes Saídos por Unidade | C29: Pacientes Saídos por Unidade | G29: 3.20. | H29: Ressonância Magnética | I29: Ressonância Magnética
A30: 1.21. | B30: Porcentagem de Ocupação por Unidade | C30: Porcentagem de Ocupação por Unidade | G30: 3.21. | H30: Teste Ergométrico | I30: Teste Ergométrico
A31: 1.22. | B31: Média de Permanência por Unidade | C31: Média de Permanência por Unidade | G31: 3.22. | H31: Tomografia | I31: Tomografia
A32: 1.23. | B32: Índice de Giro de Leitos p/ Unidade | C32: Índice de Giro de Leitos p/ Unidade | G32: 3.23. | H32: Ultrassonografia | I32: Ultrassonografia
A33: 1.24. | B33: Taxa de Mortalidade por Unidade | C33: Taxa de Mortalidade por Unidade | G33: 3.24. | H33: Fisioterapia | I33: Fisioterapia
A34: 1.25. | B34: Taxa de Mortalidade por Tipo | C34: Taxa de Mortalidade por Tipo | G34: 3.25. | H34: Fonoaudiologia | I34: Fonoaudiologia
G35: 3.26. | H35: Terapia Ocupacional | I35: Terapia Ocupacional
G36: 3.27. | H36: Hemoterapia - Agência Transfusional | I36: Hemoterapia - Agência Transfusional
G37: 3.28. | H37: Hemodiálise | I37: Hemodiálise
G38: 3.29. | H38: Pulsoterapia | I38: Pulsoterapia
G39: 3.30. | H39: Total SADT Internos | I39: Total SADT Internos
G40: 3.31. | H40: Total SADT Externos | I40: Total SADT Externos
G41: 3.32.2 | H41: TOTAL GERAL SADT | I41: TOTAL GERAL SADT
G42: 3.33. | H42: Total Tratamentos Internos | I42: Total Tratamentos Internos

Sheet Plano_Estatístico_2018_HJB
A1: PLANO ESTATÍSTICO 2018
A3: HOSPITAL JEAN BITAR – HJB
A5: PLANO ESTATÍSTICO | B5: JAN | C5: FEV | D5: MAR | E5: ABR | F5: MAI | G5: JUN | H5: JUL | I5: AGO | J5: SET | K5: OUT | L5: NOV | M5: DEZ | N5: ACUM | O5: MÉDIA
A6: 1. Estatística de Pacientes Internados
A8: 1.1. Nº de Leitos por Unidade
A9: Clínica Cirúrgica | B9: 20 | C9: 20 | D9: 20 | E9: 20 | F9: 20 | G9: 20 | H9: 20 | I9: 20 | J9: 20 | K9: 20 | L9: 20 | M9: 20 | N9: =SUM(B9:M9) -> 240 | O9: =IF(N9=0,0,AVERAGE(B9:M9)) -> 20
A10: Clínica Médica | B10: 40 | C10: 40 | D10: 40 | E10: 40 | F10: 40 | G10: 40 | H10: 40 | I10: 40 | J10: 40 | K10: 40 | L10: 40 | M10: 40 | N10: =SUM(B10:M10) -> 480 | O10: =IF(N10=0,0,AVERAGE(B10:M10)) -> 40
A11: UTI Adulto | B11: 10 | C11: 10 | D11: 10 | E11: 10 | F11: 10 | G11: 10 | H11: 10 | I11: 10 | J11: 10 | K11: 10 | L11: 10 | M11: 10 | N11: =SUM(B11:M11) -> 120 | O11: =IF(N11=0,0,AVERAGE(B11:M11)) -> 10
A12: Total | B12: =IF(SUM(B9:B11)=0,"",SUM(B9:B11)) -> 70 | C12: =IF(SUM(C9:C11)=0,"",SUM(C9:C11)) -> 70 | D12: =IF(SUM(D9:D11)=0,"",SUM(D9:D11)) -> 70 | E12: =IF(SUM(E9:E11)=0,"",SUM(E9:E11)) -> 70 | F12: =IF(SUM(F9:F11)=0,"",SUM(F9:F11)) -> 70 | G12: =IF(SUM(G9:G11)=0,"",SUM(G9:G11)) -> 70 | H12: =IF(SUM(H9:H11)=0,"",SUM(H9:H11)) -> 70 | I12: =IF(SUM(I9:I11)=0,"",SUM(I9:I11)) -> 70 | ... M12: =IF(SUM(M9:M11)=0,"",SUM(M9:M11)) -> 70 | N12: =SUM(N9:N11) -> 840 | O12: =SUM(O9:O11) -> 70
A14: 1.2. Nº de Leitos-Dia por Unidade
A15: Clínica Cirúrgica | B15: =IF(B9="","",B9*B1696) -> 620 | C15: =IF(C9="","",C9*C1696) -> 560 | D15: =IF(D9="","",D9*D1696) -> 620 | E15: =IF(E9="","",E9*E1696) -> 600 | F15: =IF(F9="","",F9*F1696) -> 620 | G15: =IF(G9="","",G9*G1696) -> 600 | H15: =IF(H9="","",H9*H1696) -> 620 | I15: =IF(I9="","",I9*I1696) -> 620 | ... M15: =IF(M9="","",M9*M1696) -> 620 | N15: =SUM(B15:M15) -> 7300 | O15: =IF(N15=0,0,AVERAGE(B15:M15)) -> 608.33333
A16: Clínica Médica | B16: =IF(B10="","",B10*B1696) -> 1240 | C16: =IF(C10="","",C10*C1696) -> 1120 | D16: =IF(D10="","",D10*D1696) -> 1240 | E16: =IF(E10="","",E10*E1696) -> 1200 | F16: =IF(F10="","",F10*F1696) -> 1240 | G16: =IF(G10="","",G10*G1696) -> 1200 | H16: =IF(H10="","",H10*H1696) -> 1240 | I16: =IF(I10="","",I10*I1696) -> 1240 | ... M16: =IF(M10="","",M10*M1696) -> 1240 | N16: =SUM(B16:M16) -> 14600 | O16: =IF(N16=0,0,AVERAGE(B16:M16)) -> 1216.6667
A17: UTI Adulto | B17: =IF(B11="","",B11*B1696) -> 310 | C17: =IF(C11="","",C11*C1696) -> 280 | D17: =IF(D11="","",D11*D1696) -> 310 | E17: =IF(E11="","",E11*E1696) -> 300 | F17: =IF(F11="","",F11*F1696) -> 310 | G17: =IF(G11="","",G11*G1696) -> 300 | H17: =IF(H11="","",H11*H1696) -> 310 | I17: =IF(I11="","",I11*I1696) -> 310 | ... M17: =IF(M11="","",M11*M1696) -> 310 | N17: =SUM(B17:M17) -> 3650 | O17: =IF(N17=0,0,AVERAGE(B17:M17)) -> 304.16667
A18: Total | B18: =IF(SUM(B15:B17)=0,"",SUM(B15:B17)) -> 2170 | C18: =IF(SUM(C15:C17)=0,"",SUM(C15:C17)) -> 1960 | D18: =IF(SUM(D15:D17)=0,"",SUM(D15:D17)) -> 2170 | E18: =IF(SUM(E15:E17)=0,"",SUM(E15:E17)) -> 2100 | F18: =IF(SUM(F15:F17)=0,"",SUM(F15:F17)) -> 2170 | G18: =IF(SUM(G15:G17)=0,"",SUM(G15:G17)) -> 2100 | H18: =IF(SUM(H15:H17)=0,"",SUM(H15:H17)) -> 2170 | I18: =IF(SUM(I15:I17)=0,"",SUM(I15:I17)) -> 2170 | ... M18: =IF(SUM(M15:M17)=0,"",SUM(M15:M17)) -> 2170 | N18: =SUM(N15:N17) -> 25550 | O18: =SUM(O15:O17) -> 2129.1667
A20: 1.3. Nº de Pacientes-Dia por Especialidade
A21: Cardiologia | B21: 55 | C21: 8 | D21: 16 | E21: 64 | F21: 57 | G21: 105 | H21: 149 | I21: 20 | J21: 30 | K21: 61 | L21: 37 | M21: 98 | N21: =SUM(B21:M21) -> 700 | O21: =IF(N21=0,0,AVERAGE(B21:M21)) -> 58.333333
A22: Cirurgia Bariátrica | B22: 8 | C22: 9 | D22: 18 | E22: 6 | F22: 4 | G22: 42 | H22: 9 | I22: 6 | J22: 22 | K22: 4 | L22: 42 | M22: 95 | N22: =SUM(B22:M22) -> 265 | O22: =IF(N22=0,0,AVERAGE(B22:M22)) -> 22.083333
A23: Cirurgia de Cabeça e Pescoço | B23: 8 | C23: 0 | D23: 9 | E23: 7 | F23: 0 | G23: 13 | H23: 0 | I23: 5 | J23: 14 | K23: 9 | L23: 9 | M23: 0 | N23: =SUM(B23:M23) -> 74 | O23: =IF(N23=0,0,AVERAGE(B23:M23)) -> 6.1666667
A24: Cirurgia Geral | B24: 396 | C24: 336 | D24: 406 | E24: 344 | F24: 378 | G24: 293 | H24: 342 | I24: 382 | J24: 350 | K24: 393 | L24: 256 | M24: 297 | N24: =SUM(B24:M24) -> 4173 | O24: =IF(N24=0,0,AVERAGE(B24:M24)) -> 347.75
A25: Cirurgia Plástica | B25: 15 | C25: 17 | D25: 8 | E25: 17 | F25: 21 | G25: 4 | H25: 29 | I25: 48 | J25: 8 | K25: 15 | L25: 18 | M25: 4 | N25: =SUM(B25:M25) -> 204 | O25: =IF(N25=0,0,AVERAGE(B25:M25)) -> 17
A26: Cirurgia Vascular | B26: 0 | C26: 0 | D26: 8 | E26: 0 | F26: 4 | G26: 0 | H26: 10 | I26: 0 | J26: 17 | K26: 4 | L26: 0 | M26: 0 | N26: =SUM(B26:M26) -> 43 | O26: =IF(N26=0,0,AVERAGE(B26:M26)) -> 3.5833333
A27: Clínica Médica | B27: 370 | C27: 413 | D27: 525 | E27: 460 | F27: 349 | G27: 396 | H27: 286 | I27: 411 | J27: 249 | K27: 350 | L27: 327 | M27: 344 | N27: =SUM(B27:M27) -> 4480 | O27: =IF(N27=0,0,AVERAGE(B27:M27)) -> 373.33333
A28: Coloproctologia | B28: 59 | C28: 39 | D28: 21 | E28: 38 | F28: 52 | G28: 38 | H28: 45 | I28: 40 | J28: 75 | K28: 41 | L28: 62 | M28: 27 | N28: =SUM(B28:M28) -> 537 | O28: =IF(N28=0,0,AVERAGE(B28:M28)) -> 44.75
A29: Dermatologia | B29: 0 | C29: 0 | D29: 0 | E29: 0 | F29: 7 | G29: 0 | H29: 0 | I29: 0 | J29: 0 | K29: 0 | L29: 0 | M29: 0 | N29: =SUM(B29:M29) -> 7 | O29: =IF(N29=0,0,AVERAGE(B29:M29)) -> 0.58333333
A30: Endocrinologia | B30: 123 | C30: 158 | D30: 160 | E30: 141 | F30: 240 | G30: 212 | H30: 209 | I30: 178 | J30: 179 | K30: 107 | L30: 108 | M30: 64 | N30: =SUM(B30:M30) -> 1879 | O30: =IF(N30=0,0,AVERAGE(B30:M30)) -> 156.58333
A31: Fígado e Vias Biliares | B31: 20 | C31: 21 | D31: 19 | E31: 74 | F31: 42 | G31: 19 | H31: 23 | I31: 22 | J31: 3 | K31: 12 | L31: 50 | M31: 37 | N31: =SUM(B31:M31) -> 342 | O31: =IF(N31=0,0,AVERAGE(B31:M31)) -> 28.5
A32: Geriatria | B32: 84 | C32: 106 | D32: 116 | E32: 117 | F32: 102 | G32: 49 | H32: 120 | I32: 135 | J32: 131 | K32: 83 | L32: 113 | M32: 127 | N32: =SUM(B32:M32) -> 1283 | O32: =IF(N32=0,0,AVERAGE(B32:M32)) -> 106.91667
... A38: Reumatologia | B38: 118 | C38: 105 | D38: 237 | E38: 266 | F38: 114 | G38: 68 | H38: 84 | I38: 115 | J38: 108 | K38: 219 | L38: 242 | M38: 147 | N38: =SUM(B38:M38) -> 1823 | O38: =IF(N38=0,0,AVERAGE(B38:M38)) -> 151.91667
A39: Total | B39: =IF(SUM(B21:B38)=0,"",SUM(B21:B38)) -> 1619 | C39: =IF(SUM(C21:C38)=0,"",SUM(C21:C38)) -> 1568 | D39: =IF(SUM(D21:D38)=0,"",SUM(D21:D38)) -> 1794 | E39: =IF(SUM(E21:E38)=0,"",SUM(E21:E38)) -> 1696 | F39: =IF(SUM(F21:F38)=0,"",SUM(F21:F38)) -> 1669 | G39: =IF(SUM(G21:G38)=0,"",SUM(G21:G38)) -> 1479 | H39: =IF(SUM(H21:H38)=0,"",SUM(H21:H38)) -> 1504 | I39: =IF(SUM(I21:I38)=0,"",SUM(I21:I38)) -> 1668 | ... M39: =IF(SUM(M21:M38)=0,"",SUM(M21:M38)) -> 1442 | N39: =SUM(N21:N38) -> 19167 | O39: =SUM(O21:O38) -> 1597.25
A41: 1.4. Nº de Pacientes-Dia por Unidade
A42: Clínica Cirúrgica | B42: 506 | C42: 382 | D42: 445 | E42: 457 | F42: 442 | G42: 406 | H42: 442 | I42: 454 | J42: 446 | K42: 428 | L42: 413 | M42: 423 | N42: =SUM(B42:M42) -> 5244 | O42: =IF(N42=0,0,AVERAGE(B42:M42)) -> 437
A43: Clínica Médica | B43: 884 | C43: 988 | D43: 1095 | E43: 981 | F43: 966 | G43: 872 | H43: 832 | I43: 1005 | J43: 924 | K43: 1011 | L43: 937 | M43: 818 | N43: =SUM(B43:M43) -> 11313 | O43: =IF(N43=0,0,AVERAGE(B43:M43)) -> 942.75
A44: UTI Adulto | B44: 229 | C44: 198 | D44: 254 | E44: 258 | F44: 261 | G44: 201 | H44: 230 | I44: 209 | J44: 164 | K44: 198 | L44: 207 | M44: 201 | N44: =SUM(B44:M44) -> 2610 | O44: =IF(N44=0,0,AVERAGE(B44:M44)) -> 217.5
A45: Total | B45: =IF(SUM(B42:B44)=0,"",SUM(B42:B44)) -> 1619 | C45: =IF(SUM(C42:C44)=0,"",SUM(C42:C44)) -> 1568 | D45: =IF(SUM(D42:D44)=0,"",SUM(D42:D44)) -> 1794 | E45: =IF(SUM(E42:E44)=0,"",SUM(E42:E44)) -> 1696 | F45: =IF(SUM(F42:F44)=0,"",SUM(F42:F44)) -> 1669 | G45: =IF(SUM(G42:G44)=0,"",SUM(G42:G44)) -> 1479 | H45: =IF(SUM(H42:H44)=0,"",SUM(H42:H44)) -> 1504 | I45: =IF(SUM(I42:I44)=0,"",SUM(I42:I44)) -> 1668 | ... M45: =IF(SUM(M42:M44)=0,"",SUM(M42:M44)) -> 1442 | N45: =SUM(N42:N44) -> 19167 | O45: =SUM(O42:O44) -> 1597.25
A47: 1.5. Média Diária de Pacientes por Unidade
A48: Clínica Cirúrgica | B48: =IF(B42/B1696=0,"",(B42/B1696)) -> 16.322581 | C48: =IF(C42/C1696=0,"",(C42/C1696)) -> 13.642857 | D48: =IF(D42/D1696=0,"",(D42/D1696)) -> 14.354839 | E48: =IF(E42/E1696=0,"",(E42/E1696)) -> 15.233333 | F48: =IF(F42/F1696=0,"",(F42/F1696)) -> 14.258065 | G48: =IF(G42/G1696=0,"",(G42/G1696)) -> 13.533333 | H48: =IF(H42/H1696=0,"",(H42/H1696)) -> 14.258065 | I48: =IF(I42/I1696=0,"",(I42/I1696)) -> 14.645161 | ... M48: =IF(M42/M1696=0,"",(M42/M1696)) -> 13.645161 | N48: =SUM(B48:M48) -> 172.33318 | O48: =IF(N48=0,0,AVERAGE(B48:M48)) -> 14.361098
A49: Clínica Médica | B49: =IF(B43/B1696=0,"",(B43/B1696)) -> 28.516129 | C49: =IF(C43/C1696=0,"",(C43/C1696)) -> 35.285714 | D49: =IF(D43/D1696=0,"",(D43/D1696)) -> 35.322581 | E49: =IF(E43/E1696=0,"",(E43/E1696)) -> 32.7 | F49: =IF(F43/F1696=0,"",(F43/F1696)) -> 31.16129 | G49: =IF(G43/G1696=0,"",(G43/G1696)) -> 29.066667 | H49: =IF(H43/H1696=0,"",(H43/H1696)) -> 26.83871 | I49: =IF(I43/I1696=0,"",(I43/I1696)) -> 32.419355 | ... M49: =IF(M43/M1696=0,"",(M43/M1696)) -> 26.387097 | N49: =SUM(B49:M49) -> 372.34378 | O49: =IF(N49=0,0,AVERAGE(B49:M49)) -> 31.028648
A50: UTI Adulto | B50: =IF(B44/B1696=0,"",(B44/B1696)) -> 7.3870968 | C50: =IF(C44/C1696=0,"",(C44/C1696)) -> 7.0714286 | D50: =IF(D44/D1696=0,"",(D44/D1696)) -> 8.1935484 | E50: =IF(E44/E1696=0,"",(E44/E1696)) -> 8.6 | F50: =IF(F44/F1696=0,"",(F44/F1696)) -> 8.4193548 | G50: =IF(G44/G1696=0,"",(G44/G1696)) -> 6.7 | H50: =IF(H44/H1696=0,"",(H44/H1696)) -> 7.4193548 | I50: =IF(I44/I1696=0,"",(I44/I1696)) -> 6.7419355 | ... M50: =IF(M44/M1696=0,"",(M44/M1696)) -> 6.483871 | N50: =SUM(B50:M50) -> 85.770353 | O50: =IF(N50=0,0,AVERAGE(B50:M50)) -> 7.1475294
A51: Total | B51: =IF(SUM(B48:B50)=0,"",SUM(B48:B50)) -> 52.225806 | C51: =IF(SUM(C48:C50)=0,"",SUM(C48:C50)) -> 56 | D51: =IF(SUM(D48:D50)=0,"",SUM(D48:D50)) -> 57.870968 | E51: =IF(SUM(E48:E50)=0,"",SUM(E48:E50)) -> 56.533333 | F51: =IF(SUM(F48:F50)=0,"",SUM(F48:F50)) -> 53.83871 | G51: =IF(SUM(G48:G50)=0,"",SUM(G48:G50)) -> 49.3 | H51: =IF(SUM(H48:H50)=0,"",SUM(H48:H50)) -> 48.516129 | I51: =IF(SUM(I48:I50)=0,"",SUM(I48:I50)) -> 53.806452 | ... M51: =IF(SUM(M48:M50)=0,"",SUM(M48:M50)) -> 46.516129 | N51: =SUM(N48:N50) -> 630.44731 | O51: =SUM(O48:O50) -> 52.537276
A53: 1.6. Internações por Especialidade
A54: Cardiologia | B54: 4 | C54: 1 | D54: 2 | E54: 4 | F54: 2 | G54: 5 | H54: 4 | I54: 1 | J54: 0 | K54: 4 | L54: 3 | M54: 7 | N54: =SUM(B54:M54) -> 37 | O54: =IF(N54=0,0,AVERAGE(B54:M54)) -> 3.0833333
A55: Cirurgia Bariátrica | B55: 2 | C55: 2 | D55: 3 | E55: 1 | F55: 2 | G55: 4 | H55: 0 | I55: 3 | J55: 3 | K55: 2 | L55: 6 | M55: 12 | N55: =SUM(B55:M55) -> 40 | O55: =IF(N55=0,0,AVERAGE(B55:M55)) -> 3.3333333
A56: Cirurgia de Cabeça e Pescoço | B56: 3 | C56: 0 | D56: 3 | E56: 3 | F56: 0 | G56: 4 | H56: 0 | I56: 2 | J56: 5 | K56: 1 | L56: 4 | M56: 0 | N56: =SUM(B56:M56) -> 25 | O56: =IF(N56=0,0,AVERAGE(B56:M56)) -> 2.0833333
A57: Cirurgia Geral | B57: 106 | C57: 80 | D57: 94 | E57: 81 | F57: 87 | G57: 76 | H57: 90 | I57: 85 | J57: 87 | K57: 82 | L57: 61 | M57: 70 | N57: =SUM(B57:M57) -> 999 | O57: =IF(N57=0,0,AVERAGE(B57:M57)) -> 83.25
A58: Cirurgia Plástica | B58: 4 | C58: 5 | D58: 1 | E58: 5 | F58: 8 | G58: 2 | H58: 6 | I58: 4 | J58: 1 | K58: 3 | L58: 4 | M58: 2 | N58: =SUM(B58:M58) -> 45 | O58: =IF(N58=0,0,AVERAGE(B58:M58)) -> 3.75
A59: Cirurgia Vascular | B59: 0 | C59: 0 | D59: 0 | E59: 0 | F59: 1 | G59: 0 | H59: 0 | I59: 0 | J59: 0 | K59: 0 | L59: 0 | M59: 0 | N59: =SUM(B59:M59) -> 1 | O59: =IF(N59=0,0,AVERAGE(B59:M59)) -> 0.083333333
A60: Clínica Médica | B60: 20 | C60: 28 | D60: 23 | E60: 28 | F60: 15 | G60: 31 | H60: 13 | I60: 34 | J60: 17 | K60: 23 | L60: 22 | M60: 21 | N60: =SUM(B60:M60) -> 275 | O60: =IF(N60=0,0,AVERAGE(B60:M60)) -> 22.916667
A61: Coloproctologia | B61: 18 | C61: 3 | D61: 4 | E61: 6 | F61: 10 | G61: 5 | H61: 8 | I61: 12 | J61: 12 | K61: 10 | L61: 11 | M61: 5 | N61: =SUM(B61:M61) -> 104 | O61: =IF(N61=0,0,AVERAGE(B61:M61)) -> 8.6666667
A62: Dermatologia | B62: 0 | C62: 0 | D62: 0 | E62: 0 | F62: 1 | G62: 0 | H62: 0 | I62: 0 | J62: 0 | K62: 0 | L62: 0 | M62: 0 | N62: =SUM(B62:M62) -> 1 | O62: =IF(N62=0,0,AVERAGE(B62:M62)) -> 0.083333333
A63: Endocrinologia | B63: 14 | C63: 12 | D63: 14 | E63: 13 | F63: 9 | G63: 15 | H63: 13 | I63: 10 | J63: 10 | K63: 5 | L63: 9 | M63: 6 | N63: =SUM(B63:M63) -> 130 | O63: =IF(N63=0,0,AVERAGE(B63:M63)) -> 10.833333
A64: Fígado e Vias Biliares | B64: 9 | C64: 7 | D64: 6 | E64: 6 | F64: 14 | G64: 9 | H64: 8 | I64: 11 | J64: 1 | K64: 5 | L64: 10 | M64: 11 | N64: =SUM(B64:M64) -> 97 | O64: =IF(N64=0,0,AVERAGE(B64:M64)) -> 8.0833333
A65: Geriatria | B65: 7 | C65: 4 | D65: 8 | E65: 7 | F65: 9 | G65: 3 | H65: 8 | I65: 6 | J65: 7 | K65: 8 | L65: 9 | M65: 8 | N65: =SUM(B65:M65) -> 84 | O65: =IF(N65=0,0,AVERAGE(B65:M65)) -> 7
... A71: Reumatologia | B71: 8 | C71: 5 | D71: 15 | E71: 8 | F71: 5 | G71: 4 | H71: 6 | I71: 8 | J71: 4 | K71: 17 | L71: 14 | M71: 11 | N71: =SUM(B71:M71) -> 105 | O71: =IF(N71=0,0,AVERAGE(B71:M71)) -> 8.75
A72: Total | B72: =IF(SUM(B54:B71)=0,"",SUM(B54:B71)) -> 222 | C72: =IF(SUM(C54:C71)=0,"",SUM(C54:C71)) -> 158 | D72: =IF(SUM(D54:D71)=0,"",SUM(D54:D71)) -> 184 | E72: =IF(SUM(E54:E71)=0,"",SUM(E54:E71)) -> 173 | F72: =IF(SUM(F54:F71)=0,"",SUM(F54:F71)) -> 184 | G72: =IF(SUM(G54:G71)=0,"",SUM(G54:G71)) -> 174 | H72: =IF(SUM(H54:H71)=0,"",SUM(H54:H71)) -> 170 | I72: =IF(SUM(I54:I71)=0,"",SUM(I54:I71)) -> 194 | ... M72: =IF(SUM(M54:M71)=0,"",SUM(M54:M71)) -> 167 | N72: =SUM(N54:N71) -> 2134 | O72: =SUM(O54:O71) -> 177.83333
A74: 1.7. Internações por Unidade
A75: Clínica Cirúrgica | B75: 137 | C75: 98 | D75: 111 | E75: 101 | F75: 119 | G75: 100 | H75: 112 | I75: 114 | J75: 109 | K75: 103 | L75: 97 | M75: 95 | N75: =SUM(B75:M75) -> 1296 | O75: =IF(N75=0,0,AVERAGE(B75:M75)) -> 108
A76: Clínica Médica | B76: 68 | C76: 47 | D76: 64 | E76: 65 | F76: 55 | G76: 61 | H76: 53 | I76: 63 | J76: 44 | K76: 56 | L76: 54 | M76: 63 | N76: =SUM(B76:M76) -> 693 | O76: =IF(N76=0,0,AVERAGE(B76:M76)) -> 57.75
A77: UTI Adulto | B77: 17 | C77: 13 | D77: 9 | E77: 7 | F77: 10 | G77: 13 | H77: 5 | I77: 17 | J77: 11 | K77: 18 | L77: 16 | M77: 9 | N77: =SUM(B77:M77) -> 145 | O77: =IF(N77=0,0,AVERAGE(B77:M77)) -> 12.083333
A78: Total | B78: =IF(SUM(B75:B77)=0,"",SUM(B75:B77)) -> 222 | C78: =IF(SUM(C75:C77)=0,"",SUM(C75:C77)) -> 158 | D78: =IF(SUM(D75:D77)=0,"",SUM(D75:D77)) -> 184 | E78: =IF(SUM(E75:E77)=0,"",SUM(E75:E77)) -> 173 | F78: =IF(SUM(F75:F77)=0,"",SUM(F75:F77)) -> 184 | G78: =IF(SUM(G75:G77)=0,"",SUM(G75:G77)) -> 174 | H78: =IF(SUM(H75:H77)=0,"",SUM(H75:H77)) -> 170 | I78: =IF(SUM(I75:I77)=0,"",SUM(I75:I77)) -> 194 | ... M78: =IF(SUM(M75:M77)=0,"",SUM(M75:M77)) -> 167 | N78: =SUM(N75:N77) -> 2134 | O78: =SUM(O75:O77) -> 177.83333
A80: 1.8. Internações por Município
A81: Abaetetuba | B81: 5 | C81: 3 | D81: 1 | E81: 2 | F81: 2 | G81: 3 | H81: 6 | I81: 4 | J81: 7 | K81: 6 | L81: 5 | M81: 4 | N81: =SUM(B81:M81) -> 48 | O81: =IF(N81=0,0,AVERAGE(B81:M81)) -> 4
A82: Acará | B82: 1 | C82: 0 | D82: 0 | E82: 2 | F82: 0 | G82: 1 | H82: 0 | I82: 2 | J82: 1 | K82: 0 | L82: 1 | M82: 0 | N82: =SUM(B82:M82) -> 8 | O82: =IF(N82=0,0,AVERAGE(B82:M82)) -> 0.66666667
A83: Água Azul do Norte | B83: 0 | C83: 0 | D83: 0 | E83: 0 | F83: 0 | G83: 1 | H83: 0 | I83: 0 | J83: 0 | K83: 0 | L83: 0 | M83: 0 | N83: =SUM(B83:M83) -> 1 | O83: =IF(N83=0,0,AVERAGE(B83:M83)) -> 0.083333333
A84: Almeirim | B84: 0 | C84: 0 | D84: 0 | E84: 0 | F84: 0 | G84: 0 | H84: 0 | I84: 1 | J84: 1 | K84: 0 | L84: 1 | M84: 0 | N84: =SUM(B84:M84) -> 3 | O84: =IF(N84=0,0,AVERAGE(B84:M84)) -> 0.25
A85: Altamira | B85: 0 | C85: 2 | D85: 3 | E85: 0 | F85: 0 | G85: 2 | H85: 0 | I85: 2 | J85: 0 | K85: 0 | L85: 0 | M85: 0 | N85: =SUM(B85:M85) -> 9 | O85: =IF(N85=0,0,AVERAGE(B85:M85)) -> 0.75
A86: Anajás | B86: 0 | C86: 1 | D86: 0 | E86: 0 | F86: 0 | G86: 0 | H86: 0 | I86: 0 | J86: 0 | K86: 0 | L86: 0 | M86: 0 | N86: =SUM(B86:M86) -> 1 | O86: =IF(N86=0,0,AVERAGE(B86:M86)) -> 0.083333333
A87: Ananindeua | B87: 20 | C87: 19 | D87: 23 | E87: 18 | F87: 22 | G87: 16 | H87: 25 | I87: 19 | J87: 16 | K87: 17 | L87: 12 | M87: 20 | N87: =SUM(B87:M87) -> 227 | O87: =IF(N87=0,0,AVERAGE(B87:M87)) -> 18.916667
A88: Anapu | B88: 1 | C88: 0 | D88: 0 | E88: 0 | F88: 0 | G88: 0 | H88: 0 | I88: 0 | J88: 0 | K88: 0 | L88: 0 | M88: 0 | N88: =SUM(B88:M88) -> 1 | O88: =IF(N88=0,0,AVERAGE(B88:M88)) -> 0.083333333
A89: Augusto Corrêa | B89: 0 | C89: 1 | D89: 2 | E89: 0 | F89: 0 | G89: 2 | H89: 0 | I89: 0 | J89: 0 | K89: 0 | L89: 0 | M89: 1 | N89: =SUM(B89:M89) -> 6 | O89: =IF(N89=0,0,AVERAGE(B89:M89)) -> 0.5
A90: Aurora do Pará | B90: 1 | C90: 0 | D90: 0 | E90: 0 | F90: 0 | G90: 2 | H90: 0 | I90: 0 | J90: 2 | K90: 0 | L90: 0 | M90: 1 | N90: =SUM(B90:M90) -> 6 | O90: =IF(N90=0,0,AVERAGE(B90:M90)) -> 0.5
A91: Aveiro | B91: 0 | C91: 0 | D91: 0 | E91: 0 | F91: 0 | G91: 0 | H91: 0 | I91: 0 | J91: 0 | K91: 0 | L91: 0 | M91: 0 | N91: =SUM(B91:M91) -> 0 | O91: =IF(N91=0,0,AVERAGE(B91:M91)) -> 0
A92: Bagre | B92: 0 | C92: 0 | D92: 0 | E92: 2 | F92: 0 | G92: 0 | H92: 0 | I92: 0 | J92: 1 | K92: 0 | L92: 0 | M92: 0 | N92: =SUM(B92:M92) -> 3 | O92: =IF(N92=0,0,AVERAGE(B92:M92)) -> 0.25
... A197: Outros | B197: 0 | C197: 0 | D197: 1 | E197: 0 | F197: 0 | G197: 1 | H197: 0 | I197: 0 | J197: 0 | K197: 2 | L197: 2 | M197: 0 | N197: =SUM(B197:M197) -> 6 | O197: =IF(N197=0,0,AVERAGE(B197:M197)) -> 0.5
A198: Total | B198: =IF(SUM(B81:B197)=0,"",SUM(B81:B197)) -> 222 | C198: =IF(SUM(C81:C197)=0,"",SUM(C81:C197)) -> 158 | D198: =IF(SUM(D81:D197)=0,"",SUM(D81:D197)) -> 184 | E198: =IF(SUM(E81:E197)=0,"",SUM(E81:E197)) -> 173 | F198: =IF(SUM(F81:F197)=0,"",SUM(F81:F197)) -> 184 | G198: =IF(SUM(G81:G197)=0,"",SUM(G81:G197)) -> 174 | H198: =IF(SUM(H81:H197)=0,"",SUM(H81:H197)) -> 170 | I198: =IF(SUM(I81:I197)=0,"",SUM(I81:I197)) -> 194 | ... M198: =IF(SUM(M81:M197)=0,"",SUM(M81:M197)) -> 167 | N198: =SUM(N81:N197) -> 2134 | O198: =SUM(O81:O197) -> 177.83333
A200: 1.9 Internações por Faixa etária
A201: De 01 a 13 anos | B201: 0 | C201: 0 | D201: 0 | E201: 0 | F201: 0 | G201: 0 | H201: 0 | I201: 0 | J201: 0 | K201: 0 | L201: 1 | M201: 0 | N201: =SUM(B201:M201) -> 1 | O201: =IF(N201=0,0,AVERAGE(B201:M201)) -> 0.083333333
A202: De 14 a 24 anos | B202: 20 | C202: 12 | D202: 15 | E202: 18 | F202: 10 | G202: 10 | H202: 16 | I202: 16 | J202: 19 | K202: 7 | L202: 13 | M202: 16 | N202: =SUM(B202:M202) -> 172 | O202: =IF(N202=0,0,AVERAGE(B202:M202)) -> 14.333333
A203: De 25 a 35 anos | B203: 26 | C203: 16 | D203: 22 | E203: 23 | F203: 26 | G203: 30 | H203: 28 | I203: 19 | J203: 16 | K203: 26 | L203: 27 | M203: 22 | N203: =SUM(B203:M203) -> 281 | O203: =IF(N203=0,0,AVERAGE(B203:M203)) -> 23.416667
A204: De 36 a 46 anos | B204: 44 | C204: 30 | D204: 34 | E204: 39 | F204: 44 | G204: 36 | H204: 26 | I204: 39 | J204: 29 | K204: 32 | L204: 30 | M204: 31 | N204: =SUM(B204:M204) -> 414 | O204: =IF(N204=0,0,AVERAGE(B204:M204)) -> 34.5
A205: De 47 a 57 anos | B205: 49 | C205: 42 | D205: 45 | E205: 31 | F205: 38 | G205: 43 | H205: 37 | I205: 35 | J205: 40 | K205: 35 | L205: 35 | M205: 35 | N205: =SUM(B205:M205) -> 465 | O205: =IF(N205=0,0,AVERAGE(B205:M205)) -> 38.75
A206: De 58 a 68 anos | B206: 43 | C206: 26 | D206: 32 | E206: 25 | F206: 30 | G206: 35 | H206: 36 | I206: 43 | J206: 26 | K206: 41 | L206: 24 | M206: 28 | N206: =SUM(B206:M206) -> 389 | O206: =IF(N206=0,0,AVERAGE(B206:M206)) -> 32.416667
A207: De 69 a 79 anos | B207: 29 | C207: 18 | D207: 27 | E207: 24 | F207: 27 | G207: 12 | H207: 17 | I207: 28 | J207: 23 | K207: 22 | L207: 21 | M207: 26 | N207: =SUM(B207:M207) -> 274 | O207: =IF(N207=0,0,AVERAGE(B207:M207)) -> 22.833333
A208: De 80 a 110 anos | B208: 11 | C208: 14 | D208: 9 | E208: 13 | F208: 9 | G208: 8 | H208: 10 | I208: 14 | J208: 11 | K208: 14 | L208: 16 | M208: 9 | N208: =SUM(B208:M208) -> 138 | O208: =IF(N208=0,0,AVERAGE(B208:M208)) -> 11.5
A209: Total | B209: =IF(SUM(B201:B208)=0,"",SUM(B201:B208)) -> 222 | C209: =IF(SUM(C201:C208)=0,"",SUM(C201:C208)) -> 158 | D209: =IF(SUM(D201:D208)=0,"",SUM(D201:D208)) -> 184 | E209: =IF(SUM(E201:E208)=0,"",SUM(E201:E208)) -> 173 | F209: =IF(SUM(F201:F208)=0,"",SUM(F201:F208)) -> 184 | G209: =IF(SUM(G201:G208)=0,"",SUM(G201:G208)) -> 174 | H209: =IF(SUM(H201:H208)=0,"",SUM(H201:H208)) -> 170 | I209: =IF(SUM(I201:I208)=0,"",SUM(I201:I208)) -> 194 | ... M209: =IF(SUM(M201:M208)=0,"",SUM(M201:M208)) -> 167 | N209: =SUM(N201:N208) -> 2134 | O209: =SUM(O201:O208) -> 177.83333
A211: 1.10. Altas Melhoradas Por Especialidade
A212: Cardiologia | B212: 4 | C212: 1 | D212: 0 | E212: 2 | F212: 2 | G212: 0 | H212: 5 | I212: 0 | J212: 0 | K212: 4 | L212: 1 | M212: 5 | N212: =SUM(B212:M212) -> 24 | O212: =IF(N212=0,0,AVERAGE(B212:M212)) -> 2
A213: Cirurgia Bariátrica | B213: 10 | C213: 5 | D213: 9 | E213: 6 | F213: 2 | G213: 3 | H213: 6 | I213: 8 | J213: 4 | K213: 11 | L213: 10 | M213: 17 | N213: =SUM(B213:M213) -> 91 | O213: =IF(N213=0,0,AVERAGE(B213:M213)) -> 7.5833333
A214: Cirurgia de Cabeça e Pescoço | B214: 14 | C214: 7 | D214: 9 | E214: 5 | F214: 13 | G214: 7 | H214: 11 | I214: 9 | J214: 6 | K214: 7 | L214: 4 | M214: 6 | N214: =SUM(B214:M214) -> 98 | O214: =IF(N214=0,0,AVERAGE(B214:M214)) -> 8.1666667
A215: Cirurgia Geral | B215: 87 | C215: 68 | D215: 93 | E215: 71 | F215: 82 | G215: 71 | H215: 78 | I215: 77 | J215: 85 | K215: 55 | L215: 51 | M215: 54 | N215: =SUM(B215:M215) -> 872 | O215: =IF(N215=0,0,AVERAGE(B215:M215)) -> 72.666667
A216: Cirurgia Plástica | B216: 5 | C216: 6 | D216: 3 | E216: 6 | F216: 7 | G216: 3 | H216: 7 | I216: 4 | J216: 3 | K216: 4 | L216: 4 | M216: 3 | N216: =SUM(B216:M216) -> 55 | O216: =IF(N216=0,0,AVERAGE(B216:M216)) -> 4.5833333
A217: Cirurgia Vascular | B217: 0 | C217: 0 | D217: 0 | E217: 0 | F217: 1 | G217: 0 | H217: 0 | I217: 0 | J217: 0 | K217: 0 | L217: 0 | M217: 0 | N217: =SUM(B217:M217) -> 1 | O217: =IF(N217=0,0,AVERAGE(B217:M217)) -> 0.083333333
A218: Clínica Médica | B218: 13 | C218: 11 | D218: 19 | E218: 17 | F218: 19 | G218: 16 | H218: 7 | I218: 22 | J218: 12 | K218: 12 | L218: 5 | M218: 16 | N218: =SUM(B218:M218) -> 169 | O218: =IF(N218=0,0,AVERAGE(B218:M218)) -> 14.083333
A219: Coloproctologia | B219: 11 | C219: 5 | D219: 2 | E219: 8 | F219: 8 | G219: 2 | H219: 3 | I219: 12 | J219: 12 | K219: 12 | L219: 9 | M219: 17 | N219: =SUM(B219:M219) -> 101 | O219: =IF(N219=0,0,AVERAGE(B219:M219)) -> 8.4166667
A220: Dermatologia | B220: 0 | C220: 0 | D220: 0 | E220: 0 | F220: 1 | G220: 0 | H220: 0 | I220: 0 | J220: 0 | K220: 0 | L220: 0 | M220: 0 | N220: =SUM(B220:M220) -> 1 | O220: =IF(N220=0,0,AVERAGE(B220:M220)) -> 0.083333333
A221: Endocrinologia | B221: 10 | C221: 8 | D221: 9 | E221: 7 | F221: 12 | G221: 9 | H221: 13 | I221: 9 | J221: 6 | K221: 9 | L221: 7 | M221: 8 | N221: =SUM(B221:M221) -> 107 | O221: =IF(N221=0,0,AVERAGE(B221:M221)) -> 8.9166667
A222: Endoscopia | B222: 0 | C222: 0 | D222: 0 | E222: 0 | F222: 1 | G222: 0 | H222: 0 | I222: 0 | J222: 0 | K222: 0 | L222: 0 | M222: 1 | N222: =SUM(B222:M222) -> 2 | O222: =IF(N222=0,0,AVERAGE(B222:M222)) -> 0.16666667
A223: Fígados e Vias Biliares | B223: 6 | C223: 5 | D223: 4 | E223: 6 | F223: 10 | G223: 8 | H223: 3 | I223: 6 | J223: 1 | K223: 8 | L223: 15 | M223: 17 | N223: =SUM(B223:M223) -> 89 | O223: =IF(N223=0,0,AVERAGE(B223:M223)) -> 7.4166667
... A230: Reumatologia | B230: 4 | C230: 8 | D230: 8 | E230: 7 | F230: 7 | G230: 6 | H230: 7 | I230: 6 | J230: 3 | K230: 10 | L230: 20 | M230: 12 | N230: =SUM(B230:M230) -> 98 | O230: =IF(N230=0,0,AVERAGE(B230:M230)) -> 8.1666667
A231: Total | B231: =IF(SUM(B212:B230)=0,"",SUM(B212:B230)) -> 181 | C231: =IF(SUM(C212:C230)=0,"",SUM(C212:C230)) -> 139 | D231: =IF(SUM(D212:D230)=0,"",SUM(D212:D230)) -> 173 | E231: =IF(SUM(E212:E230)=0,"",SUM(E212:E230)) -> 152 | F231: =IF(SUM(F212:F230)=0,"",SUM(F212:F230)) -> 180 | G231: =IF(SUM(G212:G230)=0,"",SUM(G212:G230)) -> 141 | H231: =IF(SUM(H212:H230)=0,"",SUM(H212:H230)) -> 148 | I231: =IF(SUM(I212:I230)=0,"",SUM(I212:I230)) -> 173 | ... M231: =IF(SUM(M212:M230)=0,"",SUM(M212:M230)) -> 171 | N231: =SUM(N212:N230) -> 1906 | O231: =SUM(O212:O230) -> 158.83333
A233: 1.11. Altas por Unidade (sem transferências)
...

Sheet % de Ocupação
A1: PLANO ESTATÍSTICO | B1: JAN | C1: FEV | D1: MAR | E1: ABR | F1: MAI | G1: JUN | H1: JUL | I1: AGO | J1: SET | K1: OUT | L1: NOV | M1: DEZ
A2: 1.21. Porcentagem de Ocupação por Unidade
A3: Clínica Cirúrgica | B3: =Plano_Estatístico_2018_HJB!B355 -> 0.81612903 | C3: =Plano_Estatístico_2018_HJB!C355 -> 0.68214286 | D3: =Plano_Estatístico_2018_HJB!D355 -> 0.71774194 | E3: =Plano_Estatístico_2018_HJB!E355 -> 0.76166667 | F3: =Plano_Estatístico_2018_HJB!F355 -> 0.71290323 | G3: =Plano_Estatístico_2018_HJB!G355 -> 0.67666667 | H3: =Plano_Estatístico_2018_HJB!H355 -> 0.71290323 | I3: =Plano_Estatístico_2018_HJB!I355 -> 0.73225806 | ... M3: =Plano_Estatístico_2018_HJB!M355 -> 0.68225806
A4: Clínica Médica | B4: =Plano_Estatístico_2018_HJB!B356 -> 0.71290323 | C4: =Plano_Estatístico_2018_HJB!C356 -> 0.88214286 | D4: =Plano_Estatístico_2018_HJB!D356 -> 0.88306452 | E4: =Plano_Estatístico_2018_HJB!E356 -> 0.8175 | F4: =Plano_Estatístico_2018_HJB!F356 -> 0.77903226 | G4: =Plano_Estatístico_2018_HJB!G356 -> 0.72666667 | H4: =Plano_Estatístico_2018_HJB!H356 -> 0.67096774 | I4: =Plano_Estatístico_2018_HJB!I356 -> 0.81048387 | ... M4: =Plano_Estatístico_2018_HJB!M356 -> 0.65967742
A5: UTI Adulto | B5: =Plano_Estatístico_2018_HJB!B357 -> 0.73870968 | C5: =Plano_Estatístico_2018_HJB!C357 -> 0.70714286 | D5: =Plano_Estatístico_2018_HJB!D357 -> 0.81935484 | E5: =Plano_Estatístico_2018_HJB!E357 -> 0.86 | F5: =Plano_Estatístico_2018_HJB!F357 -> 0.84193548 | G5: =Plano_Estatístico_2018_HJB!G357 -> 0.67 | H5: =Plano_Estatístico_2018_HJB!H357 -> 0.74193548 | I5: =Plano_Estatístico_2018_HJB!I357 -> 0.67419355 | ... M5: =Plano_Estatístico_2018_HJB!M357 -> 0.6483871
A6: Porcentagem Geral de Ocupação | B6: =Plano_Estatístico_2018_HJB!B358 -> 0.74608295 | C6: =Plano_Estatístico_2018_HJB!C358 -> 0.8 | D6: =Plano_Estatístico_2018_HJB!D358 -> 0.82672811 | E6: =Plano_Estatístico_2018_HJB!E358 -> 0.80761905 | F6: =Plano_Estatístico_2018_HJB!F358 -> 0.76912442 | G6: =Plano_Estatístico_2018_HJB!G358 -> 0.70428571 | H6: =Plano_Estatístico_2018_HJB!H358 -> 0.69308756 | I6: =Plano_Estatístico_2018_HJB!I358 -> 0.76866359 | ... M6: =Plano_Estatístico_2018_HJB!M358 -> 0.66451613

Sheet % de Ocupação Trimestral
B1: Unidade/ Mês | C1: OUT | D1: NOV | E1: DEZ | G1: Porcentagem Geral de Ocupação (PGO)
A2: Paciente – dia | B2: Clínica Cirúrgica | C2: =Plano_Estatístico_2018_HJB!K42 -> 428 | D2: =Plano_Estatístico_2018_HJB!L42 -> 413 | E2: =Plano_Estatístico_2018_HJB!M42 -> 423 | G2: Unidade/ Mês | H2: OUT | I2: NOV | J2: DEZ
B3: Clínica Médica | C3: =Plano_Estatístico_2018_HJB!K43 -> 1011 | D3: =Plano_Estatístico_2018_HJB!L43 -> 937 | E3: =Plano_Estatístico_2018_HJB!M43 -> 818 | G3: Clínica cirúrgica | H3: =C2/C6 -> 0.69032258 | I3: =D2/D6 -> 0.68833333 | J3: =E2/E6 -> 0.68225806
B4: UTI | C4: =Plano_Estatístico_2018_HJB!K44 -> 198 | D4: =Plano_Estatístico_2018_HJB!L44 -> 207 | E4: =Plano_Estatístico_2018_HJB!M44 -> 201 | G4: Clínica Médica | H4: =C3/C7 -> 0.81532258 | I4: =D3/D7 -> 0.78083333 | J4: =E3/E7 -> 0.65967742
A5: Total | B5: - | C5: =SUM(C2:C4) -> 1637 | D5: =SUM(D2:D4) -> 1557 | E5: =SUM(E2:E4) -> 1442 | G5: UTI | H5: =C4/C8 -> 0.63870968 | I5: =D4/D8 -> 0.69 | J5: =E4/E8 -> 0.6483871
A6: Leito – dia | B6: Clínica cirúrgica | C6: =Plano_Estatístico_2018_HJB!K15 -> 620 | D6: =Plano_Estatístico_2018_HJB!L15 -> 600 | E6: =Plano_Estatístico_2018_HJB!M15 -> 620 | G6: Geral | H6: =Plano_Estatístico_2018_HJB!B360 -> 0.74608295 | I6: =Plano_Estatístico_2018_HJB!C360 -> 0.8 | J6: =Plano_Estatístico_2018_HJB!D360 -> 0.82672811
B7: Clínica Médica | C7: =Plano_Estatístico_2018_HJB!K16 -> 1240 | D7: =Plano_Estatístico_2018_HJB!L16 -> 1200 | E7: =Plano_Estatístico_2018_HJB!M16 -> 1240
B8: UTI | C8: =Plano_Estatístico_2018_HJB!K17 -> 310 | D8: =Plano_Estatístico_2018_HJB!L17 -> 300 | E8: =Plano_Estatístico_2018_HJB!M17 -> 310
A9: Total | B9: - | C9: =SUM(C6:C8) -> 2170 | D9: =SUM(D6:D8) -> 2100 | E9: =SUM(E6:E8) -> 2170

Sheet Média de Permanência
A1: PLANO ESTATÍSTICO | B1: JAN | C1: FEV | D1: MAR | E1: ABR | F1: MAI | G1: JUN | H1: JUL | I1: AGO | J1: SET | K1: OUT | L1: NOV | M1: DEZ
A2: 1.22. Média de Permanência por Unidade
A3: Clínica Cirúrgica | B3: =Plano_Estatístico_2018_HJB!B363 -> 3.3509934 | C3: =Plano_Estatístico_2018_HJB!C363 -> 3.4107143 | D3: =Plano_Estatístico_2018_HJB!D363 -> 3.2246377 | E3: =Plano_Estatístico_2018_HJB!E363 -> 3.8083333 | F3: =Plano_Estatístico_2018_HJB!F363 -> 3.1126761 | G3: =Plano_Estatístico_2018_HJB!G363 -> 3.7943925 | H3: =Plano_Estatístico_2018_HJB!H363 -> 3.3484848 | I3: =Plano_Estatístico_2018_HJB!I363 -> 3.5193798 | ... M3: =Plano_Estatístico_2018_HJB!M363 -> 3.2790698
A4: Clínica Médica | B4: =Plano_Estatístico_2018_HJB!B364 -> 12.450704 | C4: =Plano_Estatístico_2018_HJB!C364 -> 15.68254 | D4: =Plano_Estatístico_2018_HJB!D364 -> 14.220779 | E4: =Plano_Estatístico_2018_HJB!E364 -> 13.08 | F4: =Plano_Estatístico_2018_HJB!F364 -> 12.545455 | G4: =Plano_Estatístico_2018_HJB!G364 -> 13.014925 | H4: =Plano_Estatístico_2018_HJB!H364 -> 14.596491 | I4: =Plano_Estatístico_2018_HJB!I364 -> 11.964286 | ... M4: =Plano_Estatístico_2018_HJB!M364 -> 9.6235294
A5: UTI Adulto | B5: =Plano_Estatístico_2018_HJB!B365 -> 4.3207547 | C5: =Plano_Estatístico_2018_HJB!C365 -> 5.3513514 | D5: =Plano_Estatístico_2018_HJB!D365 -> 7.9375 | E5: =Plano_Estatístico_2018_HJB!E365 -> 6 | F5: =Plano_Estatístico_2018_HJB!F365 -> 7.0540541 | G5: =Plano_Estatístico_2018_HJB!G365 -> 4.6744186 | H5: =Plano_Estatístico_2018_HJB!H365 -> 6.0526316 | I5: =Plano_Estatístico_2018_HJB!I365 -> 4.5434783 | ... M5: =Plano_Estatístico_2018_HJB!M365 -> 4.2765957
A6: Média Geral de Permanência | B6: =Plano_Estatístico_2018_HJB!B366 -> 5.8872727 | C6: =Plano_Estatístico_2018_HJB!C366 -> 7.3962264 | D6: =Plano_Estatístico_2018_HJB!D366 -> 7.2631579 | E6: =Plano_Estatístico_2018_HJB!E366 -> 7.1260504 | F6: =Plano_Estatístico_2018_HJB!F366 -> 6.5195312 | G6: =Plano_Estatístico_2018_HJB!G366 -> 6.8156682 | H6: =Plano_Estatístico_2018_HJB!H366 -> 9.060241 | I6: =Plano_Estatístico_2018_HJB!I366 -> 8.5102041 | ... M6: =Plano_Estatístico_2018_HJB!M366 -> 7.5497382
