Workbook

Sheet Sumário

Sheet Sumário Provisório
A1: PLANO ESTATÍSTICO - HOSPITAL JEAN BITAR - INDSH - SESPA
A2: ANO: | B2: 2018
A3: GESTORES: | B3: GIOVANE MERENDA | C3: DIRETOR EXECUTIVO
B4: RODRIGO FRÖHLICH | C4: DIRETOR ADMINISTRATIVO E FINANCEIRO
B5: DENISE VILLACORTA | C5: DIRETORA TÉCNICA
B6: CAROLINA KAHWAGE | C6: DIRETORA CLÍNICA
B7: SOLANGE ANTONELLI | C7: GERENTE ASSISTÊNCIAL
A8: SUMÁRIO
A9: 1. | B9: Estatística de Pacientes Internados | D9: 2. | E9: Serviços Assistenciais | F9: Serviços Assistenciais | G9: 3. | H9: Serviço de Apoio Diagnóstico Terapêutico | I9: Serviço de Apoio Diagnóstico Terapêutico | J9: 4. | K9: Serviços de Apoio
A10: 1.1. | B10: Nº de Leitos por Unidade | C10: Nº de Leitos por Unidade | D10: 2.1. | E10: Centro Cirúrgico | F10: Centro Cirúrgico | G10: 3.1. | H10: Anátomo Patológico | I10: Anátomo Patológico | J10: 4.1. | K10: Nutrição e Dietética
A11: 1.2. | B11: Nº de Leitos-Dia por Unidade | C11: Nº de Leitos-Dia por Unidade | D11: 2.2. | E11: Anestesia | F11: Anestesia | G11: 3.2. | H11: Bomba de Insulina | J11: 4.2. | K11: Processamento da Roupa
A12: 1.3. | B12: Nº de Pacientes-Dia por Especialidade | C12: Nº de Pacientes-Dia por Especialidade | D12: 2.3. | E12: Centro Cirúrgico - Procedimento Endoscópico | F12: Centro Cirúrgico - Procedimento Endoscópico | G12: 3.3. | H12: Broncoscopia | I12: Broncoscopia | J12: 4.3. | K12: Manutenção
A13: 1.4. | B13: Nº de Pacientes-Dia por Unidade | C13: Nº de Pacientes-Dia por Unidade | D13: 2.4. | E13: Anestesia | F13: Anestesia | G13: 3.4. | H13: Densitometria Óssea | I13: Densitometria Óssea | J13: 4.4. | K13: Telefonia
A14: 1.5. | B14: Média Diária de Pacientes por Unidade | C14: Média Diária de Pacientes por Unidade | D14: 2.5. | E14: Central de Material Esterilizado | F14: Central de Material Esterilizado | G14: 3.5. | H14: Ecocardiograma | I14: Ecocardiograma | J14: 4.5. | K14: Encadernação
A15: 1.6. | B15: Internações por Especialidade | C15: Internações por Especialidade | D15: 2.6. | E15: Ambulatório de Referência e Pronto Atendimento | F15: Ambulatório de Referência e Pronto Atendimento | G15: 3.6. | H15: ECG - Eletrocardiograma | I15: ECG - Eletrocardiograma | J15: 4.6. | K15: Plastificação
A16: 1.7. | B16: Internações por Unidade | C16: Internações por Unidade | D16: 2.6.2. | E16: Atendimento por Especialidades – Ambulatório - Consultas Médicas | F16: Atendimento por Especialidades – Ambulatório - Consultas Médicas | G16: 3.7. | H16: Endoscopia Digestiva Alta | I16: Endoscopia Digestiva Alta | J16: 4.7. | K16: Cópias
A17: 1.8. | B17: Internações por Município | C17: Internações por Município | D17: 2.6.3. | E17: Atendimento por Especialidades – Ambulatório - Consultas Não Médicas | F17: Atendimento por Especialidades – Ambulatório - Consultas Não Médicas | G17: 3.8. | H17: Endoscopia Digestiva Baixa - Colonoscopia | I17: Endoscopia Digestiva Baixa - Colonoscopia
A18: 1.9. | B18: Internações por Faixa etária | C18: Internações por Faixa etária | D18: 2.6.4. | E18: Procedimentos Realizados no ambulatório | F18: Procedimentos Realizados no ambulatório | G18: 3.9. | H18: Escleroterapia Ecoviada com Espuma | I18: Escleroterapia Ecoviada com Espuma | J18: 5. | K18: Serviços Administrativos
A19: 1.10. | B19: Altas Melhoradas Por Especialidade | C19: Altas Melhoradas Por Especialidade | D19: 2.7. | E19: Atividades Sociais | F19: Atividades Sociais | G19: 3.10. | H19: Espirometria - Prova de Função Pulmonar | I19: Espirometria - Prova de Função Pulmonar
A20: 1.11. | B20: Altas por Unidade (sem transferências) | C20: Altas por Unidade (sem transferências) | D20: 2.7.1. | E20: S.A.U | F20: S.A.U | G20: 3.11. | H20: Holter de Glicemia | I20: Holter de Glicemia | J20: 6. | K20: Resumo Geral de Informações
A21: 1.12. | B21: Óbitos por Especialidade | C21: Óbitos por Especialidade | D21: 2.7.2. | E21: Serviço Social | F21: Serviço Social | G21: 3.12. | H21: Laboratório de Análises Clínicas | I21: Laboratório de Análises Clínicas
A22: 1.13. | B22: Óbitos por Unidade | C22: Óbitos por Unidade | D22: 2.7.3. | E22: Serviço Nutricional | F22: Serviço Nutricional | G22: 3.13. | H22: Mamografia | I22: Mamografia
A23: 1.14. | B23: Óbitos Não Institucionais p/ Especialidade (-48h) | C23: Óbitos Não Institucionais p/ Especialidade (-48h) | D23: 2.7.4. | E23: Serviço Psicologia | F23: Serviço Psicologia | G23: 3.14. | H23: MAPA - Monitorização Ambulatorial de Pressão Arterial | I23: MAPA - Monitorização Ambulatorial de Pressão Arterial
A24: 1.15. | B24: Óbitos Institucionais p/ Especialidade (+48h) | C24: Óbitos Institucionais p/ Especialidade (+48h) | D24: 2.7.5. | E24: Educação Permanente | F24: Educação Permanente | G24: 3.15. | H24: Medicina Nuclear - Cintilografia | I24: Medicina Nuclear - Cintilografia
A25: 1.16. | B25: Óbitos por Faixa Etária | C25: Óbitos por Faixa Etária | G25: 3.16. | H25: Medicina Nuclear - Iodoterapia | I25: Medicina Nuclear - Iodoterapia
A26: 1.17. | B26: Transferência Interna por Unidade (Entrada) | C26: Transferência Interna por Unidade (Entrada) | G26: 3.17. | H26: PAAF - Biópsia de Tireóide | I26: PAAF - Biópsia de Tireóide
A27: 1.18. | B27: Transferência Interna por Unidade (Saída) | C27: Transferência Interna por Unidade (Saída) | G27: 3.18. | H27: Polissonografia | I27: Polissonografia
A28: 1.19. | B28: Pacientes Saídos p/ Especialidade | C28: Pacientes Saídos p/ Especialidade | G28: 3.19. | H28: Radiologia - Raio-X | I28: Radiologia - Raio-X
A29: 1.20. | B29: Pacientes Saídos por Unidade | C29: Pacientes Saídos por Unidade | G29: 3.20. | H29: Ressonância Magnética | I29: Ressonância Magnética
A30: 1.21. | B30: Porcentagem de Ocupação por Unidade | C30: Porcentagem de Ocupação por Unidade | G30: 3.21. | H30: Teste Ergométrico | I30: Teste Ergométrico
A31: 1.22. | B31: Média de Permanência por Unidade | C31: Média de Permanência por Unidade | G31: 3.22. | H31: Tomografia | I31: Tomografia
A32: 1.23. | B32: Índice de Giro de Leitos p/ Unidade | C32: Índice de Giro de Leitos p/ Unidade | G32: 3.23. | H32: Ultrassonografia | I32: Ultrassonografia
A33: 1.24. | B33: Taxa de Mortalidade por Unidade | C33: Taxa de Mortalidade por Unidade | G33: 3.24. | H33: Fisioterapia | I33: Fisioterapia
A34: 1.25. | B34: Taxa de Mortalidade por Tipo | C34: Taxa de Mortalidade por Tipo | G34: 3.25. | H34: Fonoaudiologia | I34: Fonoaudiologia
G35: 3.26. | H35: Terapia Ocupacional | I35: Terapia Ocupacional
G36: 3.27. | H36: Hemoterapia - Agência Transfusional | I36: Hemoterapia - Agência Transfusional
G37: 3.28. | H37: Hemodiálise | I37: Hemodiálise
G38: 3.29. | H38: Pulsoterapia | I38: Pulsoterapia
G39: 3.30. | H39: Total SADT Internos | I39: Total SADT Internos
G40: 3.31. | H40: Total SADT Externos | I40: Total SADT Externos
...

Sheet Plano_Estatístico_2020_HJB
A1: HOSPITAL JEAN BITAR – HJB
A3: PLANO ESTATÍSTICO 2020
A5: PLANO ESTATÍSTICO | B5: JAN | C5: FEV | D5: MAR | E5: ABR | F5: MAI | G5: JUN | H5: JUL | I5: AGO | J5: SET | K5: OUT | L5: NOV | M5: DEZ | N5: ACUM | O5: MÉDIA
A6: 1. Estatística de Pacientes Internados
A8: 1.1. Nº de Leitos por Unidade
A9: Clínica Cirúrgica | B9: 20 | C9: 20 | D9: 20 | E9: 20 | F9: 20 | G9: 20 | H9: 20 | I9: 20 | J9: 20 | K9: 20 | L9: 40 | M9: 40 | N9: =SUM(B9:M9) -> 280 | O9: =IF(N9=0,0,AVERAGE(B9:M9)) -> 23.333333
A10: Clínica Médica | B10: 40 | C10: 40 | D10: 40 | E10: 40 | F10: 40 | G10: 40 | H10: 40 | I10: 40 | J10: 40 | K10: 40 | L10: 20 | M10: 20 | N10: =SUM(B10:M10) -> 440 | O10: =IF(N10=0,0,AVERAGE(B10:M10)) -> 36.666667
A11: UTI Adulto | B11: 10 | C11: 10 | D11: 10 | E11: 10 | F11: 10 | G11: 10 | H11: 10 | I11: 10 | J11: 10 | K11: 10 | L11: 10 | M11: 10 | N11: =SUM(B11:M11) -> 120 | O11: =IF(N11=0,0,AVERAGE(B11:M11)) -> 10
A12: Total | B12: =IF(SUM(B9:B11)=0,"",SUM(B9:B11)) -> 70 | C12: =IF(SUM(C9:C11)=0,"",SUM(C9:C11)) -> 70 | D12: =IF(SUM(D9:D11)=0,"",SUM(D9:D11)) -> 70 | E12: =IF(SUM(E9:E11)=0,"",SUM(E9:E11)) -> 70 | F12: =IF(SUM(F9:F11)=0,"",SUM(F9:F11)) -> 70 | G12: =IF(SUM(G9:G11)=0,"",SUM(G9:G11)) -> 70 | H12: =IF(SUM(H9:H11)=0,"",SUM(H9:H11)) -> 70 | I12: =IF(SUM(I9:I11)=0,"",SUM(I9:I11)) -> 70 | ... M12: =IF(SUM(M9:M11)=0,"",SUM(M9:M11)) -> 70 | N12: =SUM(N9:N11) -> 840 | O12: =SUM(O9:O11) -> 70
A14: 1.2. Nº de Leitos-Dia por Unidade
A15: Clínica Cirúrgica | B15: =IF(B9="","",B9*B1870) -> 620 | C15: =IF(C9="","",C9*C1870) -> 560 | D15: =IF(D9="","",D9*D1870) -> 620 | E15: =IF(E9="","",E9*E1870) -> 600 | F15: =IF(F9="","",F9*F1870) -> 620 | G15: =IF(G9="","",G9*G1870) -> 600 | H15: =IF(H9="","",H9*H1870) -> 620 | I15: =IF(I9="","",I9*I1870) -> 620 | ... M15: =IF(M9="","",M9*M1870) -> 1240 | N15: =SUM(B15:M15) -> 8520 | O15: =IF(N15=0,0,AVERAGE(B15:M15)) -> 710
A16: Clínica Médica | B16: =IF(B10="","",B10*B1870) -> 1240 | C16: =IF(C10="","",C10*C1870) -> 1120 | D16: =IF(D10="","",D10*D1870) -> 1240 | E16: =IF(E10="","",E10*E1870) -> 1200 | F16: =IF(F10="","",F10*F1870) -> 1240 | G16: =IF(G10="","",G10*G1870) -> 1200 | H16: =IF(H10="","",H10*H1870) -> 1240 | I16: =IF(I10="","",I10*I1870) -> 1240 | ... M16: =IF(M10="","",M10*M1870) -> 620 | N16: =SUM(B16:M16) -> 13380 | O16: =IF(N16=0,0,AVERAGE(B16:M16)) -> 1115
A17: UTI Adulto | B17: =IF(B11="","",B11*B1870) -> 310 | C17: =IF(C11="","",C11*C1870) -> 280 | D17: =IF(D11="","",D11*D1870) -> 310 | E17: =IF(E11="","",E11*E1870) -> 300 | F17: =IF(F11="","",F11*F1870) -> 310 | G17: =IF(G11="","",G11*G1870) -> 300 | H17: =IF(H11="","",H11*H1870) -> 310 | I17: =IF(I11="","",I11*I1870) -> 310 | ... M17: =IF(M11="","",M11*M1870) -> 310 | N17: =SUM(B17:M17) -> 3650 | O17: =IF(N17=0,0,AVERAGE(B17:M17)) -> 304.16667
A18: Total | B18: =IF(SUM(B15:B17)=0,"",SUM(B15:B17)) -> 2170 | C18: =IF(SUM(C15:C17)=0,"",SUM(C15:C17)) -> 1960 | D18: =IF(SUM(D15:D17)=0,"",SUM(D15:D17)) -> 2170 | E18: =IF(SUM(E15:E17)=0,"",SUM(E15:E17)) -> 2100 | F18: =IF(SUM(F15:F17)=0,"",SUM(F15:F17)) -> 2170 | G18: =IF(SUM(G15:G17)=0,"",SUM(G15:G17)) -> 2100 | H18: =IF(SUM(H15:H17)=0,"",SUM(H15:H17)) -> 2170 | I18: =IF(SUM(I15:I17)=0,"",SUM(I15:I17)) -> 2170 | ... M18: =IF(SUM(M15:M17)=0,"",SUM(M15:M17)) -> 2170 | N18: =SUM(N15:N17) -> 25550 | O18: =SUM(O15:O17) -> 2129.1667
A20: 1.3. Nº de Pacientes-Dia por Especialidade
A21: Cardiologia | B21: 15 | C21: 15 | D21: 28 | E21: 19 | F21: 34 | G21: 81 | H21: 21 | I21: 16 | J21: 30 | K21: 15 | L21: 0 | M21: 3 | N21: =SUM(B21:M21) -> 277 | O21: =IF(N21=0,0,AVERAGE(B21:M21)) -> 23.083333
A22: Cirurgia Bariátrica | B22: 8 | C22: 24 | D22: 7 | E22: 0 | F22: 32 | G22: 29 | H22: 0 | I22: 54 | J22: 3 | K22: 70 | L22: 42 | M22: 53 | N22: =SUM(B22:M22) -> 322 | O22: =IF(N22=0,0,AVERAGE(B22:M22)) -> 26.833333
A23: Cirurgia de Cabeça e Pescoço | B23: 0 | C23: 2 | D23: 2 | E23: 0 | F23: 0 | G23: 0 | H23: 0 | I23: 0 | J23: 0 | K23: 1 | L23: 5 | M23: 3 | N23: =SUM(B23:M23) -> 13 | O23: =IF(N23=0,0,AVERAGE(B23:M23)) -> 1.0833333
A24: Cirurgia Geral | B24: 246 | C24: 253 | D24: 222 | E24: 63 | F24: 16 | G24: 89 | H24: 169 | I24: 320 | J24: 280 | K24: 517 | L24: 596 | M24: 614 | N24: =SUM(B24:M24) -> 3385 | O24: =IF(N24=0,0,AVERAGE(B24:M24)) -> 282.08333
A25: Cirurgia Plástica | B25: 17 | C25: 2 | D25: 2 | E25: 0 | F25: 0 | G25: 0 | H25: 0 | I25: 0 | J25: 2 | K25: 0 | L25: 0 | M25: 0 | N25: =SUM(B25:M25) -> 23 | O25: =IF(N25=0,0,AVERAGE(B25:M25)) -> 1.9166667
A26: Cirurgia Vascular | B26: 13 | C26: 57 | D26: 35 | E26: 15 | F26: 83 | G26: 62 | H26: 38 | I26: 5 | J26: 6 | K26: 0 | L26: 0 | M26: 0 | N26: =SUM(B26:M26) -> 314 | O26: =IF(N26=0,0,AVERAGE(B26:M26)) -> 26.166667
A27: Clínica Médica | B27: 373 | C27: 421 | D27: 442 | E27: 243 | F27: 394 | G27: 466 | H27: 443 | I27: =440+38 -> 478 | J27: =421+20 -> 441 | K27: =219+79 -> 298 | L27: =175+53+1 -> 229 | M27: 215 | N27: =SUM(B27:M27) -> 4443 | O27: =IF(N27=0,0,AVERAGE(B27:M27)) -> 370.25
A28: Coloproctologia | B28: 25 | C28: 16 | D28: 5 | E28: 2 | F28: 0 | G28: 2 | H28: 104 | I28: 84 | J28: 29 | K28: 23 | L28: 124 | M28: 113 | N28: =SUM(B28:M28) -> 527 | O28: =IF(N28=0,0,AVERAGE(B28:M28)) -> 43.916667
A29: Dermatologia | B29: 0 | C29: 0 | D29: 0 | E29: 0 | F29: 0 | G29: 0 | H29: 0 | I29: 0 | J29: 9 | K29: 0 | L29: 0 | M29: 0 | N29: =SUM(B29:M29) -> 9 | O29: =IF(N29=0,0,AVERAGE(B29:M29)) -> 0.75
A30: Endocrinologia | B30: 139 | C30: 90 | D30: 76 | E30: 45 | F30: 24 | G30: 4 | H30: 32 | I30: 67 | J30: 82 | K30: 35 | L30: 0 | M30: 17 | N30: =SUM(B30:M30) -> 611 | O30: =IF(N30=0,0,AVERAGE(B30:M30)) -> 50.916667
A31: Fígado e Vias Biliares | B31: 19 | C31: 9 | D31: 12 | E31: 0 | F31: 0 | G31: 0 | H31: 24 | I31: 5 | J31: 27 | K31: 5 | L31: 0 | M31: 0 | N31: =SUM(B31:M31) -> 101 | O31: =IF(N31=0,0,AVERAGE(B31:M31)) -> 8.4166667
A32: Geriatria | B32: 47 | C32: 46 | D32: 11 | E32: 12 | F32: 0 | G32: 0 | H32: 12 | I32: 16 | J32: 89 | K32: 19 | L32: 3 | M32: 4 | N32: =SUM(B32:M32) -> 259 | O32: =IF(N32=0,0,AVERAGE(B32:M32)) -> 21.583333
A33: Medicina Intensiva | B33: 182 | C33: 150 | D33: 216 | E33: 86 | F33: 76 | G33: 107 | H33: 243 | I33: 276 | J33: 231 | K33: 156 | L33: 159 | M33: 250 | N33: =SUM(B33:M33) -> 2132 | O33: =IF(N33=0,0,AVERAGE(B33:M33)) -> 177.66667
A34: Plantonista / Clínica Médica | B34: 9 | C34: 0 | D34: 81 | E34: 63 | F34: 19 | G34: 2 | H34: 19 | I34: 0 | J34: 14 | K34: 1 | L34: 21 | M34: 0 | N34: =SUM(B34:M34) -> 229 | O34: =IF(N34=0,0,AVERAGE(B34:M34)) -> 19.083333
A35: Pneumologia | B35: 132 | C35: 91 | D35: 61 | E35: 254 | F35: 104 | G35: 170 | H35: 108 | I35: 37 | J35: 52 | K35: 46 | L35: 26 | M35: 36 | N35: =SUM(B35:M35) -> 1117 | O35: =IF(N35=0,0,AVERAGE(B35:M35)) -> 93.083333
A36: Reumatologia | B36: 301 | C36: 198 | D36: 179 | E36: 199 | F36: 136 | G36: 135 | H36: 169 | I36: 242 | J36: 229 | K36: 100 | L36: 46 | M36: 64 | N36: =SUM(B36:M36) -> 1998 | O36: =IF(N36=0,0,AVERAGE(B36:M36)) -> 166.5
A37: Total | B37: =IF(SUM(B21:B36)=0,"",SUM(B21:B36)) -> 1526 | C37: =IF(SUM(C21:C36)=0,"",SUM(C21:C36)) -> 1374 | D37: =IF(SUM(D21:D36)=0,"",SUM(D21:D36)) -> 1379 | E37: =IF(SUM(E21:E36)=0,"",SUM(E21:E36)) -> 1001 | F37: =IF(SUM(F21:F36)=0,"",SUM(F21:F36)) -> 918 | G37: =IF(SUM(G21:G36)=0,"",SUM(G21:G36)) -> 1147 | H37: =IF(SUM(H21:H36)=0,"",SUM(H21:H36)) -> 1382 | I37: =IF(SUM(I21:I36)=0,"",SUM(I21:I36)) -> 1600 | ... M37: =IF(SUM(M21:M36)=0,"",SUM(M21:M36)) -> 1372 | N37: =SUM(N21:N36) -> 15760 | O37: =SUM(O21:O36) -> 1313.3333
A39: 1.4. Nº de Pacientes-Dia por Unidade
A40: Clínica Cirúrgica | B40: 312 | C40: 306 | D40: 255 | E40: 111 | F40: 159 | G40: 333 | H40: 359 | I40: 445 | J40: 363 | K40: 360 | L40: 727 | M40: 795 | N40: =SUM(B40:M40) -> 4525 | O40: =IF(N40=0,0,AVERAGE(B40:M40)) -> 377.08333
A41: Clínica Médica | B41: 1017 | C41: 897 | D41: 944 | E41: 762 | F41: 627 | G41: 675 | H41: 874 | I41: 964 | J41: 922 | K41: 775 | L41: 405 | M41: 420 | N41: =SUM(B41:M41) -> 9282 | O41: =IF(N41=0,0,AVERAGE(B41:M41)) -> 773.5
A42: UTI Adulto | B42: 197 | C42: 171 | D42: 180 | E42: 128 | F42: 132 | G42: 139 | H42: 149 | I42: 191 | J42: 239 | K42: 151 | L42: 119 | M42: 157 | N42: =SUM(B42:M42) -> 1953 | O42: =IF(N42=0,0,AVERAGE(B42:M42)) -> 162.75
A43: Total | B43: =IF(SUM(B40:B42)=0,"",SUM(B40:B42)) -> 1526 | C43: =IF(SUM(C40:C42)=0,"",SUM(C40:C42)) -> 1374 | D43: =IF(SUM(D40:D42)=0,"",SUM(D40:D42)) -> 1379 | E43: =IF(SUM(E40:E42)=0,"",SUM(E40:E42)) -> 1001 | F43: =IF(SUM(F40:F42)=0,"",SUM(F40:F42)) -> 918 | G43: =IF(SUM(G40:G42)=0,"",SUM(G40:G42)) -> 1147 | H43: =IF(SUM(H40:H42)=0,"",SUM(H40:H42)) -> 1382 | I43: =IF(SUM(I40:I42)=0,"",SUM(I40:I42)) -> 1600 | ... M43: =IF(SUM(M40:M42)=0,"",SUM(M40:M42)) -> 1372 | N43: =SUM(N40:N42) -> 15760 | O43: =SUM(O40:O42) -> 1313.3333
A45: 1.5. Média Diária de Pacientes por Unidade
A46: Clínica Cirúrgica | B46: =IF(B40/B1870=0,"",(B40/B1870)) -> 10.064516 | C46: =IF(C40/C1870=0,"",(C40/C1870)) -> 10.928571 | D46: =IF(D40/D1870=0,"",(D40/D1870)) -> 8.2258065 | E46: =IF(E40/E1870=0,"",(E40/E1870)) -> 3.7 | F46: =IF(F40/F1870=0,"",(F40/F1870)) -> 5.1290323 | G46: =IF(G40/G1870=0,"",(G40/G1870)) -> 11.1 | H46: =IF(H40/H1870=0,"",(H40/H1870)) -> 11.580645 | I46: =IF(I40/I1870=0,"",(I40/I1870)) -> 14.354839 | ... M46: =IF(M40/M1870=0,"",(M40/M1870)) -> 25.645161 | N46: =SUM(B46:M46) -> 148.67481 | O46: =IF(N46=0,0,AVERAGE(B46:M46)) -> 12.389567
A47: Clínica Médica | B47: =IF(B41/B1870=0,"",(B41/B1870)) -> 32.806452 | C47: =IF(C41/C1870=0,"",(C41/C1870)) -> 32.035714 | D47: =IF(D41/D1870=0,"",(D41/D1870)) -> 30.451613 | E47: =IF(E41/E1870=0,"",(E41/E1870)) -> 25.4 | F47: =IF(F41/F1870=0,"",(F41/F1870)) -> 20.225806 | G47: =IF(G41/G1870=0,"",(G41/G1870)) -> 22.5 | H47: =IF(H41/H1870=0,"",(H41/H1870)) -> 28.193548 | I47: =IF(I41/I1870=0,"",(I41/I1870)) -> 31.096774 | ... M47: =IF(M41/M1870=0,"",(M41/M1870)) -> 13.548387 | N47: =SUM(B47:M47) -> 305.49163 | O47: =IF(N47=0,0,AVERAGE(B47:M47)) -> 25.457636
...

Sheet % de Ocupação
A1: PLANO ESTATÍSTICO | B1: JAN | C1: FEV | D1: MAR | E1: ABR | F1: MAI | G1: JUN | H1: JUL | I1: AGO | J1: SET | K1: OUT | L1: NOV | M1: DEZ
A2: 1.21. Porcentagem de Ocupação por Unidade
A3: Clínica Cirúrgica | B3: =Plano_Estatístico_2020_HJB!B333 -> 0.50322581 | C3: =Plano_Estatístico_2020_HJB!C333 -> 0.54642857 | D3: =Plano_Estatístico_2020_HJB!D333 -> 0.41129032 | E3: =Plano_Estatístico_2020_HJB!E333 -> 0.185 | F3: =Plano_Estatístico_2020_HJB!F333 -> 0.25645161 | G3: =Plano_Estatístico_2020_HJB!G333 -> 0.555 | H3: =Plano_Estatístico_2020_HJB!H333 -> 0.57903226 | I3: =Plano_Estatístico_2020_HJB!I333 -> 0.71774194 | ... M3: =Plano_Estatístico_2020_HJB!M333 -> 0.64112903
A4: Clínica Médica | B4: =Plano_Estatístico_2020_HJB!B334 -> 0.82016129 | C4: =Plano_Estatístico_2020_HJB!C334 -> 0.80089286 | D4: =Plano_Estatístico_2020_HJB!D334 -> 0.76129032 | E4: =Plano_Estatístico_2020_HJB!E334 -> 0.635 | F4: =Plano_Estatístico_2020_HJB!F334 -> 0.50564516 | G4: =Plano_Estatístico_2020_HJB!G334 -> 0.5625 | H4: =Plano_Estatístico_2020_HJB!H334 -> 0.70483871 | I4: =Plano_Estatístico_2020_HJB!I334 -> 0.77741935 | ... M4: =Plano_Estatístico_2020_HJB!M334 -> 0.67741935
A5: UTI Adulto | B5: =Plano_Estatístico_2020_HJB!B335 -> 0.63548387 | C5: =Plano_Estatístico_2020_HJB!C335 -> 0.61071429 | D5: =Plano_Estatístico_2020_HJB!D335 -> 0.58064516 | E5: =Plano_Estatístico_2020_HJB!E335 -> 0.42666667 | F5: =Plano_Estatístico_2020_HJB!F335 -> 0.42580645 | G5: =Plano_Estatístico_2020_HJB!G335 -> 0.46333333 | H5: =Plano_Estatístico_2020_HJB!H335 -> 0.48064516 | I5: =Plano_Estatístico_2020_HJB!I335 -> 0.61612903 | ... M5: =Plano_Estatístico_2020_HJB!M335 -> 0.50645161
A6: Porcentagem Geral de Ocupação | B6: =Plano_Estatístico_2020_HJB!B336 -> 0.70322581 | C6: =Plano_Estatístico_2020_HJB!C336 -> 0.70102041 | D6: =Plano_Estatístico_2020_HJB!D336 -> 0.63548387 | E6: =Plano_Estatístico_2020_HJB!E336 -> 0.47666667 | F6: =Plano_Estatístico_2020_HJB!F336 -> 0.42304147 | G6: =Plano_Estatístico_2020_HJB!G336 -> 0.54619048 | H6: =Plano_Estatístico_2020_HJB!H336 -> 0.63686636 | I6: =Plano_Estatístico_2020_HJB!I336 -> 0.73732719 | ... M6: =Plano_Estatístico_2020_HJB!M336 -> 0.63225806

Sheet % de Ocupação Trimestral
B1: Unidade/ Mês | C1: JAN | D1: FEV | E1: MAR | G1: Porcentagem Geral de Ocupação (PGO)
A2: Paciente – dia | B2: Clínica Cirúrgica | C2: =Plano_Estatístico_2020_HJB!B40 -> 312 | D2: =Plano_Estatístico_2020_HJB!C40 -> 306 | E2: =Plano_Estatístico_2020_HJB!D40 -> 255 | G2: Unidade/ Mês | H2: JAN | I2: FEV | J2: MAR
B3: Clínica Médica | C3: =Plano_Estatístico_2020_HJB!B41 -> 1017 | D3: =Plano_Estatístico_2020_HJB!C41 -> 897 | E3: =Plano_Estatístico_2020_HJB!D41 -> 944 | G3: Clínica cirúrgica | H3: =Plano_Estatístico_2020_HJB!B333 -> 0.50322581 | I3: =Plano_Estatístico_2020_HJB!C333 -> 0.54642857 | J3: =Plano_Estatístico_2020_HJB!D333 -> 0.41129032
B4: UTI | C4: =Plano_Estatístico_2020_HJB!B42 -> 197 | D4: =Plano_Estatístico_2020_HJB!C42 -> 171 | E4: =Plano_Estatístico_2020_HJB!D42 -> 180 | G4: Clínica Médica | H4: =Plano_Estatístico_2020_HJB!B334 -> 0.82016129 | I4: =Plano_Estatístico_2020_HJB!C334 -> 0.80089286 | J4: =Plano_Estatístico_2020_HJB!D334 -> 0.76129032
A5: Total | B5: - | C5: JAN | D5: FEV | E5: MAR | G5: UTI | H5: =Plano_Estatístico_2020_HJB!B335 -> 0.63548387 | I5: =Plano_Estatístico_2020_HJB!C335 -> 0.61071429 | J5: =Plano_Estatístico_2020_HJB!D335 -> 0.58064516
A6: Leito – dia | B6: Clínica cirúrgica | C6: =Plano_Estatístico_2020_HJB!B15 -> 620 | D6: =Plano_Estatístico_2020_HJB!C15 -> 560 | E6: =Plano_Estatístico_2020_HJB!D15 -> 620 | G6: Geral | H6: =Plano_Estatístico_2020_HJB!B336 -> 0.70322581 | I6: =Plano_Estatístico_2020_HJB!C336 -> 0.70102041 | J6: =Plano_Estatístico_2020_HJB!D336 -> 0.63548387
B7: Clínica Médica | C7: =Plano_Estatístico_2020_HJB!B16 -> 1240 | D7: =Plano_Estatístico_2020_HJB!C16 -> 1120 | E7: =Plano_Estatístico_2020_HJB!D16 -> 1240
B8: UTI | C8: =Plano_Estatístico_2020_HJB!B17 -> 310 | D8: =Plano_Estatístico_2020_HJB!C17 -> 280 | E8: =Plano_Estatístico_2020_HJB!D17 -> 310
A9: Total | B9: - | C9: =SUM(C6:C8) -> 2170 | D9: =SUM(D6:D8) -> 1960 | E9: =SUM(E6:E8) -> 2170

Sheet Média de Permanência
A1: PLANO ESTATÍSTICO | B1: JAN | C1: FEV | D1: MAR | E1: ABR | F1: MAI | G1: JUN | H1: JUL | I1: AGO | J1: SET | K1: OUT | L1: NOV | M1: DEZ
A2: 1.22. Média de Permanência por Unidade
A3: Clínica Cirúrgica | B3: =Plano_Estatístico_2020_HJB!B341 -> 3.3913043 | C3: =Plano_Estatístico_2020_HJB!C341 -> 2.8073394 | D3: =Plano_Estatístico_2020_HJB!D341 -> 3.0357143 | E3: =Plano_Estatístico_2020_HJB!E341 -> 4.2692308 | F3: =Plano_Estatístico_2020_HJB!F341 -> 6.36 | G3: =Plano_Estatístico_2020_HJB!G341 -> 10.40625 | H3: =Plano_Estatístico_2020_HJB!H341 -> 7.8043478 | I3: =Plano_Estatístico_2020_HJB!I341 -> 3.9380531 | ... M3: =Plano_Estatístico_2020_HJB!M341 -> 4.2741935
A4: Clínica Médica | B4: =Plano_Estatístico_2020_HJB!B342 -> 16.142857 | C4: =Plano_Estatístico_2020_HJB!C342 -> 14.015625 | D4: =Plano_Estatístico_2020_HJB!D342 -> 14.75 | E4: =Plano_Estatístico_2020_HJB!E342 -> 11.545455 | F4: =Plano_Estatístico_2020_HJB!F342 -> 14.928571 | G4: =Plano_Estatístico_2020_HJB!G342 -> 11.25 | H4: =Plano_Estatístico_2020_HJB!H342 -> 13.242424 | I4: =Plano_Estatístico_2020_HJB!I342 -> 16.62069 | ... M4: =Plano_Estatístico_2020_HJB!M342 -> 15
A5: UTI Adulto | B5: =Plano_Estatístico_2020_HJB!B343 -> 5.7941176 | C5: =Plano_Estatístico_2020_HJB!C343 -> 4.8857143 | D5: =Plano_Estatístico_2020_HJB!D343 -> 6.9230769 | E5: =Plano_Estatístico_2020_HJB!E343 -> 7.5294118 | F5: =Plano_Estatístico_2020_HJB!F343 -> 7.7647059 | G5: =Plano_Estatístico_2020_HJB!G343 -> 5.3461538 | H5: =Plano_Estatístico_2020_HJB!H343 -> 5.137931 | I5: =Plano_Estatístico_2020_HJB!I343 -> 5.3055556 | ... M5: =Plano_Estatístico_2020_HJB!M343 -> 6.826087
A6: Média Geral de Permanência | B6: =Plano_Estatístico_2020_HJB!B344 -> 8.0740741 | C6: =Plano_Estatístico_2020_HJB!C344 -> 6.6057692 | D6: =Plano_Estatístico_2020_HJB!D344 -> 7.9252874 | E6: =Plano_Estatístico_2020_HJB!E344 -> 9.1834862 | F6: =Plano_Estatístico_2020_HJB!F344 -> 10.928571 | G6: =Plano_Estatístico_2020_HJB!G344 -> 9.720339 | H6: =Plano_Estatístico_2020_HJB!H344 -> 9.8014184 | I6: =Plano_Estatístico_2020_HJB!I344 -> 7.7294686 | ... M6: =Plano_Estatístico_2020_HJB!M344 -> 5.7890295
O16: p

Sheet Resumo_nov.2019
A1: Resumo dos Serviços - NOV/2019 | B1: JAN | C1: FEV | D1: MAR | E1: ABR | F1: MAI | G1: JUN | H1: JUL | I1: AGO | J1: SET | K1: OUT | L1: NOV | M1: ACM | N1: MÉDIA
A2: Total de Saídas Hospitalares | B2: 184 | C2: 192 | D2: 169 | E2: 175 | F2: 174 | G2: 160 | H2: 189 | I2: 181 | J2: 168 | K2: 162 | L2: 164 | M2: 1918 | N2: 174.36364
A3: Consultas Ambulatórias | B3: 2693 | C3: 2763 | D3: 2587 | E3: 3005 | F3: 3200 | G3: 2941 | H3: 3133 | I3: 3268 | J3: 3204 | K3: 3466 | L3: 3047 | M3: 33307 | N3: 3027.9091
A4: SADT Internos | B4: 9693 | C4: 8920 | D4: 8985 | E4: 9416 | F4: 9567 | G4: 8830 | H4: 9436 | I4: 8983 | J4: 8706 | K4: 8593 | L4: 8012 | M4: 99141 | N4: 9012.8182
A5: SADT Externos | B5: 13678 | C5: 13183 | D5: 13615 | E5: 13987 | F5: 14182 | G5: 13822 | H5: 13926 | I5: 14014 | J5: 14112 | K5: 14754 | L5: 12824 | M5: 152097 | N5: 13827
A6: Fisioterapia (Sessões) | B6: 2289 | C6: 2370 | D6: 2424 | E6: 2792 | F6: 3679 | G6: 3792 | H6: 2110 | I6: 2180 | J6: 1805 | K6: 1515 | L6: 1485 | M6: 26441 | N6: 2403.7273
A7: Fonoaudiologia (Sessões) | B7: 144 | C7: 139 | D7: 168 | E7: 194 | F7: 233 | G7: 213 | H7: 147 | I7: 139 | J7: 129 | K7: 107 | L7: 113 | M7: 1726 | N7: 156.90909
A8: Hemoterapia | B8: 47 | C8: 120 | D8: 47 | E8: 46 | F8: 70 | G8: 72 | H8: 79 | I8: 49 | J8: 81 | K8: 52 | L8: 80 | M8: 743 | N8: 67.545455
A9: Hemodiálise (Sessões) | B9: 35 | C9: 30 | D9: 59 | E9: 61 | F9: 84 | G9: 32 | H9: 48 | I9: 62 | J9: 50 | K9: 34 | L9: 18 | M9: 513 | N9: 46.636364
A10: Pulsoterapia | B10: 30 | C10: 31 | D10: 32 | E10: 23 | F10: 34 | G10: 31 | H10: 29 | I10: 31 | J10: 32 | K10: 39 | L10: 46 | M10: 358 | N10: 32.545455
A11: S.A.U - Serviço de Atenção ao Usuário | B11: 1881 | C11: 1983 | D11: 1854 | E11: 2075 | F11: 2129 | G11: 2081 | H11: 2207 | I11: 1138 | J11: 1578 | K11: 1843 | L11: 1853 | M11: 20622 | N11: 1874.7273
A12: Serviço Social | B12: 2837 | C12: 2011 | D12: 2394 | E12: 2719 | F12: 2776 | G12: 2355 | H12: 2236 | I12: 2278 | J12: 2698 | K12: 2600 | L12: 2182 | M12: 27086 | N12: 2462.3636
A13: Serviço Nutricional | B13: 844 | C13: 673 | D13: 579 | E13: 642 | F13: 832 | G13: 738 | H13: 842 | I13: 616 | J13: 576 | K13: 714 | L13: 528 | M13: 7584 | N13: 689.45455
... A16: Cirurgias Realizadas | B16: 186 | C16: 194 | D16: 171 | E16: 202 | F16: 183 | G16: 183 | H16: 196 | I16: 189 | J16: 199 | K16: 181 | L16: 174 | M16: 2058 | N16: 187.09091
