Workbook

Sheet Sumário

Sheet Sumário Provisório
A1: PLANO ESTATÍSTICO - HOSPITAL JEAN BITAR - INDSH - SESPA
A2: ANO: | B2: 2018
A3: GESTORES: | B3: GIOVANE MERENDA | C3: DIRETOR EXECUTIVO
B4: RODRIGO FRÖHLICH | C4: DIRETOR ADMINISTRATIVO E FINANCEIRO
B5: DENISE VILLACORTA | C5: DIRETORA TÉCNICA
B6: CAROLINA KAHWAGE | C6: DIRETORA CLÍNICA
B7: SOLANGE ANTONELLI | C7: GERENTE ASSISTÊNCIAL
A8: SUMÁRIO
A9: 1. | B9: Estatística de Pacientes Internados | D9: 2. | E9: Serviços Assistenciais | F9: Serviços Assistenciais | G9: 3. | H9: Serviço de Apoio Diagnóstico Terapêutico | I9: Serviço de Apoio Diagnóstico Terapêutico | J9: 4. | K9: Serviços de Apoio
A10: 1.1. | B10: Nº de Leitos por Unidade | C10: Nº de Leitos por Unidade | D10: 2.1. | E10: Centro Cirúrgico | F10: Centro Cirúrgico | G10: 3.1. | H10: Anátomo Patológico | I10: Anátomo Patológico | J10: 4.1. | K10: Nutrição e Dietética
A11: 1.2. | B11: Nº de Leitos-Dia por Unidade | C11: Nº de Leitos-Dia por Unidade | D11: 2.2. | E11: Anestesia | F11: Anestesia | G11: 3.2. | H11: Bomba de Insulina | J11: 4.2. | K11: Processamento da Roupa
A12: 1.3. | B12: Nº de Pacientes-Dia por Especialidade | C12: Nº de Pacientes-Dia por Especialidade | D12: 2.3. | E12: Centro Cirúrgico - Procedimento Endoscópico | F12: Centro Cirúrgico - Procedimento Endoscópico | G12: 3.3. | H12: Broncoscopia | I12: Broncoscopia | J12: 4.3. | K12: Manutenção
A13: 1.4. | B13: Nº de Pacientes-Dia por Unidade | C13: Nº de Pacientes-Dia por Unidade | D13: 2.4. | E13: Anestesia | F13: Anestesia | G13: 3.4. | H13: Densitometria Óssea | I13: Densitometria Óssea | J13: 4.4. | K13: Telefonia
A14: 1.5. | B14: Média Diária de Pacientes por Unidade | C14: Média Diária de Pacientes por Unidade | D14: 2.5. | E14: Central de Material Esterilizado | F14: Central de Material Esterilizado | G14: 3.5. | H14: Ecocardiograma | I14: Ecocardiograma | J14: 4.5. | K14: Encadernação
A15: 1.6. | B15: Internações por Especialidade | C15: Internações por Especialidade | D15: 2.6. | E15: Ambulatório de Referência e Pronto Atendimento | F15: Ambulatório de Referência e Pronto Atendimento | G15: 3.6. | H15: ECG - Eletrocardiograma | I15: ECG - Eletrocardiograma | J15: 4.6. | K15: Plastificação
A16: 1.7. | B16: Internações por Unidade | C16: Internações por Unidade | D16: 2.6.2. | E16: Atendimento por Especialidades – Ambulatório - Consultas Médicas | F16: Atendimento por Especialidades – Ambulatório - Consultas Médicas | G16: 3.7. | H16: Endoscopia Digestiva Alta | I16: Endoscopia Digestiva Alta | J16: 4.7. | K16: Cópias
A17: 1.8. | B17: Internações por Município | C17: Internações por Município | D17: 2.6.3. | E17: Atendimento por Especialidades – Ambulatório - Consultas Não Médicas | F17: Atendimento por Especialidades – Ambulatório - Consultas Não Médicas | G17: 3.8. | H17: Endoscopia Digestiva Baixa - Colonoscopia | I17: Endoscopia Digestiva Baixa - Colonoscopia
A18: 1.9. | B18: Internações por Faixa etária | C18: Internações por Faixa etária | D18: 2.6.4. | E18: Procedimentos Realizados no ambulatório | F18: Procedimentos Realizados no ambulatório | G18: 3.9. | H18: Escleroterapia Ecoviada com Espuma | I18: Escleroterapia Ecoviada com Espuma | J18: 5. | K18: Serviços Administrativos
A19: 1.10. | B19: Altas Melhoradas Por Especialidade | C19: Altas Melhoradas Por Especialidade | D19: 2.7. | E19: Atividades Sociais | F19: Atividades Sociais | G19: 3.10. | H19: Espirometria - Prova de Função Pulmonar | I19: Espirometria - Prova de Função Pulmonar
A20: 1.11. | B20: Altas por Unidade (sem transferências) | C20: Altas por Unidade (sem transferências) | D20: 2.7.1. | E20: S.A.U | F20: S.A.U | G20: 3.11. | H20: Holter de Glicemia | I20: Holter de Glicemia | J20: 6. | K20: Resumo Geral de Informações
A21: 1.12. | B21: Óbitos por Especialidade | C21: Óbitos por Especialidade | D21: 2.7.2. | E21: Serviço Social | F21: Serviço Social | G21: 3.12. | H21: Laboratório de Análises Clínicas | I21: Laboratório de Análises Clínicas
A22: 1.13. | B22: Óbitos por Unidade | C22: Óbitos por Unidade | D22: 2.7.3. | E22: Serviço Nutricional | F22: Serviço Nutricional | G22: 3.13. | H22: Mamografia | I22: Mamografia
A23: 1.14. | B23: Óbitos Não Institucionais p/ Especialidade (-48h) | C23: Óbitos Não Institucionais p/ Especialidade (-48h) | D23: 2.7.4. | E23: Serviço Psicologia | F23: Serviço Psicologia | G23: 3.14. | H23: MAPA - Monitorização Ambulatorial de Pressão Arterial | I23: MAPA - Monitorização Ambulatorial de Pressão Arterial
A24: 1.15. | B24: Óbitos Institucionais p/ Especialidade (+48h) | C24: Óbitos Institucionais p/ Especialidade (+48h) | D24: 2.7.5. | E24: Educação Permanente | F24: Educação Permanente | G24: 3.15. | H24: Medicina Nuclear - Cintilografia | I24: Medicina Nuclear - Cintilografia
A25: 1.16. | B25: Óbitos por Faixa Etária | C25: Óbitos por Faixa Etária | G25: 3.16. | H25: Medicina Nuclear - Iodoterapia | I25: Medicina Nuclear - Iodoterapia
A26: 1.17. | B26: Transferência Interna por Unidade (Entrada) | C26: Transferência Interna por Unidade (Entrada) | G26: 3.17. | H26: PAAF - Biópsia de Tireóide | I26: PAAF - Biópsia de Tireóide
A27: 1.18. | B27: Transferência Interna por Unidade (Saída) | C27: Transferência Interna por Unidade (Saída) | G27: 3.18. | H27: Polissonografia | I27: Polissonografia
A28: 1.19. | B28: Pacientes Saídos p/ Especialidade | C28: Pacientes Saídos p/ Especialidade | G28: 3.19. | H28: Radiologia - Raio-X | I28: Radiologia - Raio-X
A29: 1.20. | B29: Pacientes Saídos por Unidade | C29: Pacientes Saídos por Unidade | G29: 3.20. | H29: Ressonância Magnética | I29: Ressonância Magnética
A30: 1.21. | B30: Porcentagem de Ocupação por Unidade | C30: Porcentagem de Ocupação por Unidade | G30: 3.21. | H30: Teste Ergométrico | I30: Teste Ergométrico
A31: 1.22. | B31: Média de Permanência por Unidade | C31: Média de Permanência por Unidade | G31: 3.22. | H31: Tomografia | I31: Tomografia
A32: 1.23. | B32: Índice de Giro de Leitos p/ Unidade | C32: Índice de Giro de Leitos p/ Unidade | G32: 3.23. | H32: Ultrassonografia | I32: Ultrassonografia
A33: 1.24. | B33: Taxa de Mortalidade por Unidade | C33: Taxa de Mortalidade por Unidade | G33: 3.24. | H33: Fisioterapia | I33: Fisioterapia
A34: 1.25. | B34: Taxa de Mortalidade por Tipo | C34: Taxa de Mortalidade por Tipo | G34: 3.25. | H34: Fonoaudiologia | I34: Fonoaudiologia
G35: 3.26. | H35: Terapia Ocupacional | I35: Terapia Ocupacional
G36: 3.27. | H36: Hemoterapia - Agência Transfusional | I36: Hemoterapia - Agência Transfusional
G37: 3.28. | H37: Hemodiálise | I37: Hemodiálise
G38: 3.29. | H38: Pulsoterapia | I38: Pulsoterapia
G39: 3.30. | H39: Total SADT Internos | I39: Total SADT Internos
G40: 3.31. | H40: Total SADT Externos | I40: Total SADT Externos
G41: 3.32.2 | H41: TOTAL GERAL SADT | I41: TOTAL GERAL SADT
G42: 3.33. | H42: Total Tratamentos Internos | I42: Total Tratamentos Internos

Sheet Plano_Estatístico_2020_HJB
A1: HOSPITAL JEAN BITAR – HJB
A3: PLANO ESTATÍSTICO 2020
A5: PLANO ESTATÍSTICO | B5: JAN | C5: FEV | D5: MAR | E5: ABR | F5: MAI | G5: JUN | H5: JUL | I5: AGO | J5: SET | K5: OUT | L5: NOV | M5: DEZ | N5: ACUM | O5: MÉDIA
A6: 1. Estatística de Pacientes Internados
A8: 1.1. Nº de Leitos por Unidade
A9: Clínica Cirúrgica | B9: 20 | C9: 20 | D9: 20 | E9: 20 | F9: 20 | G9: 20 | H9: 20 | I9: 20 | J9: 20 | K9: 20 | L9: 40 | M9: 40 | N9: =SUM(B9:M9) -> 280 | O9: =IF(N9=0,0,AVERAGE(B9:M9)) -> 23.333333
A10: Clínica Médica | B10: 40 | C10: 40 | D10: 40 | E10: 40 | F10: 40 | G10: 40 | H10: 40 | I10: 40 | J10: 40 | K10: 40 | L10: 20 | M10: 20 | N10: =SUM(B10:M10) -> 440 | O10: =IF(N10=0,0,AVERAGE(B10:M10)) -> 36.666667
A11: UTI Adulto | B11: 10 | C11: 10 | D11: 10 | E11: 10 | F11: 10 | G11: 10 | H11: 10 | I11: 10 | J11: 10 | K11: 10 | L11: 10 | M11: 10 | N11: =SUM(B11:M11) -> 120 | O11: =IF(N11=0,0,AVERAGE(B11:M11)) -> 10
A12: Total | B12: =IF(SUM(B9:B11)=0,"",SUM(B9:B11)) -> 70 | C12: =IF(SUM(C9:C11)=0,"",SUM(C9:C11)) -> 70 | D12: =IF(SUM(D9:D11)=0,"",SUM(D9:D11)) -> 70 | E12: =IF(SUM(E9:E11)=0,"",SUM(E9:E11)) -> 70 | F12: =IF(SUM(F9:F11)=0,"",SUM(F9:F11)) -> 70 | G12: =IF(SUM(G9:G11)=0,"",SUM(G9:G11)) -> 70 | H12: =IF(SUM(H9:H11)=0,"",SUM(H9:H11)) -> 70 | I12: =IF(SUM(I9:I11)=0,"",SUM(I9:I11)) -> 70 | ... M12: =IF(SUM(M9:M11)=0,"",SUM(M9:M11)) -> 70 | N12: =SUM(N9:N11) -> 840 | O12: =SUM(O9:O11) -> 70
A14: 1.2. Nº de Leitos-Dia por Unidade
A15: Clínica Cirúrgica | B15: =IF(B9="","",B9*B1870) -> 620 | C15: =IF(C9="","",C9*C1870) -> 560 | D15: =IF(D9="","",D9*D1870) -> 620 | E15: =IF(E9="","",E9*E1870) -> 600 | F15: =IF(F9="","",F9*F1870) -> 620 | G15: =IF(G9="","",G9*G1870) -> 600 | H15: =IF(H9="","",H9*H1870) -> 620 | I15: =IF(I9="","",I9*I1870) -> 620 | ... M15: =IF(M9="","",M9*M1870) -> 1240 | N15: =SUM(B15:M15) -> 8520 | O15: =IF(N15=0,0,AVERAGE(B15:M15)) -> 710
A16: Clínica Médica | B16: =IF(B10="","",B10*B1870) -> 1240 | C16: =IF(C10="","",C10*C1870) -> 1120 | D16: =IF(D10="","",D10*D1870) -> 1240 | E16: =IF(E10="","",E10*E1870) -> 1200 | F16: =IF(F10="","",F10*F1870) -> 1240 | G16: =IF(G10="","",G10*G1870) -> 1200 | H16: =IF(H10="","",H10*H1870) -> 1240 | I16: =IF(I10="","",I10*I1870) -> 1240 | ... M16: =IF(M10="","",M10*M1870) -> 620 | N16: =SUM(B16:M16) -> 13380 | O16: =IF(N16=0,0,AVERAGE(B16:M16)) -> 1115
A17: UTI Adulto | B17: =IF(B11="","",B11*B1870) -> 310 | C17: =IF(C11="","",C11*C1870) -> 280 | D17: =IF(D11="","",D11*D1870) -> 310 | E17: =IF(E11="","",E11*E1870) -> 300 | F17: =IF(F11="","",F11*F1870) -> 310 | G17: =IF(G11="","",G11*G1870) -> 300 | H17: =IF(H11="","",H11*H1870) -> 310 | I17: =IF(I11="","",I11*I1870) -> 310 | ... M17: =IF(M11="","",M11*M1870) -> 310 | N17: =SUM(B17:M17) -> 3650 | O17: =IF(N17=0,0,AVERAGE(B17:M17)) -> 304.16667
A18: Total | B18: =IF(SUM(B15:B17)=0,"",SUM(B15:B17)) -> 2170 | C18: =IF(SUM(C15:C17)=0,"",SUM(C15:C17)) -> 1960 | D18: =IF(SUM(D15:D17)=0,"",SUM(D15:D17)) -> 2170 | E18: =IF(SUM(E15:E17)=0,"",SUM(E15:E17)) -> 2100 | F18: =IF(SUM(F15:F17)=0,"",SUM(F15:F17)) -> 2170 | G18: =IF(SUM(G15:G17)=0,"",SUM(G15:G17)) -> 2100 | H18: =IF(SUM(H15:H17)=0,"",SUM(H15:H17)) -> 2170 | I18: =IF(SUM(I15:I17)=0,"",SUM(I15:I17)) -> 2170 | ... M18: =IF(SUM(M15:M17)=0,"",SUM(M15:M17)) -> 2170 | N18: =SUM(N15:N17) -> 25550 | O18: =SUM(O15:O17) -> 2129.1667
A20: 1.3. Nº de Pacientes-Dia por Especialidade
A21: Cardiologia | B21: 15 | C21: 15 | D21: 28 | E21: 19 | F21: 34 | G21: 81 | H21: 21 | I21: 16 | J21: 30 | K21: 15 | L21: 0 | M21: 3 | N21: =SUM(B21:M21) -> 277 | O21: =IF(N21=0,0,AVERAGE(B21:M21)) -> 23.083333
A22: Cirurgia Bariátrica | B22: 8 | C22: 24 | D22: 7 | E22: 0 | F22: 32 | G22: 29 | H22: 0 | I22: 54 | J22: 3 | K22: 70 | L22: 42 | M22: 53 | N22: =SUM(B22:M22) -> 322 | O22: =IF(N22=0,0,AVERAGE(B22:M22)) -> 26.833333
A23: Cirurgia de Cabeça e Pescoço | B23: 0 | C23: 2 | D23: 2 | E23: 0 | F23: 0 | G23: 0 | H23: 0 | I23: 0 | J23: 0 | K23: 1 | L23: 5 | M23: 3 | N23: =SUM(B23:M23) -> 13 | O23: =IF(N23=0,0,AVERAGE(B23:M23)) -> 1.0833333
A24: Cirurgia Geral | B24: 246 | C24: 253 | D24: 222 | E24: 63 | F24: 16 | G24: 89 | H24: 169 | I24: 320 | J24: 280 | K24: 517 | L24: 596 | M24: 614 | N24: =SUM(B24:M24) -> 3385 | O24: =IF(N24=0,0,AVERAGE(B24:M24)) -> 282.08333
A25: Cirurgia Plástica | B25: 17 | C25: 2 | D25: 2 | E25: 0 | F25: 0 | G25: 0 | H25: 0 | I25: 0 | J25: 2 | K25: 0 | L25: 0 | M25: 0 | N25: =SUM(B25:M25) -> 23 | O25: =IF(N25=0,0,AVERAGE(B25:M25)) -> 1.9166667
A26: Cirurgia Vascular | B26: 13 | C26: 57 | D26: 35 | E26: 15 | F26: 83 | G26: 62 | H26: 38 | I26: 5 | J26: 6 | K26: 0 | L26: 0 | M26: 0 | N26: =SUM(B26:M26) -> 314 | O26: =IF(N26=0,0,AVERAGE(B26:M26)) -> 26.166667
A27: Clínica Médica | B27: 373 | C27: 421 | D27: 442 | E27: 243 | F27: 394 | G27: 466 | H27: 443 | I27: =440+38 -> 478 | J27: =421+20 -> 441 | K27: =219+79 -> 298 | L27: =175+53+1 -> 229 | M27: 215 | N27: =SUM(B27:M27) -> 4443 | O27: =IF(N27=0,0,AVERAGE(B27:M27)) -> 370.25
A28: Coloproctologia | B28: 25 | C28: 16 | D28: 5 | E28: 2 | F28: 0 | G28: 2 | H28: 104 | I28: 84 | J28: 29 | K28: 23 | L28: 124 | M28: 113 | N28: =SUM(B28:M28) -> 527 | O28: =IF(N28=0,0,AVERAGE(B28:M28)) -> 43.916667
A29: Dermatologia | B29: 0 | C29: 0 | D29: 0 | E29: 0 | F29: 0 | G29: 0 | H29: 0 | I29: 0 | J29: 9 | K29: 0 | L29: 0 | M29: 0 | N29: =SUM(B29:M29) -> 9 | O29: =IF(N29=0,0,AVERAGE(B29:M29)) -> 0.75
A30: Endocrinologia | B30: 139 | C30: 90 | D30: 76 | E30: 45 | F30: 24 | G30: 4 | H30: 32 | I30: 67 | J30: 82 | K30: 35 | L30: 0 | M30: 17 | N30: =SUM(B30:M30) -> 611 | O30: =IF(N30=0,0,AVERAGE(B30:M30)) -> 50.916667
A31: Fígado e Vias Biliares | B31: 19 | C31: 9 | D31: 12 | E31: 0 | F31: 0 | G31: 0 | H31: 24 | I31: 5 | J31: 27 | K31: 5 | L31: 0 | M31: 0 | N31: =SUM(B31:M31) -> 101 | O31: =IF(N31=0,0,AVERAGE(B31:M31)) -> 8.4166667
A32: Geriatria | B32: 47 | C32: 46 | D32: 11 | E32: 12 | F32: 0 | G32: 0 | H32: 12 | I32: 16 | J32: 89 | K32: 19 | L32: 3 | M32: 4 | N32: =SUM(B32:M32) -> 259 | O32: =IF(N32=0,0,AVERAGE(B32:M32)) -> 21.583333
A33: Medicina Intensiva | B33: 182 | C33: 150 | D33: 216 | E33: 86 | F33: 76 | G33: 107 | H33: 243 | I33: 276 | J33: 231 | K33: 156 | L33: 159 | M33: 250 | N33: =SUM(B33:M33) -> 2132 | O33: =IF(N33=0,0,AVERAGE(B33:M33)) -> 177.66667
A34: Plantonista / Clínica Médica | B34: 9 | C34: 0 | D34: 81 | E34: 63 | F34: 19 | G34: 2 | H34: 19 | I34: 0 | J34: 14 | K34: 1 | L34: 21 | M34: 0 | N34: =SUM(B34:M34) -> 229 | O34: =IF(N34=0,0,AVERAGE(B34:M34)) -> 19.083333
A35: Pneumologia | B35: 132 | C35: 91 | D35: 61 | E35: 254 | F35: 104 | G35: 170 | H35: 108 | I35: 37 | J35: 52 | K35: 46 | L35: 26 | M35: 36 | N35: =SUM(B35:M35) -> 1117 | O35: =IF(N35=0,0,AVERAGE(B35:M35)) -> 93.083333
A36: Reumatologia | B36: 301 | C36: 198 | D36: 179 | E36: 199 | F36: 136 | G36: 135 | H36: 169 | I36: 242 | J36: 229 | K36: 100 | L36: 46 | M36: 64 | N36: =SUM(B36:M36) -> 1998 | O36: =IF(N36=0,0,AVERAGE(B36:M36)) -> 166.5
A37: Total | B37: =IF(SUM(B21:B36)=0,"",SUM(B21:B36)) -> 1526 | C37: =IF(SUM(C21:C36)=0,"",SUM(C21:C36)) -> 1374 | D37: =IF(SUM(D21:D36)=0,"",SUM(D21:D36)) -> 1379 | E37: =IF(SUM(E21:E36)=0,"",SUM(E21:E36)) -> 1001 | F37: =IF(SUM(F21:F36)=0,"",SUM(F21:F36)) -> 918 | G37: =IF(SUM(G21:G36)=0,"",SUM(G21:G36)) -> 1147 | H37: =IF(SUM(H21:H36)=0,"",SUM(H21:H36)) -> 1382 | I37: =IF(SUM(I21:I36)=0,"",SUM(I21:I36)) -> 1600 | ... M37: =IF(SUM(M21:M36)=0,"",SUM(M21:M36)) -> 1372 | N37: =SUM(N21:N36) -> 15760 | O37: =SUM(O21:O36) -> 1313.3333
A39: 1.4. Nº de Pacientes-Dia por Unidade
A40: Clínica Cirúrgica | B40: 312 | C40: 306 | D40: 255 | E40: 111 | F40: 159 | G40: 333 | H40: 359 | I40: 445 | J40: 363 | K40: 360 | L40: 727 | M40: 795 | N40: =SUM(B40:M40) -> 4525 | O40: =IF(N40=0,0,AVERAGE(B40:M40)) -> 377.08333
A41: Clínica Médica | B41: 1017 | C41: 897 | D41: 944 | E41: 762 | F41: 627 | G41: 675 | H41: 874 | I41: 964 | J41: 922 | K41: 775 | L41: 405 | M41: 420 | N41: =SUM(B41:M41) -> 9282 | O41: =IF(N41=0,0,AVERAGE(B41:M41)) -> 773.5
A42: UTI Adulto | B42: 197 | C42: 171 | D42: 180 | E42: 128 | F42: 132 | G42: 139 | H42: 149 | I42: 191 | J42: 239 | K42: 151 | L42: 119 | M42: 157 | N42: =SUM(B42:M42) -> 1953 | O42: =IF(N42=0,0,AVERAGE(B42:M42)) -> 162.75
A43: Total | B43: =IF(SUM(B40:B42)=0,"",SUM(B40:B42)) -> 1526 | C43: =IF(SUM(C40:C42)=0,"",SUM(C40:C42)) -> 1374 | D43: =IF(SUM(D40:D42)=0,"",SUM(D40:D42)) -> 1379 | E43: =IF(SUM(E40:E42)=0,"",SUM(E40:E42)) -> 1001 | F43: =IF(SUM(F40:F42)=0,"",SUM(F40:F42)) -> 918 | G43: =IF(SUM(G40:G42)=0,"",SUM(G40:G42)) -> 1147 | H43: =IF(SUM(H40:H42)=0,"",SUM(H40:H42)) -> 1382 | I43: =IF(SUM(I40:I42)=0,"",SUM(I40:I42)) -> 1600 | ... M43: =IF(SUM(M40:M42)=0,"",SUM(M40:M42)) -> 1372 | N43: =SUM(N40:N42) -> 15760 | O43: =SUM(O40:O42) -> 1313.3333
A45: 1.5. Média Diária de Pacientes por Unidade
A46: Clínica Cirúrgica | B46: =IF(B40/B1870=0,"",(B40/B1870)) -> 10.064516 | C46: =IF(C40/C1870=0,"",(C40/C1870)) -> 10.928571 | D46: =IF(D40/D1870=0,"",(D40/D1870)) -> 8.2258065 | E46: =IF(E40/E1870=0,"",(E40/E1870)) -> 3.7 | F46: =IF(F40/F1870=0,"",(F40/F1870)) -> 5.1290323 | G46: =IF(G40/G1870=0,"",(G40/G1870)) -> 11.1 | H46: =IF(H40/H1870=0,"",(H40/H1870)) -> 11.580645 | I46: =IF(I40/I1870=0,"",(I40/I1870)) -> 14.354839 | ... M46: =IF(M40/M1870=0,"",(M40/M1870)) -> 25.645161 | N46: =SUM(B46:M46) -> 148.67481 | O46: =IF(N46=0,0,AVERAGE(B46:M46)) -> 12.389567
A47: Clínica Médica | B47: =IF(B41/B1870=0,"",(B41/B1870)) -> 32.806452 | C47: =IF(C41/C1870=0,"",(C41/C1870)) -> 32.035714 | D47: =IF(D41/D1870=0,"",(D41/D1870)) -> 30.451613 | E47: =IF(E41/E1870=0,"",(E41/E1870)) -> 25.4 | F47: =IF(F41/F1870=0,"",(F41/F1870)) -> 20.225806 | G47: =IF(G41/G1870=0,"",(G41/G1870)) -> 22.5 | H47: =IF(H41/H1870=0,"",(H41/H1870)) -> 28.193548 | I47: =IF(I41/I1870=0,"",(I41/I1870)) -> 31.096774 | ... M47: =IF(M41/M1870=0,"",(M41/M1870)) -> 13.548387 | N47: =SUM(B47:M47) -> 305.49163 | O47: =IF(N47=0,0,AVERAGE(B47:M47)) -> 25.457636
A48: UTI Adulto | B48: =IF(B42/B1870=0,"",(B42/B1870)) -> 6.3548387 | C48: =IF(C42/C1870=0,"",(C42/C1870)) -> 6.1071429 | D48: =IF(D42/D1870=0,"",(D42/D1870)) -> 5.8064516 | E48: =IF(E42/E1870=0,"",(E42/E1870)) -> 4.2666667 | F48: =IF(F42/F1870=0,"",(F42/F1870)) -> 4.2580645 | G48: =IF(G42/G1870=0,"",(G42/G1870)) -> 4.6333333 | H48: =IF(H42/H1870=0,"",(H42/H1870)) -> 4.8064516 | I48: =IF(I42/I1870=0,"",(I42/I1870)) -> 6.1612903 | ... M48: =IF(M42/M1870=0,"",(M42/M1870)) -> 5.0645161 | N48: =SUM(B48:M48) -> 64.263057 | O48: =IF(N48=0,0,AVERAGE(B48:M48)) -> 5.3552547
A49: Total | B49: =IF(SUM(B46:B48)=0,"",SUM(B46:B48)) -> 49.225806 | C49: =IF(SUM(C46:C48)=0,"",SUM(C46:C48)) -> 49.071429 | D49: =IF(SUM(D46:D48)=0,"",SUM(D46:D48)) -> 44.483871 | E49: =IF(SUM(E46:E48)=0,"",SUM(E46:E48)) -> 33.366667 | F49: =IF(SUM(F46:F48)=0,"",SUM(F46:F48)) -> 29.612903 | G49: =IF(SUM(G46:G48)=0,"",SUM(G46:G48)) -> 38.233333 | H49: =IF(SUM(H46:H48)=0,"",SUM(H46:H48)) -> 44.580645 | I49: =IF(SUM(I46:I48)=0,"",SUM(I46:I48)) -> 51.612903 | ... M49: =IF(SUM(M46:M48)=0,"",SUM(M46:M48)) -> 44.258065 | N49: =SUM(N46:N48) -> 518.42949 | O49: =SUM(O46:O48) -> 43.202458
A51: 1.6. Internações por Especialidade
A52: Cardiologia | B52: 0 | C52: 1 | D52: 1 | E52: 3 | F52: 1 | G52: 5 | H52: 2 | I52: 1 | J52: 0 | K52: 0 | L52: 0 | M52: 1 | N52: =SUM(B52:M52) -> 15 | O52: =IF(N52=0,0,AVERAGE(B52:M52)) -> 1.25
A53: Cirurgia Bariátrica | B53: 2 | C53: 3 | D53: 1 | E53: 0 | F53: 3 | G53: 1 | H53: 0 | I53: 7 | J53: 2 | K53: 21 | L53: 10 | M53: 16 | N53: =SUM(B53:M53) -> 66 | O53: =IF(N53=0,0,AVERAGE(B53:M53)) -> 5.5
A54: Cirurgia de Cabeça e Pescoço | B54: 0 | C54: 1 | D54: 1 | E54: 0 | F54: 0 | G54: 0 | H54: 0 | I54: 0 | J54: 0 | K54: 1 | L54: 2 | M54: 2 | N54: =SUM(B54:M54) -> 7 | O54: =IF(N54=0,0,AVERAGE(B54:M54)) -> 0.58333333
A55: Cirurgia Geral | B55: 70 | C55: 76 | D55: 64 | E55: 15 | F55: 1 | G55: 9 | H55: 22 | I55: 78 | J55: 65 | K55: 132 | L55: 153 | M55: 128 | N55: =SUM(B55:M55) -> 813 | O55: =IF(N55=0,0,AVERAGE(B55:M55)) -> 67.75
A56: Cirurgia Plástica | B56: 7 | C56: 1 | D56: 1 | E56: 0 | F56: 0 | G56: 0 | H56: 0 | I56: 0 | J56: 1 | K56: 1 | L56: 0 | M56: 0 | N56: =SUM(B56:M56) -> 11 | O56: =IF(N56=0,0,AVERAGE(B56:M56)) -> 0.91666667
A57: Cirurgia Vascular | B57: 2 | C57: 0 | D57: 1 | E57: 0 | F57: 5 | G57: 3 | H57: 1 | I57: 1 | J57: 1 | K57: 0 | L57: 0 | M57: 0 | N57: =SUM(B57:M57) -> 14 | O57: =IF(N57=0,0,AVERAGE(B57:M57)) -> 1.1666667
A58: Clínica Médica | B58: 24 | C58: 27 | D58: 22 | E58: 24 | F58: 15 | G58: 30 | H58: 28 | I58: 21 | J58: =29+1 -> 30 | K58: =12+6 -> 18 | L58: =11+5+2 -> 18 | M58: 13 | N58: =SUM(B58:M58) -> 270 | O58: =IF(N58=0,0,AVERAGE(B58:M58)) -> 22.5
A59: Coloproctologia | B59: 7 | C59: 6 | D59: 2 | E59: 1 | F59: 0 | G59: 1 | H59: 6 | I59: 6 | J59: 3 | K59: 7 | L59: 14 | M59: 15 | N59: =SUM(B59:M59) -> 68 | O59: =IF(N59=0,0,AVERAGE(B59:M59)) -> 5.6666667
A60: Dermatologia | B60: 0 | C60: 0 | D60: 0 | E60: 0 | F60: 0 | G60: 0 | H60: 0 | I60: 0 | J60: 1 | K60: 0 | L60: 0 | M60: 0 | N60: =SUM(B60:M60) -> 1 | O60: =IF(N60=0,0,AVERAGE(B60:M60)) -> 0.083333333
A61: Endocrinologia | B61: 7 | C61: 6 | D61: 2 | E61: 1 | F61: 1 | G61: 0 | H61: 5 | I61: 6 | J61: 4 | K61: 1 | L61: 0 | M61: 2 | N61: =SUM(B61:M61) -> 35 | O61: =IF(N61=0,0,AVERAGE(B61:M61)) -> 2.9166667
A62: Fígado e Vias Biliares | B62: 2 | C62: 4 | D62: 2 | E62: 0 | F62: 0 | G62: 0 | H62: 1 | I62: 3 | J62: 6 | K62: 3 | L62: 0 | M62: 0 | N62: =SUM(B62:M62) -> 21 | O62: =IF(N62=0,0,AVERAGE(B62:M62)) -> 1.75
A63: Geriatria | B63: 6 | C63: 1 | D63: 1 | E63: 1 | F63: 33 | G63: 0 | H63: 1 | I63: 3 | J63: 8 | K63: 0 | L63: 1 | M63: 1 | N63: =SUM(B63:M63) -> 56 | O63: =IF(N63=0,0,AVERAGE(B63:M63)) -> 4.6666667
A64: Medicina Intensiva | B64: 5 | C64: 11 | D64: 8 | E64: 3 | F64: 8 | G64: 5 | H64: 10 | I64: 14 | J64: 4 | K64: 4 | L64: 7 | M64: 8 | N64: =SUM(B64:M64) -> 87 | O64: =IF(N64=0,0,AVERAGE(B64:M64)) -> 7.25
A65: Plantonista / Clínica Médica | B65: 0 | C65: 0 | D65: 3 | E65: 0 | F65: 2 | G65: 0 | H65: 2 | I65: 0 | J65: 1 | K65: 0 | L65: 1 | M65: 0 | N65: =SUM(B65:M65) -> 9 | O65: =IF(N65=0,0,AVERAGE(B65:M65)) -> 0.75
A66: Pneumologia | B66: 10 | C66: 5 | D66: 7 | E66: 16 | F66: 6 | G66: 8 | H66: 6 | I66: 3 | J66: 6 | K66: 4 | L66: 3 | M66: 5 | N66: =SUM(B66:M66) -> 79 | O66: =IF(N66=0,0,AVERAGE(B66:M66)) -> 6.5833333
A67: Reumatologia | B67: 15 | C67: 6 | D67: 8 | E67: 13 | F67: 7 | G67: 4 | H67: 15 | I67: 15 | J67: 10 | K67: 3 | L67: 4 | M67: 2 | N67: =SUM(B67:M67) -> 102 | O67: =IF(N67=0,0,AVERAGE(B67:M67)) -> 8.5
A68: Total | B68: =IF(SUM(B52:B67)=0,"",SUM(B52:B67)) -> 157 | C68: =IF(SUM(C52:C67)=0,"",SUM(C52:C67)) -> 148 | D68: =IF(SUM(D52:D67)=0,"",SUM(D52:D67)) -> 124 | E68: =IF(SUM(E52:E67)=0,"",SUM(E52:E67)) -> 77 | F68: =IF(SUM(F52:F67)=0,"",SUM(F52:F67)) -> 82 | G68: =IF(SUM(G52:G67)=0,"",SUM(G52:G67)) -> 66 | H68: =IF(SUM(H52:H67)=0,"",SUM(H52:H67)) -> 99 | I68: =IF(SUM(I52:I67)=0,"",SUM(I52:I67)) -> 158 | ... M68: =IF(SUM(M52:M67)=0,"",SUM(M52:M67)) -> 193 | N68: =SUM(N52:N67) -> 1654 | O68: =SUM(O52:O67) -> 137.83333
A70: 1.7. Internações por Unidade
A71: Clínica Cirúrgica | B71: 89 | C71: 92 | D71: 71 | E71: 27 | F71: 15 | G71: 14 | H71: 31 | I71: 96 | J71: 78 | K71: 88 | L71: 170 | M71: 165 | N71: =SUM(B71:M71) -> 936 | O71: =IF(N71=0,0,AVERAGE(B71:M71)) -> 78
A72: Clínica Médica | B72: 59 | C72: 45 | D72: 45 | E72: 47 | F72: 28 | G72: 45 | H72: 58 | I72: 47 | J72: 60 | K72: 103 | L72: 35 | M72: 20 | N72: =SUM(B72:M72) -> 592 | O72: =IF(N72=0,0,AVERAGE(B72:M72)) -> 49.333333
A73: UTI Adulto | B73: 9 | C73: 11 | D73: 8 | E73: 3 | F73: 6 | G73: 7 | H73: 10 | I73: 15 | J73: 4 | K73: 4 | L73: 8 | M73: 8 | N73: =SUM(B73:M73) -> 93 | O73: =IF(N73=0,0,AVERAGE(B73:M73)) -> 7.75
A74: Total | B74: =IF(SUM(B71:B73)=0,"",SUM(B71:B73)) -> 157 | C74: =IF(SUM(C71:C73)=0,"",SUM(C71:C73)) -> 148 | D74: =IF(SUM(D71:D73)=0,"",SUM(D71:D73)) -> 124 | E74: =IF(SUM(E71:E73)=0,"",SUM(E71:E73)) -> 77 | F74: =IF(SUM(F71:F73)=0,"",SUM(F71:F73)) -> 49 | G74: =IF(SUM(G71:G73)=0,"",SUM(G71:G73)) -> 66 | H74: =IF(SUM(H71:H73)=0,"",SUM(H71:H73)) -> 99 | I74: =IF(SUM(I71:I73)=0,"",SUM(I71:I73)) -> 158 | ... M74: =IF(SUM(M71:M73)=0,"",SUM(M71:M73)) -> 193 | N74: =SUM(N71:N73) -> 1621 | O74: =SUM(O71:O73) -> 135.08333
A75: Média Diária de Internações | B75: =IF(ISERR(B74/$B$1870),"",B74/B1870) -> 5.0645161 | C75: =IF(ISERR(C74/$B$1870),"",C74/C1870) -> 5.2857143 | D75: =IF(ISERR(D74/$B$1870),"",D74/D1870) -> 4 | E75: =IF(ISERR(E74/$B$1870),"",E74/E1870) -> 2.5666667 | F75: =IF(ISERR(F74/$B$1870),"",F74/F1870) -> 1.5806452 | G75: =IF(ISERR(G74/$B$1870),"",G74/G1870) -> 2.2 | H75: =IF(ISERR(H74/$B$1870),"",H74/H1870) -> 3.1935484 | I75: =IF(ISERR(I74/$B$1870),"",I74/I1870) -> 5.0967742 | ... M75: =IF(ISERR(M74/$B$1870),"",M74/M1870) -> 6.2258065 | N75: =SUM(B75:M75) -> 53.337327 | O75: =IF(N75=0,0,AVERAGE(B75:M75)) -> 4.4447773
A77: 1.8. Internações por Município
A78: Abaetetuba | B78: 3 | C78: 6 | D78: 5 | E78: 1 | F78: 1 | G78: 2 | H78: 3 | I78: 1 | J78: 1 | K78: 1 | L78: 6 | M78: 3 | N78: =SUM(B78:M78) -> 33 | O78: =IF(N78=0,0,AVERAGE(B78:M78)) -> 2.75
A79: Abel Figueiredo | B79: 0 | C79: 0 | D79: 0 | E79: 0 | F79: 0 | G79: 0 | H79: 0 | I79: 0 | J79: 1 | K79: 0 | L79: 0 | M79: 0 | N79: =SUM(B79:M79) -> 1 | O79: =IF(N79=0,0,AVERAGE(B79:M79)) -> 0.083333333
A80: Acará | B80: 1 | C80: 2 | D80: 0 | E80: 0 | F80: 0 | G80: 0 | H80: 1 | I80: 1 | J80: 1 | K80: 3 | L80: 1 | M80: 0 | N80: =SUM(B80:M80) -> 10 | O80: =IF(N80=0,0,AVERAGE(B80:M80)) -> 0.83333333
A81: Almeirim | B81: 0 | C81: 0 | D81: 0 | E81: 0 | F81: 0 | G81: 0 | H81: 0 | I81: 0 | J81: 0 | K81: 0 | L81: 0 | M81: 1 | N81: =SUM(B81:M81) -> 1 | O81: =IF(N81=0,0,AVERAGE(B81:M81)) -> 0.083333333
A82: Altamira | B82: 1 | C82: 4 | D82: 0 | E82: 0 | F82: 0 | G82: 0 | H82: 0 | I82: 0 | J82: 0 | K82: 1 | L82: 0 | M82: 0 | N82: =SUM(B82:M82) -> 6 | O82: =IF(N82=0,0,AVERAGE(B82:M82)) -> 0.5
A83: Ananindeua | B83: 13 | C83: 5 | D83: 12 | E83: 13 | F83: 3 | G83: 5 | H83: 12 | I83: 19 | J83: 14 | K83: 18 | L83: 13 | M83: 18 | N83: =SUM(B83:M83) -> 145 | O83: =IF(N83=0,0,AVERAGE(B83:M83)) -> 12.083333
A84: Aurora do Pará | B84: 0 | C84: 3 | D84: 0 | E84: 0 | F84: 0 | G84: 0 | H84: 0 | I84: 0 | J84: 1 | K84: 1 | L84: 1 | M84: 1 | N84: =SUM(B84:M84) -> 7 | O84: =IF(N84=0,0,AVERAGE(B84:M84)) -> 0.58333333
A85: Bagre | B85: 0 | C85: 0 | D85: 0 | E85: 0 | F85: 0 | G85: 0 | H85: 1 | I85: 1 | J85: 0 | K85: 0 | L85: 0 | M85: 0 | N85: =SUM(B85:M85) -> 2 | O85: =IF(N85=0,0,AVERAGE(B85:M85)) -> 0.16666667
A86: Baião | B86: 0 | C86: 0 | D86: 0 | E86: 1 | F86: 1 | G86: 1 | H86: 1 | I86: 1 | J86: 1 | K86: 0 | L86: 0 | M86: 0 | N86: =SUM(B86:M86) -> 6 | O86: =IF(N86=0,0,AVERAGE(B86:M86)) -> 0.5
A87: Bannach | B87: 0 | C87: 0 | D87: 0 | E87: 0 | F87: 0 | G87: 0 | H87: 0 | I87: 0 | J87: 0 | K87: 0 | L87: 2 | M87: 0 | N87: =SUM(B87:M87) -> 2 | O87: =IF(N87=0,0,AVERAGE(B87:M87)) -> 0.16666667
A88: Barcarena | B88: 7 | C88: 4 | D88: 5 | E88: 2 | F88: 1 | G88: 9 | H88: 4 | I88: 6 | J88: 6 | K88: 8 | L88: 7 | M88: 6 | N88: =SUM(B88:M88) -> 65 | O88: =IF(N88=0,0,AVERAGE(B88:M88)) -> 5.4166667
A89: Belém | B89: 80 | C89: 76 | D89: 57 | E89: 34 | F89: 32 | G89: 24 | H89: 43 | I89: 71 | J89: 64 | K89: 85 | L89: 91 | M89: 67 | N89: =SUM(B89:M89) -> 724 | O89: =IF(N89=0,0,AVERAGE(B89:M89)) -> 60.333333
... A177: Outros | B177: 0 | C177: 0 | D177: 0 | E177: 1 | F177: 0 | G177: 1 | H177: 1 | I177: 0 | J177: 0 | K177: 1 | L177: 3 | M177: 0 | N177: =SUM(B177:M177) -> 7 | O177: =IF(N177=0,0,AVERAGE(B177:M177)) -> 0.58333333
A178: Total | B178: =IF(SUM(B78:B174)=0,"",SUM(B78:B174)) -> 157 | C178: =IF(SUM(C78:C174)=0,"",SUM(C78:C174)) -> 148 | D178: =IF(SUM(D78:D174)=0,"",SUM(D78:D174)) -> 124 | E178: =IF(SUM(E78:E177)=0,"",SUM(E78:E177)) -> 77 | F178: =IF(SUM(F78:F177)=0,"",SUM(F78:F174)) -> 49 | G178: =IF(SUM(G78:G177)=0,"",SUM(G78:G177)) -> 66 | H178: =IF(SUM(H78:H177)=0,"",SUM(H78:H177)) -> 99 | I178: =IF(SUM(I78:I177)=0,"",SUM(I78:I177)) -> 158 | J178: =IF(SUM(J78:J177)=0,"",SUM(J78:J177)) -> 142 | K178: =SUM(K78:K177) -> 195 | L178: =SUM(L78:L177) -> 213 | M178: =IF(SUM(M78:M177)=0,"",SUM(M78:M177)) -> 193 | N178: =SUM(N78:N177) -> 1621 | O178: =SUM(O78:O177) -> 135.08333
A180: 1.9 Internações por Faixa etária
A181: De 01 a 13 anos | B181: 0 | C181: 0 | D181: 1 | E181: 0 | F181: 0 | G181: 0 | H181: 0 | I181: 0 | J181: 0 | K181: 0 | L181: 0 | M181: 0 | N181: =SUM(B181:M181) -> 1 | O181: =IF(N181=0,0,AVERAGE(B181:M181)) -> 0.083333333
A182: De 14 a 24 anos | B182: 11 | C182: 9 | D182: 8 | E182: 5 | F182: 3 | G182: 4 | H182: 14 | I182: 17 | J182: 8 | K182: 11 | L182: 18 | M182: 11 | N182: =SUM(B182:M182) -> 119 | O182: =IF(N182=0,0,AVERAGE(B182:M182)) -> 9.9166667
A183: De 25 a 35 anos | B183: 13 | C183: 19 | D183: 19 | E183: 15 | F183: 8 | G183: 6 | H183: 14 | I183: 28 | J183: 20 | K183: 31 | L183: 26 | M183: 36 | N183: =SUM(B183:M183) -> 235 | O183: =IF(N183=0,0,AVERAGE(B183:M183)) -> 19.583333
A184: De 36 a 46 anos | B184: 25 | C184: 30 | D184: 24 | E184: 10 | F184: 7 | G184: 8 | H184: 21 | I184: 41 | J184: 35 | K184: 54 | L184: 59 | M184: 54 | N184: =SUM(B184:M184) -> 368 | O184: =IF(N184=0,0,AVERAGE(B184:M184)) -> 30.666667
A185: De 47 a 57 anos | B185: 37 | C185: 30 | D185: 23 | E185: 10 | F185: 12 | G185: 14 | H185: 17 | I185: 28 | J185: 29 | K185: 43 | L185: 51 | M185: 36 | N185: =SUM(B185:M185) -> 330 | O185: =IF(N185=0,0,AVERAGE(B185:M185)) -> 27.5
A186: De 58 a 68 anos | B186: 35 | C186: 29 | D186: 22 | E186: 20 | F186: 3 | G186: 16 | H186: 17 | I186: 23 | J186: 27 | K186: 37 | L186: 37 | M186: 25 | N186: =SUM(B186:M186) -> 291 | O186: =IF(N186=0,0,AVERAGE(B186:M186)) -> 24.25
A187: De 69 a 79 anos | B187: 26 | C187: 19 | D187: 15 | E187: 8 | F187: 11 | G187: 15 | H187: 10 | I187: 14 | J187: 16 | K187: 16 | L187: 17 | M187: 26 | N187: =SUM(B187:M187) -> 193 | O187: =IF(N187=0,0,AVERAGE(B187:M187)) -> 16.083333
A188: De 80 a 110 anos | B188: 10 | C188: 12 | D188: 12 | E188: 9 | F188: 5 | G188: 3 | H188: 6 | I188: 7 | J188: 7 | K188: 3 | L188: 5 | M188: 5 | N188: =SUM(B188:M188) -> 84 | O188: =IF(N188=0,0,AVERAGE(B188:M188)) -> 7
A189: Total | B189: =IF(SUM(B181:B188)=0,"",SUM(B181:B188)) -> 157 | C189: =IF(SUM(C181:C188)=0,"",SUM(C181:C188)) -> 148 | D189: =IF(SUM(D181:D188)=0,"",SUM(D181:D188)) -> 124 | E189: =IF(SUM(E181:E188)=0,"",SUM(E181:E188)) -> 77 | F189: =IF(SUM(F181:F188)=0,"",SUM(F181:F188)) -> 49 | G189: =IF(SUM(G181:G188)=0,"",SUM(G181:G188)) -> 66 | H189: =IF(SUM(H181:H188)=0,"",SUM(H181:H188)) -> 99 | I189: =IF(SUM(I181:I188)=0,"",SUM(I181:I188)) -> 158 | ... M189: =IF(SUM(M181:M188)=0,"",SUM(M181:M188)) -> 193 | N189: =SUM(N181:N188) -> 1621 | O189: =SUM(O181:O188) -> 135.08333
A191: 1.10. Altas Melhoradas Por Especialidade
A192: Cardiologia | B192: 0 | C192: 1 | D192: 1 | E192: 4 | F192: 1 | G192: 10 | H192: 5 | I192: 0 | J192: 3 | K192: 1 | L192: 0 | M192: 1 | N192: =SUM(B192:M192) -> 27 | O192: =IF(N192=0,0,AVERAGE(B192:M192)) -> 2.25
A193: Cirurgia Bariátrica | B193: 0 | C193: 4 | D193: 0 | E193: 0 | F193: 1 | G193: 3 | H193: 0 | I193: 4 | J193: 2 | K193: 14 | L193: 10 | M193: 22 | N193: =SUM(B193:M193) -> 60 | O193: =IF(N193=0,0,AVERAGE(B193:M193)) -> 5
A194: Cirurgia de Cabeça e Pescoço | B194: 0 | C194: 1 | D194: 1 | E194: 0 | F194: 0 | G194: 0 | H194: 0 | I194: 0 | J194: 0 | K194: 1 | L194: 0 | M194: 2 | N194: =SUM(B194:M194) -> 5 | O194: =IF(N194=0,0,AVERAGE(B194:M194)) -> 0.41666667
A195: Cirurgia Geral | B195: 64 | C195: 80 | D195: 67 | E195: 14 | F195: 2 | G195: 5 | H195: 16 | I195: 79 | J195: 63 | K195: 139 | L195: 123 | M195: 134 | N195: =SUM(B195:M195) -> 786 | O195: =IF(N195=0,0,AVERAGE(B195:M195)) -> 65.5
A196: Cirurgia Plástica | B196: 7 | C196: 1 | D196: 1 | E196: 1 | F196: 0 | G196: 1 | H196: 0 | I196: 0 | J196: 1 | K196: 1 | L196: 0 | M196: 0 | N196: =SUM(B196:M196) -> 13 | O196: =IF(N196=0,0,AVERAGE(B196:M196)) -> 1.0833333
A197: Cirurgia Vascular | B197: 0 | C197: 1 | D197: 0 | E197: 0 | F197: 2 | G197: 0 | H197: 1 | I197: 0 | J197: 1 | K197: 0 | L197: 0 | M197: 0 | N197: =SUM(B197:M197) -> 5 | O197: =IF(N197=0,0,AVERAGE(B197:M197)) -> 0.41666667
A198: Clínica Médica | B198: 22 | C198: 17 | D198: 28 | E198: 14 | F198: 15 | G198: 18 | H198: 36 | I198: 16 | J198: =24+4 -> 28 | K198: =19+4 -> 23 | L198: =10+20+4 -> 34 | M198: 19 | N198: =SUM(B198:M198) -> 270 | O198: =IF(N198=0,0,AVERAGE(B198:M198)) -> 22.5
A199: Coloproctologia | B199: 6 | C199: 6 | D199: 2 | E199: 1 | F199: 0 | G199: 0 | H199: 2 | I199: 9 | J199: 4 | K199: 4 | L199: 11 | M199: 8 | N199: =SUM(B199:M199) -> 53 | O199: =IF(N199=0,0,AVERAGE(B199:M199)) -> 4.4166667
...

Sheet % de Ocupação
A1: PLANO ESTATÍSTICO | B1: JAN | C1: FEV | D1: MAR | E1: ABR | F1: MAI | G1: JUN | H1: JUL | I1: AGO | J1: SET | K1: OUT | L1: NOV | M1: DEZ
A2: 1.21. Porcentagem de Ocupação por Unidade
A3: Clínica Cirúrgica | B3: =Plano_Estatístico_2020_HJB!B333 -> 0.50322581 | C3: =Plano_Estatístico_2020_HJB!C333 -> 0.54642857 | D3: =Plano_Estatístico_2020_HJB!D333 -> 0.41129032 | E3: =Plano_Estatístico_2020_HJB!E333 -> 0.185 | F3: =Plano_Estatístico_2020_HJB!F333 -> 0.25645161 | G3: =Plano_Estatístico_2020_HJB!G333 -> 0.555 | H3: =Plano_Estatístico_2020_HJB!H333 -> 0.57903226 | I3: =Plano_Estatístico_2020_HJB!I333 -> 0.71774194 | ... M3: =Plano_Estatístico_2020_HJB!M333 -> 0.64112903
A4: Clínica Médica | B4: =Plano_Estatístico_2020_HJB!B334 -> 0.82016129 | C4: =Plano_Estatístico_2020_HJB!C334 -> 0.80089286 | D4: =Plano_Estatístico_2020_HJB!D334 -> 0.76129032 | E4: =Plano_Estatístico_2020_HJB!E334 -> 0.635 | F4: =Plano_Estatístico_2020_HJB!F334 -> 0.50564516 | G4: =Plano_Estatístico_2020_HJB!G334 -> 0.5625 | H4: =Plano_Estatístico_2020_HJB!H334 -> 0.70483871 | I4: =Plano_Estatístico_2020_HJB!I334 -> 0.77741935 | ... M4: =Plano_Estatístico_2020_HJB!M334 -> 0.67741935
A5: UTI Adulto | B5: =Plano_Estatístico_2020_HJB!B335 -> 0.63548387 | C5: =Plano_Estatístico_2020_HJB!C335 -> 0.61071429 | D5: =Plano_Estatístico_2020_HJB!D335 -> 0.58064516 | E5: =Plano_Estatístico_2020_HJB!E335 -> 0.42666667 | F5: =Plano_Estatístico_2020_HJB!F335 -> 0.42580645 | G5: =Plano_Estatístico_2020_HJB!G335 -> 0.46333333 | H5: =Plano_Estatístico_2020_HJB!H335 -> 0.48064516 | I5: =Plano_Estatístico_2020_HJB!I335 -> 0.61612903 | ... M5: =Plano_Estatístico_2020_HJB!M335 -> 0.50645161
A6: Porcentagem Geral de Ocupação | B6: =Plano_Estatístico_2020_HJB!B336 -> 0.70322581 | C6: =Plano_Estatístico_2020_HJB!C336 -> 0.70102041 | D6: =Plano_Estatístico_2020_HJB!D336 -> 0.63548387 | E6: =Plano_Estatístico_2020_HJB!E336 -> 0.47666667 | F6: =Plano_Estatístico_2020_HJB!F336 -> 0.42304147 | G6: =Plano_Estatístico_2020_HJB!G336 -> 0.54619048 | H6: =Plano_Estatístico_2020_HJB!H336 -> 0.63686636 | I6: =Plano_Estatístico_2020_HJB!I336 -> 0.73732719 | ... M6: =Plano_Estatístico_2020_HJB!M336 -> 0.63225806

Sheet % de Ocupação Trimestral
B1: Unidade/ Mês | C1: JAN | D1: FEV | E1: MAR | G1: Porcentagem Geral de Ocupação (PGO)
A2: Paciente – dia | B2: Clínica Cirúrgica | C2: =Plano_Estatístico_2020_HJB!B40 -> 312 | D2: =Plano_Estatístico_2020_HJB!C40 -> 306 | E2: =Plano_Estatístico_2020_HJB!D40 -> 255 | G2: Unidade/ Mês | H2: JAN | I2: FEV | J2: MAR
B3: Clínica Médica | C3: =Plano_Estatístico_2020_HJB!B41 -> 1017 | D3: =Plano_Estatístico_2020_HJB!C41 -> 897 | E3: =Plano_Estatístico_2020_HJB!D41 -> 944 | G3: Clínica cirúrgica | H3: =Plano_Estatístico_2020_HJB!B333 -> 0.50322581 | I3: =Plano_Estatístico_2020_HJB!C333 -> 0.54642857 | J3: =Plano_Estatístico_2020_HJB!D333 -> 0.41129032
B4: UTI | C4: =Plano_Estatístico_2020_HJB!B42 -> 197 | D4: =Plano_Estatístico_2020_HJB!C42 -> 171 | E4: =Plano_Estatístico_2020_HJB!D42 -> 180 | G4: Clínica Médica | H4: =Plano_Estatístico_2020_HJB!B334 -> 0.82016129 | I4: =Plano_Estatístico_2020_HJB!C334 -> 0.80089286 | J4: =Plano_Estatístico_2020_HJB!D334 -> 0.76129032
A5: Total | B5: - | C5: JAN | D5: FEV | E5: MAR | G5: UTI | H5: =Plano_Estatístico_2020_HJB!B335 -> 0.63548387 | I5: =Plano_Estatístico_2020_HJB!C335 -> 0.61071429 | J5: =Plano_Estatístico_2020_HJB!D335 -> 0.58064516
A6: Leito – dia | B6: Clínica cirúrgica | C6: =Plano_Estatístico_2020_HJB!B15 -> 620 | D6: =Plano_Estatístico_2020_HJB!C15 -> 560 | E6: =Plano_Estatístico_2020_HJB!D15 -> 620 | G6: Geral | H6: =Plano_Estatístico_2020_HJB!B336 -> 0.70322581 | I6: =Plano_Estatístico_2020_HJB!C336 -> 0.70102041 | J6: =Plano_Estatístico_2020_HJB!D336 -> 0.63548387
B7: Clínica Médica | C7: =Plano_Estatístico_2020_HJB!B16 -> 1240 | D7: =Plano_Estatístico_2020_HJB!C16 -> 1120 | E7: =Plano_Estatístico_2020_HJB!D16 -> 1240
B8: UTI | C8: =Plano_Estatístico_2020_HJB!B17 -> 310 | D8: =Plano_Estatístico_2020_HJB!C17 -> 280 | E8: =Plano_Estatístico_2020_HJB!D17 -> 310
A9: Total | B9: - | C9: =SUM(C6:C8) -> 2170 | D9: =SUM(D6:D8) -> 1960 | E9: =SUM(E6:E8) -> 2170

Sheet Média de Permanência
A1: PLANO ESTATÍSTICO | B1: JAN | C1: FEV | D1: MAR | E1: ABR | F1: MAI | G1: JUN | H1: JUL | I1: AGO | J1: SET | K1: OUT | L1: NOV | M1: DEZ
A2: 1.22. Média de Permanência por Unidade
A3: Clínica Cirúrgica | B3: =Plano_Estatístico_2020_HJB!B341 -> 3.3913043 | C3: =Plano_Estatístico_2020_HJB!C341 -> 2.8073394 | D3: =Plano_Estatístico_2020_HJB!D341 -> 3.0357143 | E3: =Plano_Estatístico_2020_HJB!E341 -> 4.2692308 | F3: =Plano_Estatístico_2020_HJB!F341 -> 6.36 | G3: =Plano_Estatístico_2020_HJB!G341 -> 10.40625 | H3: =Plano_Estatístico_2020_HJB!H341 -> 7.8043478 | I3: =Plano_Estatístico_2020_HJB!I341 -> 3.9380531 | ... M3: =Plano_Estatístico_2020_HJB!M341 -> 4.2741935
A4: Clínica Médica | B4: =Plano_Estatístico_2020_HJB!B342 -> 16.142857 | C4: =Plano_Estatístico_2020_HJB!C342 -> 14.015625 | D4: =Plano_Estatístico_2020_HJB!D342 -> 14.75 | E4: =Plano_Estatístico_2020_HJB!E342 -> 11.545455 | F4: =Plano_Estatístico_2020_HJB!F342 -> 14.928571 | G4: =Plano_Estatístico_2020_HJB!G342 -> 11.25 | H4: =Plano_Estatístico_2020_HJB!H342 -> 13.242424 | I4: =Plano_Estatístico_2020_HJB!I342 -> 16.62069 | ... M4: =Plano_Estatístico_2020_HJB!M342 -> 15
A5: UTI Adulto | B5: =Plano_Estatístico_2020_HJB!B343 -> 5.7941176 | C5: =Plano_Estatístico_2020_HJB!C343 -> 4.8857143 | D5: =Plano_Estatístico_2020_HJB!D343 -> 6.9230769 | E5: =Plano_Estatístico_2020_HJB!E343 -> 7.5294118 | F5: =Plano_Estatístico_2020_HJB!F343 -> 7.7647059 | G5: =Plano_Estatístico_2020_HJB!G343 -> 5.3461538 | H5: =Plano_Estatístico_2020_HJB!H343 -> 5.137931 | I5: =Plano_Estatístico_2020_HJB!I343 -> 5.3055556 | ... M5: =Plano_Estatístico_2020_HJB!M343 -> 6.826087
A6: Média Geral de Permanência | B6: =Plano_Estatístico_2020_HJB!B344 -> 8.0740741 | C6: =Plano_Estatístico_2020_HJB!C344 -> 6.6057692 | D6: =Plano_Estatístico_2020_HJB!D344 -> 7.9252874 | E6: =Plano_Estatístico_2020_HJB!E344 -> 9.1834862 | F6: =Plano_Estatístico_2020_HJB!F344 -> 10.928571 | G6: =Plano_Estatístico_2020_HJB!G344 -> 9.720339 | H6: =Plano_Estatístico_2020_HJB!H344 -> 9.8014184 | I6: =Plano_Estatístico_2020_HJB!I344 -> 7.7294686 | ... M6: =Plano_Estatístico_2020_HJB!M344 -> 5.7890295
O16: p

Sheet Resumo_nov.2019
A1: Resumo dos Serviços - NOV/2019 | B1: JAN | C1: FEV | D1: MAR | E1: ABR | F1: MAI | G1: JUN | H1: JUL | I1: AGO | J1: SET | K1: OUT | L1: NOV | M1: ACM | N1: MÉDIA
A2: Total de Saídas Hospitalares | B2: 184 | C2: 192 | D2: 169 | E2: 175 | F2: 174 | G2: 160 | H2: 189 | I2: 181 | J2: 168 | K2: 162 | L2: 164 | M2: 1918 | N2: 174.36364
A3: Consultas Ambulatórias | B3: 2693 | C3: 2763 | D3: 2587 | E3: 3005 | F3: 3200 | G3: 2941 | H3: 3133 | I3: 3268 | J3: 3204 | K3: 3466 | L3: 3047 | M3: 33307 | N3: 3027.9091
A4: SADT Internos | B4: 9693 | C4: 8920 | D4: 8985 | E4: 9416 | F4: 9567 | G4: 8830 | H4: 9436 | I4: 8983 | J4: 8706 | K4: 8593 | L4: 8012 | M4: 99141 | N4: 9012.8182
A5: SADT Externos | B5: 13678 | C5: 13183 | D5: 13615 | E5: 13987 | F5: 14182 | G5: 13822 | H5: 13926 | I5: 14014 | J5: 14112 | K5: 14754 | L5: 12824 | M5: 152097 | N5: 13827
A6: Fisioterapia (Sessões) | B6: 2289 | C6: 2370 | D6: 2424 | E6: 2792 | F6: 3679 | G6: 3792 | H6: 2110 | I6: 2180 | J6: 1805 | K6: 1515 | L6: 1485 | M6: 26441 | N6: 2403.7273
A7: Fonoaudiologia (Sessões) | B7: 144 | C7: 139 | D7: 168 | E7: 194 | F7: 233 | G7: 213 | H7: 147 | I7: 139 | J7: 129 | K7: 107 | L7: 113 | M7: 1726 | N7: 156.90909
A8: Hemoterapia | B8: 47 | C8: 120 | D8: 47 | E8: 46 | F8: 70 | G8: 72 | H8: 79 | I8: 49 | J8: 81 | K8: 52 | L8: 80 | M8: 743 | N8: 67.545455
A9: Hemodiálise (Sessões) | B9: 35 | C9: 30 | D9: 59 | E9: 61 | F9: 84 | G9: 32 | H9: 48 | I9: 62 | J9: 50 | K9: 34 | L9: 18 | M9: 513 | N9: 46.636364
A10: Pulsoterapia | B10: 30 | C10: 31 | D10: 32 | E10: 23 | F10: 34 | G10: 31 | H10: 29 | I10: 31 | J10: 32 | K10: 39 | L10: 46 | M10: 358 | N10: 32.545455
A11: S.A.U - Serviço de Atenção ao Usuário | B11: 1881 | C11: 1983 | D11: 1854 | E11: 2075 | F11: 2129 | G11: 2081 | H11: 2207 | I11: 1138 | J11: 1578 | K11: 1843 | L11: 1853 | M11: 20622 | N11: 1874.7273
A12: Serviço Social | B12: 2837 | C12: 2011 | D12: 2394 | E12: 2719 | F12: 2776 | G12: 2355 | H12: 2236 | I12: 2278 | J12: 2698 | K12: 2600 | L12: 2182 | M12: 27086 | N12: 2462.3636
A13: Serviço Nutricional | B13: 844 | C13: 673 | D13: 579 | E13: 642 | F13: 832 | G13: 738 | H13: 842 | I13: 616 | J13: 576 | K13: 714 | L13: 528 | M13: 7584 | N13: 689.45455
... A16: Cirurgias Realizadas | B16: 186 | C16: 194 | D16: 171 | E16: 202 | F16: 183 | G16: 183 | H16: 196 | I16: 189 | J16: 199 | K16: 181 | L16: 174 | M16: 2058 | N16: 187.09091
