Workbook

Sheet Sumário

Sheet Sumário Provisório
A1: PLANO ESTATÍSTICO - HOSPITAL JEAN BITAR - INDSH - SESPA
A2: ANO: | B2: 2018
A3: GESTORES: | B3: GIOVANE MERENDA | C3: DIRETOR EXECUTIVO
B4: RODRIGO FRÖHLICH | C4: DIRETOR ADMINISTRATIVO E FINANCEIRO
B5: DENISE VILLACORTA | C5: DIRETORA TÉCNICA
B6: CAROLINA KAHWAGE | C6: DIRETORA CLÍNICA
B7: SOLANGE ANTONELLI | C7: GERENTE ASSISTÊNCIAL
A8: SUMÁRIO
A9: 1. | B9: Estatística de Pacientes Internados | D9: 2. | E9: Serviços Assistenciais | F9: Serviços Assistenciais | G9: 3. | H9: Serviço de Apoio Diagnóstico Terapêutico | I9: Serviço de Apoio Diagnóstico Terapêutico | J9: 4. | K9: Serviços de Apoio
A10: 1.1. | B10: Nº de Leitos por Unidade | C10: Nº de Leitos por Unidade | D10: 2.1. | E10: Centro Cirúrgico | F10: Centro Cirúrgico | G10: 3.1. | H10: Anátomo Patológico | I10: Anátomo Patológico | J10: 4.1. | K10: Nutrição e Dietética
A11: 1.2. | B11: Nº de Leitos-Dia por Unidade | C11: Nº de Leitos-Dia por Unidade | D11: 2.2. | E11: Anestesia | F11: Anestesia | G11: 3.2. | H11: Bomba de Insulina | J11: 4.2. | K11: Processamento da Roupa
A12: 1.3. | B12: Nº de Pacientes-Dia por Especialidade | C12: Nº de Pacientes-Dia por Especialidade | D12: 2.3. | E12: Centro Cirúrgico - Procedimento Endoscópico | F12: Centro Cirúrgico - Procedimento Endoscópico | G12: 3.3. | H12: Broncoscopia | I12: Broncoscopia | J12: 4.3. | K12: Manutenção
A13: 1.4. | B13: Nº de Pacientes-Dia por Unidade | C13: Nº de Pacientes-Dia por Unidade | D13: 2.4. | E13: Anestesia | F13: Anestesia | G13: 3.4. | H13: Densitometria Óssea | I13: Densitometria Óssea | J13: 4.4. | K13: Telefonia
A14: 1.5. | B14: Média Diária de Pacientes por Unidade | C14: Média Diária de Pacientes por Unidade | D14: 2.5. | E14: Central de Material Esterilizado | F14: Central de Material Esterilizado | G14: 3.5. | H14: Ecocardiograma | I14: Ecocardiograma | J14: 4.5. | K14: Encadernação
A15: 1.6. | B15: Internações por Especialidade | C15: Internações por Especialidade | D15: 2.6. | E15: Ambulatório de Referência e Pronto Atendimento | F15: Ambulatório de Referência e Pronto Atendimento | G15: 3.6. | H15: ECG - Eletrocardiograma | I15: ECG - Eletrocardiograma | J15: 4.6. | K15: Plastificação
A16: 1.7. | B16: Internações por Unidade | C16: Internações por Unidade | D16: 2.6.2. | E16: Atendimento por Especialidades – Ambulatório - Consultas Médicas | F16: Atendimento por Especialidades – Ambulatório - Consultas Médicas | G16: 3.7. | H16: Endoscopia Digestiva Alta | I16: Endoscopia Digestiva Alta | J16: 4.7. | K16: Cópias
A17: 1.8. | B17: Internações por Município | C17: Internações por Município | D17: 2.6.3. | E17: Atendimento por Especialidades – Ambulatório - Consultas Não Médicas | F17: Atendimento por Especialidades – Ambulatório - Consultas Não Médicas | G17: 3.8. | H17: Endoscopia Digestiva Baixa - Colonoscopia | I17: Endoscopia Digestiva Baixa - Colonoscopia
A18: 1.9. | B18: Internações por Faixa etária | C18: Internações por Faixa etária | D18: 2.6.4. | E18: Procedimentos Realizados no ambulatório | F18: Procedimentos Realizados no ambulatório | G18: 3.9. | H18: Escleroterapia Ecoviada com Espuma | I18: Escleroterapia Ecoviada com Espuma | J18: 5. | K18: Serviços Administrativos
A19: 1.10. | B19: Altas Melhoradas Por Especialidade | C19: Altas Melhoradas Por Especialidade | D19: 2.7. | E19: Atividades Sociais | F19: Atividades Sociais | G19: 3.10. | H19: Espirometria - Prova de Função Pulmonar | I19: Espirometria - Prova de Função Pulmonar
A20: 1.11. | B20: Altas por Unidade (sem transferências) | C20: Altas por Unidade (sem transferências) | D20: 2.7.1. | E20: S.A.U | F20: S.A.U | G20: 3.11. | H20: Holter de Glicemia | I20: Holter de Glicemia | J20: 6. | K20: Resumo Geral de Informações
A21: 1.12. | B21: Óbitos por Especialidade | C21: Óbitos por Especialidade | D21: 2.7.2. | E21: Serviço Social | F21: Serviço Social | G21: 3.12. | H21: Laboratório de Análises Clínicas | I21: Laboratório de Análises Clínicas
A22: 1.13. | B22: Óbitos por Unidade | C22: Óbitos por Unidade | D22: 2.7.3. | E22: Serviço Nutricional | F22: Serviço Nutricional | G22: 3.13. | H22: Mamografia | I22: Mamografia
A23: 1.14. | B23: Óbitos Não Institucionais p/ Especialidade (-48h) | C23: Óbitos Não Institucionais p/ Especialidade (-48h) | D23: 2.7.4. | E23: Serviço Psicologia | F23: Serviço Psicologia | G23: 3.14. | H23: MAPA - Monitorização Ambulatorial de Pressão Arterial | I23: MAPA - Monitorização Ambulatorial de Pressão Arterial
A24: 1.15. | B24: Óbitos Institucionais p/ Especialidade (+48h) | C24: Óbitos Institucionais p/ Especialidade (+48h) | D24: 2.7.5. | E24: Educação Permanente | F24: Educação Permanente | G24: 3.15. | H24: Medicina Nuclear - Cintilografia | I24: Medicina Nuclear - Cintilografia
A25: 1.16. | B25: Óbitos por Faixa Etária | C25: Óbitos por Faixa Etária | G25: 3.16. | H25: Medicina Nuclear - Iodoterapia | I25: Medicina Nuclear - Iodoterapia
A26: 1.17. | B26: Transferência Interna por Unidade (Entrada) | C26: Transferência Interna por Unidade (Entrada) | G26: 3.17. | H26: PAAF - Biópsia de Tireóide | I26: PAAF - Biópsia de Tireóide
A27: 1.18. | B27: Transferência Interna por Unidade (Saída) | C27: Transferência Interna por Unidade (Saída) | G27: 3.18. | H27: Polissonografia | I27: Polissonografia
A28: 1.19. | B28: Pacientes Saídos p/ Especialidade | C28: Pacientes Saídos p/ Especialidade | G28: 3.19. | H28: Radiologia - Raio-X | I28: Radiologia - Raio-X
A29: 1.20. | B29: Pacientes Saídos por Unidade | C29: Pacientes Saídos por Unidade | G29: 3.20. | H29: Ressonância Magnética | I29: Ressonância Magnética
A30: 1.21. | B30: Porcentagem de Ocupação por Unidade | C30: Porcentagem de Ocupação por Unidade | G30: 3.21. | H30: Teste Ergométrico | I30: Teste Ergométrico
A31: 1.22. | B31: Média de Permanência por Unidade | C31: Média de Permanência por Unidade | G31: 3.22. | H31: Tomografia | I31: Tomografia
A32: 1.23. | B32: Índice de Giro de Leitos p/ Unidade | C32: Índice de Giro de Leitos p/ Unidade | G32: 3.23. | H32: Ultrassonografia | I32: Ultrassonografia
A33: 1.24. | B33: Taxa de Mortalidade por Unidade | C33: Taxa de Mortalidade por Unidade | G33: 3.24. | H33: Fisioterapia | I33: Fisioterapia
A34: 1.25. | B34: Taxa de Mortalidade por Tipo | C34: Taxa de Mortalidade por Tipo | G34: 3.25. | H34: Fonoaudiologia | I34: Fonoaudiologia
G35: 3.26. | H35: Terapia Ocupacional | I35: Terapia Ocupacional
G36: 3.27. | H36: Hemoterapia - Agência Transfusional | I36: Hemoterapia - Agência Transfusional
G37: 3.28. | H37: Hemodiálise | I37: Hemodiálise
G38: 3.29. | H38: Pulsoterapia | I38: Pulsoterapia
G39: 3.30. | H39: Total SADT Internos | I39: Total SADT Internos
G40: 3.31. | H40: Total SADT Externos | I40: Total SADT Externos
G41: 3.32.2 | H41: TOTAL GERAL SADT | I41: TOTAL GERAL SADT
G42: 3.33. | H42: Total Tratamentos Internos | I42: Total Tratamentos Internos

Sheet Plano_Estatístico_2021_HJB
A1: HOSPITAL JEAN BITAR – HJB
A3: PLANO ESTATÍSTICO 2021
A5: PLANO ESTATÍSTICO | B5: JAN | C5: FEV | D5: MAR | E5: ABR | F5: MAI | G5: JUN | H5: JUL | I5: AGO | J5: SET | K5: OUT | L5: NOV | M5: DEZ | N5: ACUM | O5: MÉDIA
A6: 1. Estatística de Pacientes Internados
A8: 1.1. Nº de Leitos por Unidade | D8: LEITO COVID | E8: LEITO COVID
A9: Clínica Cirúrgica | B9: 40 | C9: 40 | D9: 40 | E9: 40 | F9: 40 | G9: 40 | H9: 40 | I9: 40 | J9: 40 | K9: 40 | L9: 40 | M9: 40 | N9: =SUM(B9:M9) -> 480 | O9: =IF(N9=0,0,AVERAGE(B9:M9)) -> 40
A10: Clínica Médica | B10: 20 | C10: 20 | D10: 20 | E10: 20 | F10: 20 | G10: 20 | H10: 20 | I10: 20 | J10: 20 | K10: 20 | L10: 20 | M10: 20 | N10: =SUM(B10:M10) -> 240 | O10: =IF(N10=0,0,AVERAGE(B10:M10)) -> 20
A11: UTI Adulto | B11: 10 | C11: 10 | D11: 10 | E11: 10 | F11: 10 | G11: 10 | H11: 10 | I11: 10 | J11: 10 | K11: 10 | L11: 10 | M11: 10 | N11: =SUM(B11:M11) -> 120 | O11: =IF(N11=0,0,AVERAGE(B11:M11)) -> 10
A12: Total | B12: =IF(SUM(B9:B11)=0,"",SUM(B9:B11)) -> 70 | C12: =IF(SUM(C9:C11)=0,"",SUM(C9:C11)) -> 70 | D12: =IF(SUM(D9:D11)=0,"",SUM(D9:D11)) -> 70 | E12: =IF(SUM(E9:E11)=0,"",SUM(E9:E11)) -> 70 | F12: =IF(SUM(F9:F11)=0,"",SUM(F9:F11)) -> 70 | G12: =IF(SUM(G9:G11)=0,"",SUM(G9:G11)) -> 70 | H12: =IF(SUM(H9:H11)=0,"",SUM(H9:H11)) -> 70 | I12: =IF(SUM(I9:I11)=0,"",SUM(I9:I11)) -> 70 | ... M12: =IF(SUM(M9:M11)=0,"",SUM(M9:M11)) -> 70 | N12: =SUM(N9:N11) -> 840 | O12: =SUM(O9:O11) -> 70
A14: 1.2. Nº de Leitos-Dia por Unidade | D14: LEITO COVID | E14: LEITO COVID
A15: Clínica Cirúrgica | B15: =IF(B9="","",B9*B1676) -> 1240 | C15: =IF(C9="","",C9*C1676) -> 1120 | D15: =IF(D9="","",D9*D1676) -> 1240 | E15: =IF(E9="","",E9*E1676) -> 1200 | F15: =IF(F9="","",F9*F1676) -> 1240 | G15: =IF(G9="","",G9*G1676) -> 1200 | H15: =IF(H9="","",H9*H1676) -> 1240 | I15: =IF(I9="","",I9*I1676) -> 1240 | ... M15: =IF(M9="","",M9*M1676) -> 1240 | N15: =SUM(B15:M15) -> 14600 | O15: =IF(N15=0,0,AVERAGE(B15:M15)) -> 1216.6667
A16: Clínica Médica | B16: =IF(B10="","",B10*B1676) -> 620 | C16: =IF(C10="","",C10*C1676) -> 560 | D16: =IF(D10="","",D10*D1676) -> 620 | E16: =IF(E10="","",E10*E1676) -> 600 | F16: =IF(F10="","",F10*F1676) -> 620 | G16: =IF(G10="","",G10*G1676) -> 600 | H16: =IF(H10="","",H10*H1676) -> 620 | I16: =IF(I10="","",I10*I1676) -> 620 | ... M16: =IF(M10="","",M10*M1676) -> 620 | N16: =SUM(B16:M16) -> 7300 | O16: =IF(N16=0,0,AVERAGE(B16:M16)) -> 608.33333
A17: UTI Adulto | B17: =IF(B11="","",B11*B1676) -> 310 | C17: =IF(C11="","",C11*C1676) -> 280 | D17: =IF(D11="","",D11*D1676) -> 310 | E17: =IF(E11="","",E11*E1676) -> 300 | F17: =IF(F11="","",F11*F1676) -> 310 | G17: =IF(G11="","",G11*G1676) -> 300 | H17: =IF(H11="","",H11*H1676) -> 310 | I17: =IF(I11="","",I11*I1676) -> 310 | ... M17: =IF(M11="","",M11*M1676) -> 310 | N17: =SUM(B17:M17) -> 3650 | O17: =IF(N17=0,0,AVERAGE(B17:M17)) -> 304.16667
A18: Total | B18: =IF(SUM(B15:B17)=0,"",SUM(B15:B17)) -> 2170 | C18: =IF(SUM(C15:C17)=0,"",SUM(C15:C17)) -> 1960 | D18: =IF(SUM(D15:D17)=0,"",SUM(D15:D17)) -> 2170 | E18: =IF(SUM(E15:E17)=0,"",SUM(E15:E17)) -> 2100 | F18: =IF(SUM(F15:F17)=0,"",SUM(F15:F17)) -> 2170 | G18: =IF(SUM(G15:G17)=0,"",SUM(G15:G17)) -> 2100 | H18: =IF(SUM(H15:H17)=0,"",SUM(H15:H17)) -> 2170 | I18: =IF(SUM(I15:I17)=0,"",SUM(I15:I17)) -> 2170 | ... M18: =IF(SUM(M15:M17)=0,"",SUM(M15:M17)) -> 2170 | N18: =SUM(N15:N17) -> 25550 | O18: =SUM(O15:O17) -> 2129.1667
A20: 1.3. Nº de Pacientes-Dia por Especialidade
A21: Cardiologia | B21: 0 | C21: 0 | D21: 18 | E21: 11 | F21: 6 | G21: 0 | H21: 0 | I21: 0 | J21: 0 | K21: 0 | L21: 9 | M21: 131 | N21: =SUM(B21:M21) -> 175 | O21: =IF(N21=0,0,AVERAGE(B21:M21)) -> 14.583333
A22: Cirurgia Bariátrica | B22: 87 | C22: 67 | D22: 26 | E22: 0 | F22: 63 | G22: 76 | H22: 49 | I22: 60 | J22: 58 | K22: 61 | L22: 34 | M22: 82 | N22: =SUM(B22:M22) -> 663 | O22: =IF(N22=0,0,AVERAGE(B22:M22)) -> 55.25
A23: Cirurgia de Cabeça e Pescoço | B23: 0 | C23: 3 | D23: 24 | E23: 0 | F23: 58 | G23: 55 | H23: 88 | I23: 119 | J23: 170 | K23: 173 | L23: 127 | M23: 134 | N23: =SUM(B23:M23) -> 951 | O23: =IF(N23=0,0,AVERAGE(B23:M23)) -> 79.25
A24: Cirurgia Geral | B24: 481 | C24: 530 | D24: 185 | E24: 102 | F24: 493 | G24: 397 | H24: 375 | I24: 500 | J24: 411 | K24: 354 | L24: 410 | M24: 370 | N24: =SUM(B24:M24) -> 4608 | O24: =IF(N24=0,0,AVERAGE(B24:M24)) -> 384
A25: Cirurgia Plástica | B25: 0 | C25: 0 | D25: 0 | E25: 0 | F25: 10 | G25: 24 | H25: 31 | I25: 27 | J25: 16 | K25: 11 | L25: 19 | M25: 14 | N25: =SUM(B25:M25) -> 152 | O25: =IF(N25=0,0,AVERAGE(B25:M25)) -> 12.666667
A26: Cirurgia Vascular | B26: 0 | C26: 0 | D26: 0 | E26: 0 | F26: 14 | G26: 0 | H26: 0 | I26: 0 | J26: 0 | K26: 0 | L26: 0 | M26: 0 | N26: =SUM(B26:M26) -> 14 | O26: =IF(N26=0,0,AVERAGE(B26:M26)) -> 1.1666667
A27: Clínica Médica | B27: 135 | C27: 205 | D27: 443 | E27: 417 | F27: 299 | G27: 281 | H27: 148 | I27: 239 | J27: 280 | K27: 356 | L27: 374 | M27: 336 | N27: =SUM(B27:M27) -> 3513 | O27: =IF(N27=0,0,AVERAGE(B27:M27)) -> 292.75
A28: Coloproctologia | B28: 237 | C28: 222 | D28: 48 | E28: 6 | F28: 171 | G28: 127 | H28: 178 | I28: 100 | J28: 89 | K28: 183 | L28: 246 | M28: 101 | N28: =SUM(B28:M28) -> 1708 | O28: =IF(N28=0,0,AVERAGE(B28:M28)) -> 142.33333
A29: Dermatologia | B29: 0 | C29: 0 | D29: 0 | E29: 0 | F29: 0 | G29: 0 | H29: 0 | I29: 0 | J29: 0 | K29: 0 | L29: 0 | M29: 0 | N29: =SUM(B29:M29) -> 0 | O29: =IF(N29=0,0,AVERAGE(B29:M29)) -> 0
A30: Endocrinologia | B30: 13 | C30: 0 | D30: 10 | E30: 20 | F30: 22 | G30: 20 | H30: 67 | I30: 50 | J30: 29 | K30: 29 | L30: 35 | M30: =29+9 -> 38 | N30: =SUM(B30:M30) -> 333 | O30: =IF(N30=0,0,AVERAGE(B30:M30)) -> 27.75
A31: Endoscopia | B31: 5 | C31: 23 | D31: 24 | E31: 22 | F31: 48 | G31: 0 | H31: 9 | I31: 0 | J31: 0 | K31: 0 | L31: 0 | M31: 0 | N31: =SUM(B31:M31) -> 131 | O31: =IF(N31=0,0,AVERAGE(B31:M31)) -> 10.916667
A32: Fígado e Vias Biliares | B32: 0 | C32: 0 | D32: 0 | E32: 0 | F32: 0 | G32: 0 | H32: 0 | I32: 0 | J32: 0 | K32: 0 | L32: 0 | M32: 0 | N32: =SUM(B32:M32) -> 0 | O32: =IF(N32=0,0,AVERAGE(B32:M32)) -> 0
A33: Geriatria | B33: 10 | C33: 11 | D33: 18 | E33: 7 | F33: 21 | G33: 0 | H33: 20 | I33: 25 | J33: 0 | K33: 0 | L33: 0 | M33: 0 | N33: =SUM(B33:M33) -> 112 | O33: =IF(N33=0,0,AVERAGE(B33:M33)) -> 9.3333333
A34: Mastologia | B34: 0 | C34: 0 | D34: 0 | E34: 0 | F34: 1 | G34: 0 | H34: 1 | I34: 2 | J34: 2 | K34: 1 | L34: 4 | M34: 2 | N34: =SUM(B34:M34) -> 13 | O34: =IF(N34=0,0,AVERAGE(B34:M34)) -> 1.0833333
A35: Medicina Intensiva | B35: 266 | C35: 212 | D35: 160 | E35: 51 | F35: 72 | G35: 147 | H35: 251 | I35: 218 | J35: 182 | K35: 153 | L35: 135 | M35: 151 | N35: =SUM(B35:M35) -> 1998 | O35: =IF(N35=0,0,AVERAGE(B35:M35)) -> 166.5
A36: Nefrologia | B36: 0 | C36: 0 | D36: 0 | E36: 0 | F36: 0 | G36: 0 | H36: 0 | I36: 0 | J36: 0 | K36: 0 | L36: 5 | M36: 15 | N36: =SUM(B36:M36) -> 20 | O36: =IF(N36=0,0,AVERAGE(B36:M36)) -> 1.6666667
A37: Nutrologia | B37: 35 | C37: 51 | D37: 316 | E37: 301 | F37: 16 | G37: 0 | H37: 0 | I37: 0 | J37: 0 | K37: 18 | L37: 0 | M37: 0 | N37: =SUM(B37:M37) -> 737 | O37: =IF(N37=0,0,AVERAGE(B37:M37)) -> 61.416667
A38: Otorinolaringologia | B38: 3 | C38: 4 | D38: 0 | E38: 0 | F38: 0 | G38: 1 | H38: 6 | I38: 7 | J38: 13 | K38: 19 | L38: 16 | M38: 19 | N38: =SUM(B38:M38) -> 88 | O38: =IF(N38=0,0,AVERAGE(B38:M38)) -> 7.3333333
A39: Plantonista / Clínica Médica | B39: 0 | C39: 0 | D39: 0 | E39: 0 | F39: 0 | G39: 0 | H39: 0 | I39: 15 | J39: 0 | K39: 0 | L39: 0 | M39: 0 | N39: =SUM(B39:M39) -> 15 | O39: =IF(N39=0,0,AVERAGE(B39:M39)) -> 1.25
A40: Pneumologia | B40: 33 | C40: 23 | D40: 26 | E40: 49 | F40: 31 | G40: 46 | H40: 76 | I40: 13 | J40: 55 | K40: 0 | L40: 46 | M40: 76 | N40: =SUM(B40:M40) -> 474 | O40: =IF(N40=0,0,AVERAGE(B40:M40)) -> 39.5
A41: Reumatologia | B41: 69 | C41: 44 | D41: 54 | E41: 138 | F41: 146 | G41: 170 | H41: 114 | I41: 51 | J41: 66 | K41: 130 | L41: 80 | M41: 53 | N41: =SUM(B41:M41) -> 1115 | O41: =IF(N41=0,0,AVERAGE(B41:M41)) -> 92.916667
A42: Total | B42: =IF(SUM(B21:B41)=0,"",SUM(B21:B41)) -> 1374 | C42: =IF(SUM(C21:C41)=0,"",SUM(C21:C41)) -> 1395 | D42: =IF(SUM(D21:D41)=0,"",SUM(D21:D41)) -> 1352 | E42: =IF(SUM(E21:E41)=0,"",SUM(E21:E41)) -> 1124 | F42: =IF(SUM(F21:F41)=0,"",SUM(F21:F41)) -> 1471 | G42: =IF(SUM(G21:G41)=0,"",SUM(G21:G41)) -> 1344 | H42: =IF(SUM(H21:H41)=0,"",SUM(H21:H41)) -> 1413 | I42: =IF(SUM(I21:I41)=0,"",SUM(I21:I41)) -> 1426 | ... M42: =IF(SUM(M21:M41)=0,"",SUM(M21:M41)) -> 1522 | N42: =SUM(N21:N41) -> 16820 | O42: =SUM(O21:O41) -> 1401.6667
A44: 1.4. Nº de Pacientes-Dia por Unidade | D44: LEITO COVID | E44: LEITO COVID
A45: Clínica Cirúrgica | B45: 758 | C45: 772 | D45: 657 | E45: 33 | F45: 785 | G45: 673 | H45: 707 | I45: 771 | J45: 670 | K45: 741 | L45: 819 | M45: 757 | N45: =SUM(B45:M45) -> 8143 | O45: =IF(N45=0,0,AVERAGE(B45:M45)) -> 678.58333
A46: Clínica Médica | B46: 459 | C46: 465 | D46: 460 | E46: 874 | F46: 497 | G46: 498 | H46: 518 | I46: 470 | J46: 533 | K46: 534 | L46: 511 | M46: 537 | N46: =SUM(B46:M46) -> 6356 | O46: =IF(N46=0,0,AVERAGE(B46:M46)) -> 529.66667
A47: UTI Adulto | B47: 157 | C47: 158 | D47: 235 | E47: 217 | F47: 189 | G47: 173 | H47: 188 | I47: 185 | J47: 168 | K47: 213 | L47: 210 | M47: 228 | N47: =SUM(B47:M47) -> 2321 | O47: =IF(N47=0,0,AVERAGE(B47:M47)) -> 193.41667
A48: Total | B48: =IF(SUM(B45:B47)=0,"",SUM(B45:B47)) -> 1374 | C48: =IF(SUM(C45:C47)=0,"",SUM(C45:C47)) -> 1395 | D48: =IF(SUM(D45:D47)=0,"",SUM(D45:D47)) -> 1352 | E48: =IF(SUM(E45:E47)=0,"",SUM(E45:E47)) -> 1124 | F48: =IF(SUM(F45:F47)=0,"",SUM(F45:F47)) -> 1471 | G48: =IF(SUM(G45:G47)=0,"",SUM(G45:G47)) -> 1344 | H48: =IF(SUM(H45:H47)=0,"",SUM(H45:H47)) -> 1413 | I48: =IF(SUM(I45:I47)=0,"",SUM(I45:I47)) -> 1426 | ... M48: =IF(SUM(M45:M47)=0,"",SUM(M45:M47)) -> 1522 | N48: =SUM(N45:N47) -> 16820 | O48: =SUM(O45:O47) -> 1401.6667
A50: 1.5. Média Diária de Pacientes por Unidade | D50: LEITO COVID | E50: LEITO COVID
A51: Clínica Cirúrgica | B51: =IF(B45/B1676=0,"",(B45/B1676)) -> 24.451613 | C51: =IF(C45/C1676=0,"",(C45/C1676)) -> 27.571429 | D51: =IF(D45/D1676=0,"",(D45/D1676)) -> 21.193548 | E51: =IF(E45/E1676=0,"",(E45/E1676)) -> 1.1 | F51: =IF(F45/F1676=0,"",(F45/F1676)) -> 25.322581 | G51: =IF(G45/G1676=0,"",(G45/G1676)) -> 22.433333 | H51: =IF(H45/H1676=0,"",(H45/H1676)) -> 22.806452 | I51: =IF(I45/I1676=0,"",(I45/I1676)) -> 24.870968 | ... M51: =IF(M45/M1676=0,"",(M45/M1676)) -> 24.419355 | N51: =SUM(B51:M51) -> 267.70584 | O51: =IF(N51=0,0,AVERAGE(B51:M51)) -> 22.30882
A52: Clínica Médica | B52: =IF(B46/B1676=0,"",(B46/B1676)) -> 14.806452 | C52: =IF(C46/C1676=0,"",(C46/C1676)) -> 16.607143 | D52: =IF(D46/D1676=0,"",(D46/D1676)) -> 14.83871 | E52: =IF(E46/E1676=0,"",(E46/E1676)) -> 29.133333 | F52: =IF(F46/F1676=0,"",(F46/F1676)) -> 16.032258 | G52: =IF(G46/G1676=0,"",(G46/G1676)) -> 16.6 | H52: =IF(H46/H1676=0,"",(H46/H1676)) -> 16.709677 | I52: =IF(I46/I1676=0,"",(I46/I1676)) -> 15.16129 | ... M52: =IF(M46/M1676=0,"",(M46/M1676)) -> 17.322581 | N52: =SUM(B52:M52) -> 209.23725 | O52: =IF(N52=0,0,AVERAGE(B52:M52)) -> 17.436438
A53: UTI Adulto | B53: =IF(B47/B1676=0,"",(B47/B1676)) -> 5.0645161 | C53: =IF(C47/C1676=0,"",(C47/C1676)) -> 5.6428571 | D53: =IF(D47/D1676=0,"",(D47/D1676)) -> 7.5806452 | E53: =IF(E47/E1676=0,"",(E47/E1676)) -> 7.2333333 | F53: =IF(F47/F1676=0,"",(F47/F1676)) -> 6.0967742 | G53: =IF(G47/G1676=0,"",(G47/G1676)) -> 5.7666667 | H53: =IF(H47/H1676=0,"",(H47/H1676)) -> 6.0645161 | I53: =IF(I47/I1676=0,"",(I47/I1676)) -> 5.9677419 | ... M53: =IF(M47/M1676=0,"",(M47/M1676)) -> 7.3548387 | N53: =SUM(B53:M53) -> 76.242857 | O53: =IF(N53=0,0,AVERAGE(B53:M53)) -> 6.3535714
A54: Total | B54: =IF(SUM(B51:B53)=0,"",SUM(B51:B53)) -> 44.322581 | C54: =IF(SUM(C51:C53)=0,"",SUM(C51:C53)) -> 49.821429 | D54: =IF(SUM(D51:D53)=0,"",SUM(D51:D53)) -> 43.612903 | E54: =IF(SUM(E51:E53)=0,"",SUM(E51:E53)) -> 37.466667 | F54: =IF(SUM(F51:F53)=0,"",SUM(F51:F53)) -> 47.451613 | G54: =IF(SUM(G51:G53)=0,"",SUM(G51:G53)) -> 44.8 | H54: =IF(SUM(H51:H53)=0,"",SUM(H51:H53)) -> 45.580645 | I54: =IF(SUM(I51:I53)=0,"",SUM(I51:I53)) -> 46 | ... M54: =IF(SUM(M51:M53)=0,"",SUM(M51:M53)) -> 49.096774 | N54: =SUM(N51:N53) -> 553.18594 | O54: =SUM(O51:O53) -> 46.098829
A56: 1.6. Internações por Especialidade
A57: Cardiologia | B57: 0 | C57: 0 | D57: 1 | E57: 1 | F57: 0 | G57: 0 | H57: 0 | I57: 0 | J57: 0 | K57: 0 | L57: 2 | M57: 13 | N57: =SUM(B57:M57) -> 17 | O57: =IF(N57=0,0,AVERAGE(B57:M57)) -> 1.4166667
A58: Cirurgia Bariátrica | B58: 17 | C58: 12 | D58: 8 | E58: 0 | F58: 18 | G58: 24 | H58: 14 | I58: 20 | J58: 21 | K58: 17 | L58: 12 | M58: 24 | N58: =SUM(B58:M58) -> 187 | O58: =IF(N58=0,0,AVERAGE(B58:M58)) -> 15.583333
A59: Cirurgia de Cabeça e Pescoço | B59: 0 | C59: 2 | D59: 3 | E59: 0 | F59: 7 | G59: 10 | H59: 22 | I59: 22 | J59: 41 | K59: 46 | L59: 35 | M59: 34 | N59: =SUM(B59:M59) -> 222 | O59: =IF(N59=0,0,AVERAGE(B59:M59)) -> 18.5
A60: Cirurgia Geral | B60: 126 | C60: 123 | D60: 46 | E60: 41 | F60: 123 | G60: 107 | H60: 92 | I60: 117 | J60: 85 | K60: 71 | L60: 63 | M60: 75 | N60: =SUM(B60:M60) -> 1069 | O60: =IF(N60=0,0,AVERAGE(B60:M60)) -> 89.083333
A61: Cirurgia Plástica | B61: 0 | C61: 0 | D61: 0 | E61: 0 | F61: 4 | G61: 10 | H61: 13 | I61: 6 | J61: 11 | K61: 4 | L61: 9 | M61: 7 | N61: =SUM(B61:M61) -> 64 | O61: =IF(N61=0,0,AVERAGE(B61:M61)) -> 5.3333333
A62: Cirurgia Vascular | B62: 0 | C62: 0 | D62: 0 | E62: 0 | F62: 1 | G62: 0 | H62: 0 | I62: 0 | J62: 0 | K62: 0 | L62: 0 | M62: 0 | N62: =SUM(B62:M62) -> 1 | O62: =IF(N62=0,0,AVERAGE(B62:M62)) -> 0.083333333
A63: Clínica Médica | B63: 4 | C63: 10 | D63: 44 | E63: 25 | F63: 17 | G63: 11 | H63: 16 | I63: 16 | J63: 19 | K63: 24 | L63: 16 | M63: 21 | N63: =SUM(B63:M63) -> 223 | O63: =IF(N63=0,0,AVERAGE(B63:M63)) -> 18.583333
A64: Coloproctologia | B64: 29 | C64: 36 | D64: 10 | E64: 3 | F64: 33 | G64: 27 | H64: 39 | I64: 35 | J64: 12 | K64: 30 | L64: 48 | M64: 18 | N64: =SUM(B64:M64) -> 320 | O64: =IF(N64=0,0,AVERAGE(B64:M64)) -> 26.666667
A65: Dermatologia | B65: 0 | C65: 0 | D65: 0 | E65: 0 | F65: 0 | G65: 0 | H65: 0 | I65: 0 | J65: 0 | K65: 0 | L65: 0 | M65: 0 | N65: =SUM(B65:M65) -> 0 | O65: =IF(N65=0,0,AVERAGE(B65:M65)) -> 0
A66: Endocrinologia | B66: 1 | C66: 0 | D66: 1 | E66: 2 | F66: 2 | G66: 1 | H66: 6 | I66: 2 | J66: =2+1 -> 3 | K66: 1 | L66: 1 | M66: 1 | N66: =SUM(B66:M66) -> 21 | O66: =IF(N66=0,0,AVERAGE(B66:M66)) -> 1.75
A67: Endoscopia | B67: 1 | C67: 4 | D67: 1 | E67: 2 | F67: 3 | G67: 0 | H67: 1 | I67: 0 | J67: 0 | K67: 0 | L67: 0 | M67: 0 | N67: =SUM(B67:M67) -> 12 | O67: =IF(N67=0,0,AVERAGE(B67:M67)) -> 1
A68: Fígado e Vias Biliares | B68: 0 | C68: 0 | D68: 0 | E68: 0 | F68: 0 | G68: 0 | H68: 0 | I68: 0 | J68: 0 | K68: 0 | L68: 0 | M68: 0 | N68: =SUM(B68:M68) -> 0 | O68: =IF(N68=0,0,AVERAGE(B68:M68)) -> 0
A69: Geriatria | B69: 0 | C69: 1 | D69: 0 | E69: 1 | F69: 1 | G69: 0 | H69: 1 | I69: 0 | J69: 0 | K69: 0 | L69: 0 | M69: 0 | N69: =SUM(B69:M69) -> 4 | O69: =IF(N69=0,0,AVERAGE(B69:M69)) -> 0.33333333
A70: Mastologia | B70: 0 | C70: 0 | D70: 0 | E70: 0 | F70: 1 | G70: 0 | H70: 1 | I70: 2 | J70: 2 | K70: 1 | L70: 2 | M70: 1 | N70: =SUM(B70:M70) -> 10 | O70: =IF(N70=0,0,AVERAGE(B70:M70)) -> 0.83333333
A71: Medicina Intensiva | B71: 9 | C71: 9 | D71: 6 | E71: 2 | F71: 5 | G71: 8 | H71: 16 | I71: 10 | J71: 4 | K71: 10 | L71: 11 | M71: 10 | N71: =SUM(B71:M71) -> 100 | O71: =IF(N71=0,0,AVERAGE(B71:M71)) -> 8.3333333
A72: Nefrologia | B72: 0 | C72: 0 | D72: 0 | E72: 0 | F72: 0 | G72: 0 | H72: 0 | I72: 0 | J72: 0 | K72: 0 | L72: 1 | M72: 1 | N72: =SUM(B72:M72) -> 2 | O72: =IF(N72=0,0,AVERAGE(B72:M72)) -> 0.16666667
A73: Nutrologia | B73: 2 | C73: 11 | D73: 51 | E73: 17 | F73: 1 | G73: 0 | H73: 0 | I73: 0 | J73: 0 | K73: 1 | L73: 0 | M73: 0 | N73: =SUM(B73:M73) -> 83 | O73: =IF(N73=0,0,AVERAGE(B73:M73)) -> 6.9166667
A74: Otorinolaringologia | B74: 3 | C74: 5 | D74: 1 | E74: 0 | F74: 0 | G74: 1 | H74: 8 | I74: 8 | J74: 14 | K74: 21 | L74: 16 | M74: 22 | N74: =SUM(B74:M74) -> 99 | O74: =IF(N74=0,0,AVERAGE(B74:M74)) -> 8.25
A75: Plantonista / Clínica Médica | B75: 0 | C75: 0 | D75: 0 | E75: 0 | F75: 0 | G75: 0 | H75: 0 | I75: 1 | J75: 0 | K75: 0 | L75: 0 | M75: 0 | N75: =SUM(B75:M75) -> 1 | O75: =IF(N75=0,0,AVERAGE(B75:M75)) -> 0.083333333
A76: Pneumologia | B76: 1 | C76: 0 | D76: 2 | E76: 4 | F76: 0 | G76: 5 | H76: 5 | I76: 2 | J76: 5 | K76: 0 | L76: 2 | M76: 3 | N76: =SUM(B76:M76) -> 29 | O76: =IF(N76=0,0,AVERAGE(B76:M76)) -> 2.4166667
A77: Reumatologia | B77: 5 | C77: 2 | D77: 5 | E77: 12 | F77: 10 | G77: 10 | H77: 7 | I77: 2 | J77: 8 | K77: 6 | L77: 6 | M77: 5 | N77: =SUM(B77:M77) -> 78 | O77: =IF(N77=0,0,AVERAGE(B77:M77)) -> 6.5
A78: Total | B78: =IF(SUM(B57:B77)=0,"",SUM(B57:B77)) -> 198 | C78: =IF(SUM(C57:C77)=0,"",SUM(C57:C77)) -> 215 | D78: =IF(SUM(D57:D77)=0,"",SUM(D57:D77)) -> 179 | E78: =IF(SUM(E57:E77)=0,"",SUM(E57:E77)) -> 110 | F78: =IF(SUM(F57:F77)=0,"",SUM(F57:F77)) -> 226 | G78: =IF(SUM(G57:G77)=0,"",SUM(G57:G77)) -> 214 | H78: =IF(SUM(H57:H77)=0,"",SUM(H57:H77)) -> 241 | I78: =IF(SUM(I57:I77)=0,"",SUM(I57:I77)) -> 243 | ... M78: =IF(SUM(M57:M77)=0,"",SUM(M57:M77)) -> 235 | N78: =SUM(N57:N77) -> 2542 | O78: =SUM(O57:O77) -> 211.83333
A80: 1.7. Internações por Unidade
A81: Clínica Cirúrgica | B81: 178 | C81: 189 | D81: 154 | E81: 1 | F81: 193 | G81: 181 | H81: 190 | I81: 214 | J81: 185 | K81: 194 | L81: 186 | M81: 185 | N81: =SUM(B81:M81) -> 2050 | O81: =IF(N81=0,0,AVERAGE(B81:M81)) -> 170.83333
A82: Clínica Médica | B82: 11 | C82: 16 | D82: 19 | E82: 106 | F82: 27 | G82: 24 | H82: 34 | I82: 17 | J82: 34 | K82: 29 | L82: 27 | M82: 36 | N82: =SUM(B82:M82) -> 380 | O82: =IF(N82=0,0,AVERAGE(B82:M82)) -> 31.666667
A83: UTI Adulto | B83: 9 | C83: 10 | D83: 6 | E83: 3 | F83: 6 | G83: 9 | H83: 17 | I83: 12 | J83: 6 | K83: 9 | L83: 11 | M83: 14 | N83: =SUM(B83:M83) -> 112 | O83: =IF(N83=0,0,AVERAGE(B83:M83)) -> 9.3333333
A84: Total | B84: =IF(SUM(B81:B83)=0,"",SUM(B81:B83)) -> 198 | C84: =IF(SUM(C81:C83)=0,"",SUM(C81:C83)) -> 215 | D84: =IF(SUM(D81:D83)=0,"",SUM(D81:D83)) -> 179 | E84: =IF(SUM(E81:E83)=0,"",SUM(E81:E83)) -> 110 | F84: =IF(SUM(F81:F83)=0,"",SUM(F81:F83)) -> 226 | G84: =IF(SUM(G81:G83)=0,"",SUM(G81:G83)) -> 214 | H84: =IF(SUM(H81:H83)=0,"",SUM(H81:H83)) -> 241 | I84: =IF(SUM(I81:I83)=0,"",SUM(I81:I83)) -> 243 | ... M84: =IF(SUM(M81:M83)=0,"",SUM(M81:M83)) -> 235 | N84: =SUM(N81:N83) -> 2542 | O84: =SUM(O81:O83) -> 211.83333
A85: Média Diária de Internações | B85: =IF(ISERR(B84/$B$1676),"",B84/B1676) -> 6.3870968 | C85: =IF(ISERR(C84/$B$1676),"",C84/C1676) -> 7.6785714 | D85: =IF(ISERR(D84/$B$1676),"",D84/D1676) -> 5.7741935 | E85: =IF(ISERR(E84/$B$1676),"",E84/E1676) -> 3.6666667 | F85: =IF(ISERR(F84/$B$1676),"",F84/F1676) -> 7.2903226 | G85: =IF(ISERR(G84/$B$1676),"",G84/G1676) -> 7.1333333 | H85: =IF(ISERR(H84/$B$1676),"",H84/H1676) -> 7.7741935 | I85: =IF(ISERR(I84/$B$1676),"",I84/I1676) -> 7.8387097 | ... M85: =IF(ISERR(M84/$B$1676),"",M84/M1676) -> 7.5806452 | N85: =SUM(B85:M85) -> 83.57427 | O85: =IF(N85=0,0,AVERAGE(B85:M85)) -> 6.9645225
A87: 1.8. Internações por Município
A88: Abaetetuba | B88: 3 | C88: 4 | D88: 5 | E88: 0 | F88: 4 | G88: 6 | H88: 1 | I88: 6 | J88: 3 | K88: 5 | L88: 5 | M88: 5 | N88: =SUM(B88:M88) -> 47 | O88: =IF(N88=0,0,AVERAGE(B88:M88)) -> 3.9166667
A89: Acará | B89: 1 | C89: 2 | D89: 0 | E89: 0 | F89: 0 | G89: 0 | H89: 0 | I89: 0 | J89: 0 | K89: 0 | L89: 2 | M89: 0 | N89: =SUM(B89:M89) -> 5 | O89: =IF(N89=0,0,AVERAGE(B89:M89)) -> 0.41666667
A90: Agua Azul do Norte | B90: 0 | C90: 0 | D90: 0 | E90: 0 | F90: 0 | G90: 0 | H90: 0 | I90: 1 | J90: 0 | K90: 0 | L90: 0 | M90: 0 | N90: =SUM(B90:M90) -> 1 | O90: =IF(N90=0,0,AVERAGE(B90:M90)) -> 0.083333333
A91: Alencar | B91: 0 | C91: 0 | D91: 0 | E91: 0 | F91: 1 | G91: 0 | H91: 0 | I91: 0 | J91: 0 | K91: 0 | L91: 0 | M91: 0 | N91: =SUM(B91:M91) -> 1 | O91: =IF(N91=0,0,AVERAGE(B91:M91)) -> 0.083333333
A92: Almerim | B92: 0 | C92: 1 | D92: 1 | E92: 0 | F92: 0 | G92: 0 | H92: 0 | I92: 0 | J92: 0 | K92: 0 | L92: 0 | M92: 0 | N92: =SUM(B92:M92) -> 2 | O92: =IF(N92=0,0,AVERAGE(B92:M92)) -> 0.16666667
A93: Altamira | B93: 0 | C93: 3 | D93: 0 | E93: 0 | F93: 2 | G93: 0 | H93: 3 | I93: 4 | J93: 0 | K93: 1 | L93: 3 | M93: 1 | N93: =SUM(B93:M93) -> 17 | O93: =IF(N93=0,0,AVERAGE(B93:M93)) -> 1.4166667
A94: Anajás | B94: 0 | C94: 0 | D94: 0 | E94: 0 | F94: 0 | G94: 0 | H94: 0 | I94: 0 | J94: 2 | K94: 1 | L94: 0 | M94: 1 | N94: =SUM(B94:M94) -> 4 | O94: =IF(N94=0,0,AVERAGE(B94:M94)) -> 0.33333333
A95: Ananindeua | B95: 16 | C95: 16 | D95: 18 | E95: 14 | F95: 15 | G95: 29 | H95: 26 | I95: 33 | J95: 23 | K95: 33 | L95: 32 | M95: 32 | N95: =SUM(B95:M95) -> 287 | O95: =IF(N95=0,0,AVERAGE(B95:M95)) -> 23.916667
A96: Augusto Correa | B96: 0 | C96: 0 | D96: 0 | E96: 1 | F96: 1 | G96: 0 | H96: 0 | I96: 1 | J96: 1 | K96: 0 | L96: 2 | M96: 1 | N96: =SUM(B96:M96) -> 7 | O96: =IF(N96=0,0,AVERAGE(B96:M96)) -> 0.58333333
A97: Aurora do Pará | B97: 0 | C97: 0 | D97: 0 | E97: 0 | F97: 1 | G97: 1 | H97: 0 | I97: 2 | J97: 0 | K97: 1 | L97: 0 | M97: 0 | N97: =SUM(B97:M97) -> 5 | O97: =IF(N97=0,0,AVERAGE(B97:M97)) -> 0.41666667
A98: Bagre | B98: 0 | C98: 0 | D98: 0 | E98: 0 | F98: 0 | G98: 0 | H98: 0 | I98: 0 | J98: 0 | K98: 0 | L98: 0 | M98: 1 | N98: =SUM(B98:M98) -> 1 | O98: =IF(N98=0,0,AVERAGE(B98:M98)) -> 0.083333333
A99: Baião | B99: 0 | C99: 1 | D99: 0 | E99: 0 | F99: 2 | G99: 1 | H99: 1 | I99: 0 | J99: 1 | K99: 1 | L99: 0 | M99: 0 | N99: =SUM(B99:M99) -> 7 | O99: =IF(N99=0,0,AVERAGE(B99:M99)) -> 0.58333333
... A109: Cachoeira do Arari | B109: 0 | C109: 0 | D109: 1 | E109: 0 | F109: 1 | G109: 1 | H109: 0 | I109: 0 | J109: 2 | K109: 3 | L109: 2 | M109: 1 | N109: =SUM(B109:M109) -> 11 | O109: =IF(N109=0,0,AVERAGE(B109:M109)) -> 0.91666667
A110: Cachoeira do Piriá | B110: 0 | C110: 0 | D110: 0 | E110: 0 | F110: 0 | G110: 0 | H110: 0 | I110: 0 | J110: 1 | K110: 0 | L110: 0 | N110: =SUM(B110:M110) -> 1 | O110: =IF(N110=0,0,AVERAGE(B110:M110)) -> 0.090909091
A111: Cametá | B111: 3 | C111: 0 | D111: 1 | E111: 0 | F111: 2 | G111: 1 | H111: 2 | I111: 1 | J111: 1 | K111: 2 | L111: 2 | M111: 3 | N111: =SUM(B111:M111) -> 18 | O111: =IF(N111=0,0,AVERAGE(B111:M111)) -> 1.5
A112: Canaã dos Carajás | B112: 0 | C112: 0 | D112: 0 | E112: 0 | F112: 0 | G112: 1 | H112: 0 | I112: 3 | J112: 0 | K112: 0 | L112: 1 | M112: 1 | N112: =SUM(B112:M112) -> 6 | O112: =IF(N112=0,0,AVERAGE(B112:M112)) -> 0.5
A113: Capanema | B113: 3 | C113: 1 | D113: 0 | E113: 0 | F113: 2 | G113: 2 | H113: 5 | I113: 3 | J113: 1 | K113: 2 | L113: 5 | M113: 1 | N113: =SUM(B113:M113) -> 25 | O113: =IF(N113=0,0,AVERAGE(B113:M113)) -> 2.0833333
A114: Capitão Poço | B114: 2 | C114: 0 | D114: 0 | E114: 0 | F114: 1 | G114: 1 | H114: 0 | I114: 2 | J114: 3 | K114: 1 | L114: 2 | M114: 0 | N114: =SUM(B114:M114) -> 12 | O114: =IF(N114=0,0,AVERAGE(B114:M114)) -> 1
A115: Castanhal | B115: 2 | C115: 1 | D115: 2 | E115: 4 | F115: 5 | G115: 5 | H115: 2 | I115: 0 | J115: 5 | K115: 6 | L115: 6 | M115: 3 | N115: =SUM(B115:M115) -> 41 | O115: =IF(N115=0,0,AVERAGE(B115:M115)) -> 3.4166667
A116: Chaves | B116: 0 | C116: 0 | D116: 0 | E116: 0 | F116: 0 | G116: 1 | H116: 0 | I116: 0 | J116: 0 | K116: 0 | L116: 0 | M116: 0 | N116: =SUM(B116:M116) -> 1 | O116: =IF(N116=0,0,AVERAGE(B116:M116)) -> 0.083333333
A117: Colares | B117: 2 | C117: 0 | D117: 1 | E117: 0 | F117: 1 | G117: 0 | H117: 1 | I117: 0 | J117: 1 | K117: 0 | L117: 1 | M117: 1 | N117: =SUM(B117:M117) -> 8 | O117: =IF(N117=0,0,AVERAGE(B117:M117)) -> 0.66666667
A118: Conceição do Araguaia | B118: 0 | C118: 1 | D118: 0 | E118: 0 | F118: 1 | G118: 1 | H118: 1 | I118: 0 | J118: 0 | K118: 1 | L118: 0 | M118: 1 | N118: =SUM(B118:M118) -> 6 | O118: =IF(N118=0,0,AVERAGE(B118:M118)) -> 0.5
A119: Concordia do Pará | B119: 1 | C119: 1 | D119: 1 | E119: 0 | F119: 2 | G119: 5 | H119: 4 | I119: 3 | J119: 3 | K119: 1 | L119: 4 | M119: 2 | N119: =SUM(B119:M119) -> 27 | O119: =IF(N119=0,0,AVERAGE(B119:M119)) -> 2.25
...

Sheet Planilha1
A1: 1.22. Média de Permanência por Unidade | B1: ACM | C1: MÉDIA
A2: Clínica Cirúrgica | B2: 45.752935 | C2: 3.8127445
A3: Clínica Médica | B3: 184.47974 | C3: 15.373312
A4: UTI Adulto | B4: 104.96224 | C4: 8.7468534
A5: Média Geral de Permanência | B5: 68.346799 | C5: 5.6955666

Sheet % de Ocupação
A1: PLANO ESTATÍSTICO | B1: JAN | C1: FEV | D1: MAR | E1: ABR | F1: MAI | G1: JUN | H1: JUL | I1: AGO | J1: SET | K1: OUT | L1: NOV | M1: DEZ
A2: 1.21. Porcentagem de Ocupação por Unidade
A3: Clínica Cirúrgica | B3: =Plano_Estatístico_2021_HJB!B342 -> 0.61129032 | C3: =Plano_Estatístico_2021_HJB!C342 -> 0.68928571 | D3: =Plano_Estatístico_2021_HJB!D342 -> 0.52983871 | E3: =Plano_Estatístico_2021_HJB!E342 -> 0.0275 | F3: =Plano_Estatístico_2021_HJB!F342 -> 0.63306452 | G3: =Plano_Estatístico_2021_HJB!G342 -> 0.56083333 | H3: =Plano_Estatístico_2021_HJB!H342 -> 0.57016129 | I3: =Plano_Estatístico_2021_HJB!I342 -> 0.62177419 | ... M3: =Plano_Estatístico_2021_HJB!M342 -> 0.61048387
A4: Clínica Médica | B4: =Plano_Estatístico_2021_HJB!B343 -> 0.74032258 | C4: =Plano_Estatístico_2021_HJB!C343 -> 0.83035714 | D4: =Plano_Estatístico_2021_HJB!D343 -> 0.74193548 | E4: =Plano_Estatístico_2021_HJB!E343 -> 1.4566667 | F4: =Plano_Estatístico_2021_HJB!F343 -> 0.8016129 | G4: =Plano_Estatístico_2021_HJB!G343 -> 0.83 | H4: =Plano_Estatístico_2021_HJB!H343 -> 0.83548387 | I4: =Plano_Estatístico_2021_HJB!I343 -> 0.75806452 | ... M4: =Plano_Estatístico_2021_HJB!M343 -> 0.86612903
A5: UTI Adulto | B5: =Plano_Estatístico_2021_HJB!B344 -> 0.50645161 | C5: =Plano_Estatístico_2021_HJB!C344 -> 0.56428571 | D5: =Plano_Estatístico_2021_HJB!D344 -> 0.75806452 | E5: =Plano_Estatístico_2021_HJB!E344 -> 0.72333333 | F5: =Plano_Estatístico_2021_HJB!F344 -> 0.60967742 | G5: =Plano_Estatístico_2021_HJB!G344 -> 0.57666667 | H5: =Plano_Estatístico_2021_HJB!H344 -> 0.60645161 | I5: =Plano_Estatístico_2021_HJB!I344 -> 0.59677419 | ... M5: =Plano_Estatístico_2021_HJB!M344 -> 0.73548387
A6: Porcentagem Geral de Ocupação | B6: =Plano_Estatístico_2021_HJB!B345 -> 0.63317972 | C6: =Plano_Estatístico_2021_HJB!C345 -> 0.71173469 | D6: =Plano_Estatístico_2021_HJB!D345 -> 0.62304147 | E6: =Plano_Estatístico_2021_HJB!E345 -> 0.5352381 | F6: =Plano_Estatístico_2021_HJB!F345 -> 0.67788018 | G6: =Plano_Estatístico_2021_HJB!G345 -> 0.64 | H6: =Plano_Estatístico_2021_HJB!H345 -> 0.65115207 | I6: =Plano_Estatístico_2021_HJB!I345 -> 0.65714286 | ... M6: =Plano_Estatístico_2021_HJB!M345 -> 0.70138249

Sheet % de Ocupação Trimestral
B1: Unidade/ Mês | C1: OUT | D1: NOV | E1: DEZ | G1: Porcentagem Geral de Ocupação (PGO)
A2: Paciente – dia | B2: Clínica Cirúrgica | C2: 741 | D2: 819 | G2: Unidade/ Mês | H2: OUT | I2: NOV | J2: DEZ
B3: Clínica Médica | C3: 534 | D3: 511 | G3: Clínica cirúrgica | H3: 0.59758065 | I3: 0.6825
B4: UTI | C4: 213 | D4: 210 | G4: Clínica Médica | H4: 0.86129032 | I4: 0.85166667
A5: Total | B5: - | C5: OUT | D5: NOV | E5: DEZ | G5: UTI | H5: 0.68709677 | I5: 0.7
A6: Leito – dia | B6: Clínica cirúrgica | C6: 1240 | D6: 1200 | G6: Geral | H6: 0.68571429 | I6: 0.73333333
B7: Clínica Médica | C7: 620 | D7: 600
B8: UTI | C8: 310 | D8: 300
A9: Total | B9: - | C9: =SUM(C6:C8) -> 2170 | D9: =SUM(D6:D8) -> 2100 | E9: =SUM(E6:E8) -> 0

Sheet Média de Permanência
A1: PLANO ESTATÍSTICO | B1: JAN | C1: FEV | D1: MAR | E1: ABR | F1: MAI | G1: JUN | H1: JUL | I1: AGO | J1: SET | K1: OUT | L1: NOV | M1: DEZ
A2: 1.22. Média de Permanência por Unidade
A3: Clínica Cirúrgica | B3: =Plano_Estatístico_2021_HJB!B350 -> 4.0319149 | C3: =Plano_Estatístico_2021_HJB!C350 -> 4.0418848 | D3: =Plano_Estatístico_2021_HJB!D350 -> 3.5901639 | E3: =Plano_Estatístico_2021_HJB!E350 -> 4.7142857 | F3: =Plano_Estatístico_2021_HJB!F350 -> 4.197861 | G3: =Plano_Estatístico_2021_HJB!G350 -> 3.4162437 | H3: =Plano_Estatístico_2021_HJB!H350 -> 3.3990385 | I3: =Plano_Estatístico_2021_HJB!I350 -> 3.5694444 | ... L3: =Plano_Estatístico_2021_HJB!L350 -> 4.2216495
A4: Clínica Médica | B4: =Plano_Estatístico_2021_HJB!B351 -> 30.6 | C4: =Plano_Estatístico_2021_HJB!C351 -> 17.884615 | D4: =Plano_Estatístico_2021_HJB!D351 -> 16.428571 | E4: =Plano_Estatístico_2021_HJB!E351 -> 6.2877698 | F4: =Plano_Estatístico_2021_HJB!F351 -> 13.432432 | G4: =Plano_Estatístico_2021_HJB!G351 -> 16.064516 | H4: =Plano_Estatístico_2021_HJB!H351 -> 11.772727 | I4: =Plano_Estatístico_2021_HJB!I351 -> 16.785714 | ... L4: =Plano_Estatístico_2021_HJB!L351 -> 13.102564
A5: UTI Adulto | B5: =Plano_Estatístico_2021_HJB!B352 -> 8.7222222 | C5: =Plano_Estatístico_2021_HJB!C352 -> 6.5833333 | D5: =Plano_Estatístico_2021_HJB!D352 -> 19.583333 | E5: =Plano_Estatístico_2021_HJB!E352 -> 9.4347826 | F5: =Plano_Estatístico_2021_HJB!F352 -> 9 | G5: =Plano_Estatístico_2021_HJB!G352 -> 8.65 | H5: =Plano_Estatístico_2021_HJB!H352 -> 5.875 | I5: =Plano_Estatístico_2021_HJB!I352 -> 5.78125 | ... L5: =Plano_Estatístico_2021_HJB!L352 -> 7
A6: Média Geral de Permanência | B6: =Plano_Estatístico_2021_HJB!B353 -> 6.2171946 | C6: =Plano_Estatístico_2021_HJB!C353 -> 5.7883817 | D6: =Plano_Estatístico_2021_HJB!D353 -> 6.0627803 | E6: =Plano_Estatístico_2021_HJB!E353 -> 6.6508876 | F6: =Plano_Estatístico_2021_HJB!F353 -> 6.0040816 | G6: =Plano_Estatístico_2021_HJB!G353 -> 5.4193548 | H6: =Plano_Estatístico_2021_HJB!H353 -> 4.9753521 | I6: =Plano_Estatístico_2021_HJB!I353 -> 5.1666667 | ... L6: =Plano_Estatístico_2021_HJB!L353 -> 5.8555133

Sheet Resumo_nov.2019
A1: Resumo dos Serviços - NOV/2019 | B1: JAN | C1: FEV | D1: MAR | E1: ABR | F1: MAI | G1: JUN | H1: JUL | I1: AGO | J1: SET | K1: OUT | L1: NOV | M1: ACM | N1: MÉDIA
A2: Total de Saídas Hospitalares | B2: 184 | C2: 192 | D2: 169 | E2: 175 | F2: 174 | G2: 160 | H2: 189 | I2: 181 | J2: 168 | K2: 162 | L2: 164 | M2: 1918 | N2: 174.36364
A3: Consultas Ambulatórias | B3: 2693 | C3: 2763 | D3: 2587 | E3: 3005 | F3: 3200 | G3: 2941 | H3: 3133 | I3: 3268 | J3: 3204 | K3: 3466 | L3: 3047 | M3: 33307 | N3: 3027.9091
A4: SADT Internos | B4: 9693 | C4: 8920 | D4: 8985 | E4: 9416 | F4: 9567 | G4: 8830 | H4: 9436 | I4: 8983 | J4: 8706 | K4: 8593 | L4: 8012 | M4: 99141 | N4: 9012.8182
A5: SADT Externos | B5: 13678 | C5: 13183 | D5: 13615 | E5: 13987 | F5: 14182 | G5: 13822 | H5: 13926 | I5: 14014 | J5: 14112 | K5: 14754 | L5: 12824 | M5: 152097 | N5: 13827
A6: Fisioterapia (Sessões) | B6: 2289 | C6: 2370 | D6: 2424 | E6: 2792 | F6: 3679 | G6: 3792 | H6: 2110 | I6: 2180 | J6: 1805 | K6: 1515 | L6: 1485 | M6: 26441 | N6: 2403.7273
A7: Fonoaudiologia (Sessões) | B7: 144 | C7: 139 | D7: 168 | E7: 194 | F7: 233 | G7: 213 | H7: 147 | I7: 139 | J7: 129 | K7: 107 | L7: 113 | M7: 1726 | N7: 156.90909
A8: Hemoterapia | B8: 47 | C8: 120 | D8: 47 | E8: 46 | F8: 70 | G8: 72 | H8: 79 | I8: 49 | J8: 81 | K8: 52 | L8: 80 | M8: 743 | N8: 67.545455
A9: Hemodiálise (Sessões) | B9: 35 | C9: 30 | D9: 59 | E9: 61 | F9: 84 | G9: 32 | H9: 48 | I9: 62 | J9: 50 | K9: 34 | L9: 18 | M9: 513 | N9: 46.636364
A10: Pulsoterapia | B10: 30 | C10: 31 | D10: 32 | E10: 23 | F10: 34 | G10: 31 | H10: 29 | I10: 31 | J10: 32 | K10: 39 | L10: 46 | M10: 358 | N10: 32.545455
A11: S.A.U - Serviço de Atenção ao Usuário | B11: 1881 | C11: 1983 | D11: 1854 | E11: 2075 | F11: 2129 | G11: 2081 | H11: 2207 | I11: 1138 | J11: 1578 | K11: 1843 | L11: 1853 | M11: 20622 | N11: 1874.7273
A12: Serviço Social | B12: 2837 | C12: 2011 | D12: 2394 | E12: 2719 | F12: 2776 | G12: 2355 | H12: 2236 | I12: 2278 | J12: 2698 | K12: 2600 | L12: 2182 | M12: 27086 | N12: 2462.3636
A13: Serviço Nutricional | B13: 844 | C13: 673 | D13: 579 | E13: 642 | F13: 832 | G13: 738 | H13: 842 | I13: 616 | J13: 576 | K13: 714 | L13: 528 | M13: 7584 | N13: 689.45455
... A16: Cirurgias Realizadas | B16: 186 | C16: 194 | D16: 171 | E16: 202 | F16: 183 | G16: 183 | H16: 196 | I16: 189 | J16: 199 | K16: 181 | L16: 174 | M16: 2058 | N16: 187.09091
