Workbook

Sheet Sumário

Sheet Sumário Provisório
A1: PLANO ESTATÍSTICO - HOSPITAL JEAN BITAR - INDSH - SESPA
A2: ANO: | B2: 2018
A3: GESTORES: | B3: GIOVANE MERENDA | C3: DIRETOR EXECUTIVO
B4: RODRIGO FRÖHLICH | C4: DIRETOR ADMINISTRATIVO E FINANCEIRO
B5: DENISE VILLACORTA | C5: DIRETORA TÉCNICA
B6: CAROLINA KAHWAGE | C6: DIRETORA CLÍNICA
B7: SOLANGE ANTONELLI | C7: GERENTE ASSISTÊNCIAL
A8: SUMÁRIO
A9: 1. | B9: Estatística de Pacientes Internados | D9: 2. | E9: Serviços Assistenciais | F9: Serviços Assistenciais | G9: 3. | H9: Serviço de Apoio Diagnóstico Terapêutico | I9: Serviço de Apoio Diagnóstico Terapêutico | J9: 4. | K9: Serviços de Apoio
A10: 1.1. | B10: Nº de Leitos por Unidade | C10: Nº de Leitos por Unidade | D10: 2.1. | E10: Centro Cirúrgico | F10: Centro Cirúrgico | G10: 3.1. | H10: Anátomo Patológico | I10: Anátomo Patológico | J10: 4.1. | K10: Nutrição e Dietética
A11: 1.2. | B11: Nº de Leitos-Dia por Unidade | C11: Nº de Leitos-Dia por Unidade | D11: 2.2. | E11: Anestesia | F11: Anestesia | G11: 3.2. | H11: Bomba de Insulina | J11: 4.2. | K11: Processamento da Roupa
A12: 1.3. | B12: Nº de Pacientes-Dia por Especialidade | C12: Nº de Pacientes-Dia por Especialidade | D12: 2.3. | E12: Centro Cirúrgico - Procedimento Endoscópico | F12: Centro Cirúrgico - Procedimento Endoscópico | G12: 3.3. | H12: Broncoscopia | I12: Broncoscopia | J12: 4.3. | K12: Manutenção
A13: 1.4. | B13: Nº de Pacientes-Dia por Unidade | C13: Nº de Pacientes-Dia por Unidade | D13: 2.4. | E13: Anestesia | F13: Anestesia | G13: 3.4. | H13: Densitometria Óssea | I13: Densitometria Óssea | J13: 4.4. | K13: Telefonia
A14: 1.5. | B14: Média Diária de Pacientes por Unidade | C14: Média Diária de Pacientes por Unidade | D14: 2.5. | E14: Central de Material Esterilizado | F14: Central de Material Esterilizado | G14: 3.5. | H14: Ecocardiograma | I14: Ecocardiograma | J14: 4.5. | K14: Encadernação
A15: 1.6. | B15: Internações por Especialidade | C15: Internações por Especialidade | D15: 2.6. | E15: Ambulatório de Referência e Pronto Atendimento | F15: Ambulatório de Referência e Pronto Atendimento | G15: 3.6. | H15: ECG - Eletrocardiograma | I15: ECG - Eletrocardiograma | J15: 4.6. | K15: Plastificação
A16: 1.7. | B16: Internações por Unidade | C16: Internações por Unidade | D16: 2.6.2. | E16: Atendimento por Especialidades – Ambulatório - Consultas Médicas | F16: Atendimento por Especialidades – Ambulatório - Consultas Médicas | G16: 3.7. | H16: Endoscopia Digestiva Alta | I16: Endoscopia Digestiva Alta | J16: 4.7. | K16: Cópias
A17: 1.8. | B17: Internações por Município | C17: Internações por Município | D17: 2.6.3. | E17: Atendimento por Especialidades – Ambulatório - Consultas Não Médicas | F17: Atendimento por Especialidades – Ambulatório - Consultas Não Médicas | G17: 3.8. | H17: Endoscopia Digestiva Baixa - Colonoscopia | I17: Endoscopia Digestiva Baixa - Colonoscopia
A18: 1.9. | B18: Internações por Faixa etária | C18: Internações por Faixa etária | D18: 2.6.4. | E18: Procedimentos Realizados no ambulatório | F18: Procedimentos Realizados no ambulatório | G18: 3.9. | H18: Escleroterapia Ecoviada com Espuma | I18: Escleroterapia Ecoviada com Espuma | J18: 5. | K18: Serviços Administrativos
A19: 1.10. | B19: Altas Melhoradas Por Especialidade | C19: Altas Melhoradas Por Especialidade | D19: 2.7. | E19: Atividades Sociais | F19: Atividades Sociais | G19: 3.10. | H19: Espirometria - Prova de Função Pulmonar | I19: Espirometria - Prova de Função Pulmonar
A20: 1.11. | B20: Altas por Unidade (sem transferências) | C20: Altas por Unidade (sem transferências) | D20: 2.7.1. | E20: S.A.U | F20: S.A.U | G20: 3.11. | H20: Holter de Glicemia | I20: Holter de Glicemia | J20: 6. | K20: Resumo Geral de Informações
A21: 1.12. | B21: Óbitos por Especialidade | C21: Óbitos por Especialidade | D21: 2.7.2. | E21: Serviço Social | F21: Serviço Social | G21: 3.12. | H21: Laboratório de Análises Clínicas | I21: Laboratório de Análises Clínicas
A22: 1.13. | B22: Óbitos por Unidade | C22: Óbitos por Unidade | D22: 2.7.3. | E22: Serviço Nutricional | F22: Serviço Nutricional | G22: 3.13. | H22: Mamografia | I22: Mamografia
A23: 1.14. | B23: Óbitos Não Institucionais p/ Especialidade (-48h) | C23: Óbitos Não Institucionais p/ Especialidade (-48h) | D23: 2.7.4. | E23: Serviço Psicologia | F23: Serviço Psicologia | G23: 3.14. | H23: MAPA - Monitorização Ambulatorial de Pressão Arterial | I23: MAPA - Monitorização Ambulatorial de Pressão Arterial
A24: 1.15. | B24: Óbitos Institucionais p/ Especialidade (+48h) | C24: Óbitos Institucionais p/ Especialidade (+48h) | D24: 2.7.5. | E24: Educação Permanente | F24: Educação Permanente | G24: 3.15. | H24: Medicina Nuclear - Cintilografia | I24: Medicina Nuclear - Cintilografia
A25: 1.16. | B25: Óbitos por Faixa Etária | C25: Óbitos por Faixa Etária | G25: 3.16. | H25: Medicina Nuclear - Iodoterapia | I25: Medicina Nuclear - Iodoterapia
A26: 1.17. | B26: Transferência Interna por Unidade (Entrada) | C26: Transferência Interna por Unidade (Entrada) | G26: 3.17. | H26: PAAF - Biópsia de Tireóide | I26: PAAF - Biópsia de Tireóide
A27: 1.18. | B27: Transferência Interna por Unidade (Saída) | C27: Transferência Interna por Unidade (Saída) | G27: 3.18. | H27: Polissonografia | I27: Polissonografia
A28: 1.19. | B28: Pacientes Saídos p/ Especialidade | C28: Pacientes Saídos p/ Especialidade | G28: 3.19. | H28: Radiologia - Raio-X | I28: Radiologia - Raio-X
A29: 1.20. | B29: Pacientes Saídos por Unidade | C29: Pacientes Saídos por Unidade | G29: 3.20. | H29: Ressonância Magnética | I29: Ressonância Magnética
A30: 1.21. | B30: Porcentagem de Ocupação por Unidade | C30: Porcentagem de Ocupação por Unidade | G30: 3.21. | H30: Teste Ergométrico | I30: Teste Ergométrico
A31: 1.22. | B31: Média de Permanência por Unidade | C31: Média de Permanência por Unidade | G31: 3.22. | H31: Tomografia | I31: Tomografia
A32: 1.23. | B32: Índice de Giro de Leitos p/ Unidade | C32: Índice de Giro de Leitos p/ Unidade | G32: 3.23. | H32: Ultrassonografia | I32: Ultrassonografia
A33: 1.24. | B33: Taxa de Mortalidade por Unidade | C33: Taxa de Mortalidade por Unidade | G33: 3.24. | H33: Fisioterapia | I33: Fisioterapia
A34: 1.25. | B34: Taxa de Mortalidade por Tipo | C34: Taxa de Mortalidade por Tipo | G34: 3.25. | H34: Fonoaudiologia | I34: Fonoaudiologia
G35: 3.26. | H35: Terapia Ocupacional | I35: Terapia Ocupacional
G36: 3.27. | H36: Hemoterapia - Agência Transfusional | I36: Hemoterapia - Agência Transfusional
G37: 3.28. | H37: Hemodiálise | I37: Hemodiálise
G38: 3.29. | H38: Pulsoterapia | I38: Pulsoterapia
G39: 3.30. | H39: Total SADT Internos | I39: Total SADT Internos
G40: 3.31. | H40: Total SADT Externos | I40: Total SADT Externos
...

Sheet Plano_Estatístico_2021_HJB
A1: HOSPITAL JEAN BITAR – HJB
A3: PLANO ESTATÍSTICO 2021
A5: PLANO ESTATÍSTICO | B5: JAN | C5: FEV | D5: MAR | E5: ABR | F5: MAI | G5: JUN | H5: JUL | I5: AGO | J5: SET | K5: OUT | L5: NOV | M5: DEZ | N5: ACUM | O5: MÉDIA
A6: 1. Estatística de Pacientes Internados
A8: 1.1. Nº de Leitos por Unidade | D8: LEITO COVID | E8: LEITO COVID
A9: Clínica Cirúrgica | B9: 40 | C9: 40 | D9: 40 | E9: 40 | F9: 40 | G9: 40 | H9: 40 | I9: 40 | J9: 40 | K9: 40 | L9: 40 | M9: 40 | N9: =SUM(B9:M9) -> 480 | O9: =IF(N9=0,0,AVERAGE(B9:M9)) -> 40
A10: Clínica Médica | B10: 20 | C10: 20 | D10: 20 | E10: 20 | F10: 20 | G10: 20 | H10: 20 | I10: 20 | J10: 20 | K10: 20 | L10: 20 | M10: 20 | N10: =SUM(B10:M10) -> 240 | O10: =IF(N10=0,0,AVERAGE(B10:M10)) -> 20
A11: UTI Adulto | B11: 10 | C11: 10 | D11: 10 | E11: 10 | F11: 10 | G11: 10 | H11: 10 | I11: 10 | J11: 10 | K11: 10 | L11: 10 | M11: 10 | N11: =SUM(B11:M11) -> 120 | O11: =IF(N11=0,0,AVERAGE(B11:M11)) -> 10
A12: Total | B12: =IF(SUM(B9:B11)=0,"",SUM(B9:B11)) -> 70 | C12: =IF(SUM(C9:C11)=0,"",SUM(C9:C11)) -> 70 | D12: =IF(SUM(D9:D11)=0,"",SUM(D9:D11)) -> 70 | E12: =IF(SUM(E9:E11)=0,"",SUM(E9:E11)) -> 70 | F12: =IF(SUM(F9:F11)=0,"",SUM(F9:F11)) -> 70 | G12: =IF(SUM(G9:G11)=0,"",SUM(G9:G11)) -> 70 | H12: =IF(SUM(H9:H11)=0,"",SUM(H9:H11)) -> 70 | I12: =IF(SUM(I9:I11)=0,"",SUM(I9:I11)) -> 70 | ... M12: =IF(SUM(M9:M11)=0,"",SUM(M9:M11)) -> 70 | N12: =SUM(N9:N11) -> 840 | O12: =SUM(O9:O11) -> 70
A14: 1.2. Nº de Leitos-Dia por Unidade | D14: LEITO COVID | E14: LEITO COVID
A15: Clínica Cirúrgica | B15: =IF(B9="","",B9*B1676) -> 1240 | C15: =IF(C9="","",C9*C1676) -> 1120 | D15: =IF(D9="","",D9*D1676) -> 1240 | E15: =IF(E9="","",E9*E1676) -> 1200 | F15: =IF(F9="","",F9*F1676) -> 1240 | G15: =IF(G9="","",G9*G1676) -> 1200 | H15: =IF(H9="","",H9*H1676) -> 1240 | I15: =IF(I9="","",I9*I1676) -> 1240 | ... M15: =IF(M9="","",M9*M1676) -> 1240 | N15: =SUM(B15:M15) -> 14600 | O15: =IF(N15=0,0,AVERAGE(B15:M15)) -> 1216.6667
A16: Clínica Médica | B16: =IF(B10="","",B10*B1676) -> 620 | C16: =IF(C10="","",C10*C1676) -> 560 | D16: =IF(D10="","",D10*D1676) -> 620 | E16: =IF(E10="","",E10*E1676) -> 600 | F16: =IF(F10="","",F10*F1676) -> 620 | G16: =IF(G10="","",G10*G1676) -> 600 | H16: =IF(H10="","",H10*H1676) -> 620 | I16: =IF(I10="","",I10*I1676) -> 620 | ... M16: =IF(M10="","",M10*M1676) -> 620 | N16: =SUM(B16:M16) -> 7300 | O16: =IF(N16=0,0,AVERAGE(B16:M16)) -> 608.33333
A17: UTI Adulto | B17: =IF(B11="","",B11*B1676) -> 310 | C17: =IF(C11="","",C11*C1676) -> 280 | D17: =IF(D11="","",D11*D1676) -> 310 | E17: =IF(E11="","",E11*E1676) -> 300 | F17: =IF(F11="","",F11*F1676) -> 310 | G17: =IF(G11="","",G11*G1676) -> 300 | H17: =IF(H11="","",H11*H1676) -> 310 | I17: =IF(I11="","",I11*I1676) -> 310 | ... M17: =IF(M11="","",M11*M1676) -> 310 | N17: =SUM(B17:M17) -> 3650 | O17: =IF(N17=0,0,AVERAGE(B17:M17)) -> 304.16667
A18: Total | B18: =IF(SUM(B15:B17)=0,"",SUM(B15:B17)) -> 2170 | C18: =IF(SUM(C15:C17)=0,"",SUM(C15:C17)) -> 1960 | D18: =IF(SUM(D15:D17)=0,"",SUM(D15:D17)) -> 2170 | E18: =IF(SUM(E15:E17)=0,"",SUM(E15:E17)) -> 2100 | F18: =IF(SUM(F15:F17)=0,"",SUM(F15:F17)) -> 2170 | G18: =IF(SUM(G15:G17)=0,"",SUM(G15:G17)) -> 2100 | H18: =IF(SUM(H15:H17)=0,"",SUM(H15:H17)) -> 2170 | I18: =IF(SUM(I15:I17)=0,"",SUM(I15:I17)) -> 2170 | ... M18: =IF(SUM(M15:M17)=0,"",SUM(M15:M17)) -> 2170 | N18: =SUM(N15:N17) -> 25550 | O18: =SUM(O15:O17) -> 2129.1667
A20: 1.3. Nº de Pacientes-Dia por Especialidade
A21: Cardiologia | B21: 0 | C21: 0 | D21: 18 | E21: 11 | F21: 6 | G21: 0 | H21: 0 | I21: 0 | J21: 0 | K21: 0 | L21: 9 | M21: 131 | N21: =SUM(B21:M21) -> 175 | O21: =IF(N21=0,0,AVERAGE(B21:M21)) -> 14.583333
A22: Cirurgia Bariátrica | B22: 87 | C22: 67 | D22: 26 | E22: 0 | F22: 63 | G22: 76 | H22: 49 | I22: 60 | J22: 58 | K22: 61 | L22: 34 | M22: 82 | N22: =SUM(B22:M22) -> 663 | O22: =IF(N22=0,0,AVERAGE(B22:M22)) -> 55.25
A23: Cirurgia de Cabeça e Pescoço | B23: 0 | C23: 3 | D23: 24 | E23: 0 | F23: 58 | G23: 55 | H23: 88 | I23: 119 | J23: 170 | K23: 173 | L23: 127 | M23: 134 | N23: =SUM(B23:M23) -> 951 | O23: =IF(N23=0,0,AVERAGE(B23:M23)) -> 79.25
A24: Cirurgia Geral | B24: 481 | C24: 530 | D24: 185 | E24: 102 | F24: 493 | G24: 397 | H24: 375 | I24: 500 | J24: 411 | K24: 354 | L24: 410 | M24: 370 | N24: =SUM(B24:M24) -> 4608 | O24: =IF(N24=0,0,AVERAGE(B24:M24)) -> 384
A25: Cirurgia Plástica | B25: 0 | C25: 0 | D25: 0 | E25: 0 | F25: 10 | G25: 24 | H25: 31 | I25: 27 | J25: 16 | K25: 11 | L25: 19 | M25: 14 | N25: =SUM(B25:M25) -> 152 | O25: =IF(N25=0,0,AVERAGE(B25:M25)) -> 12.666667
A26: Cirurgia Vascular | B26: 0 | C26: 0 | D26: 0 | E26: 0 | F26: 14 | G26: 0 | H26: 0 | I26: 0 | J26: 0 | K26: 0 | L26: 0 | M26: 0 | N26: =SUM(B26:M26) -> 14 | O26: =IF(N26=0,0,AVERAGE(B26:M26)) -> 1.1666667
A27: Clínica Médica | B27: 135 | C27: 205 | D27: 443 | E27: 417 | F27: 299 | G27: 281 | H27: 148 | I27: 239 | J27: 280 | K27: 356 | L27: 374 | M27: 336 | N27: =SUM(B27:M27) -> 3513 | O27: =IF(N27=0,0,AVERAGE(B27:M27)) -> 292.75
A28: Coloproctologia | B28: 237 | C28: 222 | D28: 48 | E28: 6 | F28: 171 | G28: 127 | H28: 178 | I28: 100 | J28: 89 | K28: 183 | L28: 246 | M28: 101 | N28: =SUM(B28:M28) -> 1708 | O28: =IF(N28=0,0,AVERAGE(B28:M28)) -> 142.33333
A29: Dermatologia | B29: 0 | C29: 0 | D29: 0 | E29: 0 | F29: 0 | G29: 0 | H29: 0 | I29: 0 | J29: 0 | K29: 0 | L29: 0 | M29: 0 | N29: =SUM(B29:M29) -> 0 | O29: =IF(N29=0,0,AVERAGE(B29:M29)) -> 0
A30: Endocrinologia | B30: 13 | C30: 0 | D30: 10 | E30: 20 | F30: 22 | G30: 20 | H30: 67 | I30: 50 | J30: 29 | K30: 29 | L30: 35 | M30: =29+9 -> 38 | N30: =SUM(B30:M30) -> 333 | O30: =IF(N30=0,0,AVERAGE(B30:M30)) -> 27.75
A31: Endoscopia | B31: 5 | C31: 23 | D31: 24 | E31: 22 | F31: 48 | G31: 0 | H31: 9 | I31: 0 | J31: 0 | K31: 0 | L31: 0 | M31: 0 | N31: =SUM(B31:M31) -> 131 | O31: =IF(N31=0,0,AVERAGE(B31:M31)) -> 10.916667
A32: Fígado e Vias Biliares | B32: 0 | C32: 0 | D32: 0 | E32: 0 | F32: 0 | G32: 0 | H32: 0 | I32: 0 | J32: 0 | K32: 0 | L32: 0 | M32: 0 | N32: =SUM(B32:M32) -> 0 | O32: =IF(N32=0,0,AVERAGE(B32:M32)) -> 0
A33: Geriatria | B33: 10 | C33: 11 | D33: 18 | E33: 7 | F33: 21 | G33: 0 | H33: 20 | I33: 25 | J33: 0 | K33: 0 | L33: 0 | M33: 0 | N33: =SUM(B33:M33) -> 112 | O33: =IF(N33=0,0,AVERAGE(B33:M33)) -> 9.3333333
A34: Mastologia | B34: 0 | C34: 0 | D34: 0 | E34: 0 | F34: 1 | G34: 0 | H34: 1 | I34: 2 | J34: 2 | K34: 1 | L34: 4 | M34: 2 | N34: =SUM(B34:M34) -> 13 | O34: =IF(N34=0,0,AVERAGE(B34:M34)) -> 1.0833333
A35: Medicina Intensiva | B35: 266 | C35: 212 | D35: 160 | E35: 51 | F35: 72 | G35: 147 | H35: 251 | I35: 218 | J35: 182 | K35: 153 | L35: 135 | M35: 151 | N35: =SUM(B35:M35) -> 1998 | O35: =IF(N35=0,0,AVERAGE(B35:M35)) -> 166.5
A36: Nefrologia | B36: 0 | C36: 0 | D36: 0 | E36: 0 | F36: 0 | G36: 0 | H36: 0 | I36: 0 | J36: 0 | K36: 0 | L36: 5 | M36: 15 | N36: =SUM(B36:M36) -> 20 | O36: =IF(N36=0,0,AVERAGE(B36:M36)) -> 1.6666667
A37: Nutrologia | B37: 35 | C37: 51 | D37: 316 | E37: 301 | F37: 16 | G37: 0 | H37: 0 | I37: 0 | J37: 0 | K37: 18 | L37: 0 | M37: 0 | N37: =SUM(B37:M37) -> 737 | O37: =IF(N37=0,0,AVERAGE(B37:M37)) -> 61.416667
A38: Otorinolaringologia | B38: 3 | C38: 4 | D38: 0 | E38: 0 | F38: 0 | G38: 1 | H38: 6 | I38: 7 | J38: 13 | K38: 19 | L38: 16 | M38: 19 | N38: =SUM(B38:M38) -> 88 | O38: =IF(N38=0,0,AVERAGE(B38:M38)) -> 7.3333333
A39: Plantonista / Clínica Médica | B39: 0 | C39: 0 | D39: 0 | E39: 0 | F39: 0 | G39: 0 | H39: 0 | I39: 15 | J39: 0 | K39: 0 | L39: 0 | M39: 0 | N39: =SUM(B39:M39) -> 15 | O39: =IF(N39=0,0,AVERAGE(B39:M39)) -> 1.25
A40: Pneumologia | B40: 33 | C40: 23 | D40: 26 | E40: 49 | F40: 31 | G40: 46 | H40: 76 | I40: 13 | J40: 55 | K40: 0 | L40: 46 | M40: 76 | N40: =SUM(B40:M40) -> 474 | O40: =IF(N40=0,0,AVERAGE(B40:M40)) -> 39.5
A41: Reumatologia | B41: 69 | C41: 44 | D41: 54 | E41: 138 | F41: 146 | G41: 170 | H41: 114 | I41: 51 | J41: 66 | K41: 130 | L41: 80 | M41: 53 | N41: =SUM(B41:M41) -> 1115 | O41: =IF(N41=0,0,AVERAGE(B41:M41)) -> 92.916667
A42: Total | B42: =IF(SUM(B21:B41)=0,"",SUM(B21:B41)) -> 1374 | C42: =IF(SUM(C21:C41)=0,"",SUM(C21:C41)) -> 1395 | D42: =IF(SUM(D21:D41)=0,"",SUM(D21:D41)) -> 1352 | E42: =IF(SUM(E21:E41)=0,"",SUM(E21:E41)) -> 1124 | F42: =IF(SUM(F21:F41)=0,"",SUM(F21:F41)) -> 1471 | G42: =IF(SUM(G21:G41)=0,"",SUM(G21:G41)) -> 1344 | H42: =IF(SUM(H21:H41)=0,"",SUM(H21:H41)) -> 1413 | I42: =IF(SUM(I21:I41)=0,"",SUM(I21:I41)) -> 1426 | ... M42: =IF(SUM(M21:M41)=0,"",SUM(M21:M41)) -> 1522 | N42: =SUM(N21:N41) -> 16820 | O42: =SUM(O21:O41) -> 1401.6667
A44: 1.4. Nº de Pacientes-Dia por Unidade | D44: LEITO COVID | E44: LEITO COVID
A45: Clínica Cirúrgica | B45: 758 | C45: 772 | D45: 657 | E45: 33 | F45: 785 | G45: 673 | H45: 707 | I45: 771 | J45: 670 | K45: 741 | L45: 819 | M45: 757 | N45: =SUM(B45:M45) -> 8143 | O45: =IF(N45=0,0,AVERAGE(B45:M45)) -> 678.58333
A46: Clínica Médica | B46: 459 | C46: 465 | D46: 460 | E46: 874 | F46: 497 | G46: 498 | H46: 518 | I46: 470 | J46: 533 | K46: 534 | L46: 511 | M46: 537 | N46: =SUM(B46:M46) -> 6356 | O46: =IF(N46=0,0,AVERAGE(B46:M46)) -> 529.66667
...

Sheet Planilha1
A1: 1.22. Média de Permanência por Unidade | B1: ACM | C1: MÉDIA
A2: Clínica Cirúrgica | B2: 45.752935 | C2: 3.8127445
A3: Clínica Médica | B3: 184.47974 | C3: 15.373312
A4: UTI Adulto | B4: 104.96224 | C4: 8.7468534
A5: Média Geral de Permanência | B5: 68.346799 | C5: 5.6955666

Sheet % de Ocupação
A1: PLANO ESTATÍSTICO | B1: JAN | C1: FEV | D1: MAR | E1: ABR | F1: MAI | G1: JUN | H1: JUL | I1: AGO | J1: SET | K1: OUT | L1: NOV | M1: DEZ
A2: 1.21. Porcentagem de Ocupação por Unidade
A3: Clínica Cirúrgica | B3: =Plano_Estatístico_2021_HJB!B342 -> 0.61129032 | C3: =Plano_Estatístico_2021_HJB!C342 -> 0.68928571 | D3: =Plano_Estatístico_2021_HJB!D342 -> 0.52983871 | E3: =Plano_Estatístico_2021_HJB!E342 -> 0.0275 | F3: =Plano_Estatístico_2021_HJB!F342 -> 0.63306452 | G3: =Plano_Estatístico_2021_HJB!G342 -> 0.56083333 | H3: =Plano_Estatístico_2021_HJB!H342 -> 0.57016129 | I3: =Plano_Estatístico_2021_HJB!I342 -> 0.62177419 | ... M3: =Plano_Estatístico_2021_HJB!M342 -> 0.61048387
A4: Clínica Médica | B4: =Plano_Estatístico_2021_HJB!B343 -> 0.74032258 | C4: =Plano_Estatístico_2021_HJB!C343 -> 0.83035714 | D4: =Plano_Estatístico_2021_HJB!D343 -> 0.74193548 | E4: =Plano_Estatístico_2021_HJB!E343 -> 1.4566667 | F4: =Plano_Estatístico_2021_HJB!F343 -> 0.8016129 | G4: =Plano_Estatístico_2021_HJB!G343 -> 0.83 | H4: =Plano_Estatístico_2021_HJB!H343 -> 0.83548387 | I4: =Plano_Estatístico_2021_HJB!I343 -> 0.75806452 | ... M4: =Plano_Estatístico_2021_HJB!M343 -> 0.86612903
A5: UTI Adulto | B5: =Plano_Estatístico_2021_HJB!B344 -> 0.50645161 | C5: =Plano_Estatístico_2021_HJB!C344 -> 0.56428571 | D5: =Plano_Estatístico_2021_HJB!D344 -> 0.75806452 | E5: =Plano_Estatístico_2021_HJB!E344 -> 0.72333333 | F5: =Plano_Estatístico_2021_HJB!F344 -> 0.60967742 | G5: =Plano_Estatístico_2021_HJB!G344 -> 0.57666667 | H5: =Plano_Estatístico_2021_HJB!H344 -> 0.60645161 | I5: =Plano_Estatístico_2021_HJB!I344 -> 0.59677419 | ... M5: =Plano_Estatístico_2021_HJB!M344 -> 0.73548387
A6: Porcentagem Geral de Ocupação | B6: =Plano_Estatístico_2021_HJB!B345 -> 0.63317972 | C6: =Plano_Estatístico_2021_HJB!C345 -> 0.71173469 | D6: =Plano_Estatístico_2021_HJB!D345 -> 0.62304147 | E6: =Plano_Estatístico_2021_HJB!E345 -> 0.5352381 | F6: =Plano_Estatístico_2021_HJB!F345 -> 0.67788018 | G6: =Plano_Estatístico_2021_HJB!G345 -> 0.64 | H6: =Plano_Estatístico_2021_HJB!H345 -> 0.65115207 | I6: =Plano_Estatístico_2021_HJB!I345 -> 0.65714286 | ... M6: =Plano_Estatístico_2021_HJB!M345 -> 0.70138249

Sheet % de Ocupação Trimestral
B1: Unidade/ Mês | C1: OUT | D1: NOV | E1: DEZ | G1: Porcentagem Geral de Ocupação (PGO)
A2: Paciente – dia | B2: Clínica Cirúrgica | C2: 741 | D2: 819 | G2: Unidade/ Mês | H2: OUT | I2: NOV | J2: DEZ
B3: Clínica Médica | C3: 534 | D3: 511 | G3: Clínica cirúrgica | H3: 0.59758065 | I3: 0.6825
B4: UTI | C4: 213 | D4: 210 | G4: Clínica Médica | H4: 0.86129032 | I4: 0.85166667
A5: Total | B5: - | C5: OUT | D5: NOV | E5: DEZ | G5: UTI | H5: 0.68709677 | I5: 0.7
A6: Leito – dia | B6: Clínica cirúrgica | C6: 1240 | D6: 1200 | G6: Geral | H6: 0.68571429 | I6: 0.73333333
B7: Clínica Médica | C7: 620 | D7: 600
B8: UTI | C8: 310 | D8: 300
A9: Total | B9: - | C9: =SUM(C6:C8) -> 2170 | D9: =SUM(D6:D8) -> 2100 | E9: =SUM(E6:E8) -> 0

Sheet Média de Permanência
A1: PLANO ESTATÍSTICO | B1: JAN | C1: FEV | D1: MAR | E1: ABR | F1: MAI | G1: JUN | H1: JUL | I1: AGO | J1: SET | K1: OUT | L1: NOV | M1: DEZ
A2: 1.22. Média de Permanência por Unidade
A3: Clínica Cirúrgica | B3: =Plano_Estatístico_2021_HJB!B350 -> 4.0319149 | C3: =Plano_Estatístico_2021_HJB!C350 -> 4.0418848 | D3: =Plano_Estatístico_2021_HJB!D350 -> 3.5901639 | E3: =Plano_Estatístico_2021_HJB!E350 -> 4.7142857 | F3: =Plano_Estatístico_2021_HJB!F350 -> 4.197861 | G3: =Plano_Estatístico_2021_HJB!G350 -> 3.4162437 | H3: =Plano_Estatístico_2021_HJB!H350 -> 3.3990385 | I3: =Plano_Estatístico_2021_HJB!I350 -> 3.5694444 | ... L3: =Plano_Estatístico_2021_HJB!L350 -> 4.2216495
A4: Clínica Médica | B4: =Plano_Estatístico_2021_HJB!B351 -> 30.6 | C4: =Plano_Estatístico_2021_HJB!C351 -> 17.884615 | D4: =Plano_Estatístico_2021_HJB!D351 -> 16.428571 | E4: =Plano_Estatístico_2021_HJB!E351 -> 6.2877698 | F4: =Plano_Estatístico_2021_HJB!F351 -> 13.432432 | G4: =Plano_Estatístico_2021_HJB!G351 -> 16.064516 | H4: =Plano_Estatístico_2021_HJB!H351 -> 11.772727 | I4: =Plano_Estatístico_2021_HJB!I351 -> 16.785714 | ... L4: =Plano_Estatístico_2021_HJB!L351 -> 13.102564
A5: UTI Adulto | B5: =Plano_Estatístico_2021_HJB!B352 -> 8.7222222 | C5: =Plano_Estatístico_2021_HJB!C352 -> 6.5833333 | D5: =Plano_Estatístico_2021_HJB!D352 -> 19.583333 | E5: =Plano_Estatístico_2021_HJB!E352 -> 9.4347826 | F5: =Plano_Estatístico_2021_HJB!F352 -> 9 | G5: =Plano_Estatístico_2021_HJB!G352 -> 8.65 | H5: =Plano_Estatístico_2021_HJB!H352 -> 5.875 | I5: =Plano_Estatístico_2021_HJB!I352 -> 5.78125 | ... L5: =Plano_Estatístico_2021_HJB!L352 -> 7
A6: Média Geral de Permanência | B6: =Plano_Estatístico_2021_HJB!B353 -> 6.2171946 | C6: =Plano_Estatístico_2021_HJB!C353 -> 5.7883817 | D6: =Plano_Estatístico_2021_HJB!D353 -> 6.0627803 | E6: =Plano_Estatístico_2021_HJB!E353 -> 6.6508876 | F6: =Plano_Estatístico_2021_HJB!F353 -> 6.0040816 | G6: =Plano_Estatístico_2021_HJB!G353 -> 5.4193548 | H6: =Plano_Estatístico_2021_HJB!H353 -> 4.9753521 | I6: =Plano_Estatístico_2021_HJB!I353 -> 5.1666667 | ... L6: =Plano_Estatístico_2021_HJB!L353 -> 5.8555133

Sheet Resumo_nov.2019
A1: Resumo dos Serviços - NOV/2019 | B1: JAN | C1: FEV | D1: MAR | E1: ABR | F1: MAI | G1: JUN | H1: JUL | I1: AGO | J1: SET | K1: OUT | L1: NOV | M1: ACM | N1: MÉDIA
A2: Total de Saídas Hospitalares | B2: 184 | C2: 192 | D2: 169 | E2: 175 | F2: 174 | G2: 160 | H2: 189 | I2: 181 | J2: 168 | K2: 162 | L2: 164 | M2: 1918 | N2: 174.36364
A3: Consultas Ambulatórias | B3: 2693 | C3: 2763 | D3: 2587 | E3: 3005 | F3: 3200 | G3: 2941 | H3: 3133 | I3: 3268 | J3: 3204 | K3: 3466 | L3: 3047 | M3: 33307 | N3: 3027.9091
A4: SADT Internos | B4: 9693 | C4: 8920 | D4: 8985 | E4: 9416 | F4: 9567 | G4: 8830 | H4: 9436 | I4: 8983 | J4: 8706 | K4: 8593 | L4: 8012 | M4: 99141 | N4: 9012.8182
A5: SADT Externos | B5: 13678 | C5: 13183 | D5: 13615 | E5: 13987 | F5: 14182 | G5: 13822 | H5: 13926 | I5: 14014 | J5: 14112 | K5: 14754 | L5: 12824 | M5: 152097 | N5: 13827
A6: Fisioterapia (Sessões) | B6: 2289 | C6: 2370 | D6: 2424 | E6: 2792 | F6: 3679 | G6: 3792 | H6: 2110 | I6: 2180 | J6: 1805 | K6: 1515 | L6: 1485 | M6: 26441 | N6: 2403.7273
A7: Fonoaudiologia (Sessões) | B7: 144 | C7: 139 | D7: 168 | E7: 194 | F7: 233 | G7: 213 | H7: 147 | I7: 139 | J7: 129 | K7: 107 | L7: 113 | M7: 1726 | N7: 156.90909
A8: Hemoterapia | B8: 47 | C8: 120 | D8: 47 | E8: 46 | F8: 70 | G8: 72 | H8: 79 | I8: 49 | J8: 81 | K8: 52 | L8: 80 | M8: 743 | N8: 67.545455
A9: Hemodiálise (Sessões) | B9: 35 | C9: 30 | D9: 59 | E9: 61 | F9: 84 | G9: 32 | H9: 48 | I9: 62 | J9: 50 | K9: 34 | L9: 18 | M9: 513 | N9: 46.636364
A10: Pulsoterapia | B10: 30 | C10: 31 | D10: 32 | E10: 23 | F10: 34 | G10: 31 | H10: 29 | I10: 31 | J10: 32 | K10: 39 | L10: 46 | M10: 358 | N10: 32.545455
A11: S.A.U - Serviço de Atenção ao Usuário | B11: 1881 | C11: 1983 | D11: 1854 | E11: 2075 | F11: 2129 | G11: 2081 | H11: 2207 | I11: 1138 | J11: 1578 | K11: 1843 | L11: 1853 | M11: 20622 | N11: 1874.7273
A12: Serviço Social | B12: 2837 | C12: 2011 | D12: 2394 | E12: 2719 | F12: 2776 | G12: 2355 | H12: 2236 | I12: 2278 | J12: 2698 | K12: 2600 | L12: 2182 | M12: 27086 | N12: 2462.3636
A13: Serviço Nutricional | B13: 844 | C13: 673 | D13: 579 | E13: 642 | F13: 832 | G13: 738 | H13: 842 | I13: 616 | J13: 576 | K13: 714 | L13: 528 | M13: 7584 | N13: 689.45455
... A16: Cirurgias Realizadas | B16: 186 | C16: 194 | D16: 171 | E16: 202 | F16: 183 | G16: 183 | H16: 196 | I16: 189 | J16: 199 | K16: 181 | L16: 174 | M16: 2058 | N16: 187.09091
