Workbook

Sheet P.E. Atual. 
B1: PLANO ESTATÍSTICO - 2016 - HOSPITAL REGIONAL DO MARAJÓ
B3: PLANO ESTATÍSTICO | C3: JAN | D3: FEV | E3: MAR | F3: ABR | G3: MAI | H3: JUN | I3: JUL | J3: AGO | K3: SET | L3: OUT | M3: NOV | N3: DEZ | O3: ACUMULADO
B4: 1- Estatística de Pacientes Internados
B6: 1.1. Nº de Leitos por Especialidade
B7: 1.1.1. Clínica Médica | C7: 13 | D7: 13 | E7: 13 | F7: 13 | G7: 13 | H7: 13 | I7: 13 | J7: 13 | K7: 13 | L7: 13 | M7: 13 | N7: 13 | O7: =SUM(C7:N7) -> 156
B8: 1.1.2. Clínica Pediátrica | C8: 9 | D8: 9 | E8: 9 | F8: 9 | G8: 9 | H8: 9 | I8: 9 | J8: 9 | K8: 9 | L8: 9 | M8: 9 | N8: 9 | O8: =SUM(C8:N8) -> 108
B9: 1.1.3. Clínica Cirúrgica | C9: 15 | D9: 15 | E9: 15 | F9: 15 | G9: 15 | H9: 15 | I9: 15 | J9: 15 | K9: 15 | L9: 15 | M9: 15 | N9: 15 | O9: =SUM(C9:N9) -> 180
B10: 1.1.4. Clínica Obstétrica | C10: 6 | D10: 6 | E10: 6 | F10: 6 | G10: 6 | H10: 6 | I10: 6 | J10: 6 | K10: 6 | L10: 6 | M10: 6 | N10: 6 | O10: =SUM(C10:N10) -> 72
B11: 1.1.5. UTI de Adultos | C11: 7 | D11: 7 | E11: 7 | F11: 7 | G11: 7 | H11: 7 | I11: 7 | J11: 7 | K11: 7 | L11: 7 | M11: 7 | N11: 7 | O11: =SUM(C11:N11) -> 84
B12: 1.1.6. UTI Infantil (Pediátrica) | C12: 5 | D12: 5 | E12: 5 | F12: 5 | G12: 5 | H12: 5 | I12: 5 | J12: 5 | K12: 5 | L12: 5 | M12: 5 | N12: 5 | O12: =SUM(C12:N12) -> 60
B13: 1.1.7. UTI Neonatal | C13: 5 | D13: 5 | E13: 5 | F13: 5 | G13: 5 | H13: 5 | I13: 5 | J13: 5 | K13: 5 | L13: 5 | M13: 5 | N13: 5 | O13: =SUM(C13:N13) -> 60
B14: 1.1.8. Berçário | C14: 0 | D14: 0 | E14: 0 | F14: 0 | G14: 0 | H14: 0 | I14: 0 | J14: 0 | K14: 0 | L14: 0 | M14: 0 | N14: 0 | O14: =SUM(C14:N14) -> 0
B15: 1.1.9. Clínica Ortopédica | C15: 10 | D15: 10 | E15: 10 | F15: 10 | G15: 10 | H15: 10 | I15: 10 | J15: 10 | K15: 10 | L15: 10 | M15: 10 | N15: 10 | O15: =SUM(C15:N15) -> 120
B16: SubTotal (Especialidades) | C16: =C7+C8+C9+C10+C15 -> 53 | D16: =D7+D8+D9+D10+D15 -> 53 | E16: =E7+E8+E9+E10+E15 -> 53 | F16: =F7+F8+F9+F10+F15 -> 53 | G16: =G7+G8+G9+G10+G15 -> 53 | H16: =H7+H8+H9+H10+H15 -> 53 | I16: =I7+I8+I9+I10+I15 -> 53 | J16: =J7+J8+J9+J10+J15 -> 53 | ... N16: =N7+N8+N9+N10+N15 -> 53 | O16: =SUM(O6:O14) -> 720
B17: Total com UTI | C17: =SUM(C7:C15) -> 70 | D17: =SUM(D7:D15) -> 70 | E17: =SUM(E7:E15) -> 70 | F17: =SUM(F7:F15) -> 70 | G17: =SUM(G7:G15) -> 70 | H17: =SUM(H7:H15) -> 70 | I17: =SUM(I7:I15) -> 70 | J17: =SUM(J7:J15) -> 70 | ... O17: =SUM(O7:O15) -> 840
B19: 1.2. Nº de Leitos por Unidade
B20: 1.2.1. Clínica Médica | C20: 13 | D20: 13 | E20: 13 | F20: 13 | G20: 13 | H20: 13 | I20: 13 | J20: 13 | K20: 13 | L20: 13 | M20: 13 | N20: 13 | O20: =SUM(C20:N20) -> 156
B21: 1.2.2. Pediátrica | C21: 9 | D21: 9 | E21: 9 | F21: 9 | G21: 9 | H21: 9 | I21: 9 | J21: 9 | K21: 9 | L21: 9 | M21: 9 | N21: 9 | O21: =SUM(C21:N21) -> 108
B22: 1.2.3. Clínica Cirúrgica | C22: 15 | D22: 15 | E22: 15 | F22: 15 | G22: 15 | H22: 15 | I22: 15 | J22: 15 | K22: 15 | L22: 15 | M22: 15 | N22: 15 | O22: =SUM(C22:N22) -> 180
B23: 1.2.4. Ginecologica/Obstétrica | C23: 6 | D23: 6 | E23: 6 | F23: 6 | G23: 6 | H23: 6 | I23: 6 | J23: 6 | K23: 6 | L23: 6 | M23: 6 | N23: 6 | O23: =SUM(C23:N23) -> 72
B24: 1.2.5. UTI de Adultos | C24: 7 | D24: 7 | E24: 7 | F24: 7 | G24: 7 | H24: 7 | I24: 7 | J24: 7 | K24: 7 | L24: 7 | M24: 7 | N24: 7 | O24: =SUM(C24:N24) -> 84
B25: 1.2.6. UTI Infantil (Pediátrica) | C25: 5 | D25: 5 | E25: 5 | F25: 5 | G25: 5 | H25: 5 | I25: 5 | J25: 5 | K25: 5 | L25: 5 | M25: 5 | N25: 5 | O25: =SUM(C25:N25) -> 60
B26: 1.2.7. UTI Neonatal | C26: 5 | D26: 5 | E26: 5 | F26: 5 | G26: 5 | H26: 5 | I26: 5 | J26: 5 | K26: 5 | L26: 5 | M26: 5 | N26: 5 | O26: =SUM(C26:N26) -> 60
B27: 1.2.8. Berçário | C27: 0 | D27: 0 | E27: 0 | F27: 0 | G27: 0 | H27: 0 | I27: 0 | J27: 0 | K27: 0 | L27: 0 | M27: 0 | N27: 0 | O27: =SUM(C27:N27) -> 0
B28: 1.2.9. Ortopédica | C28: 10 | D28: 10 | E28: 10 | F28: 10 | G28: 10 | H28: 10 | I28: 10 | J28: 10 | K28: 10 | L28: 10 | M28: 10 | N28: 10 | O28: =SUM(C28:N28) -> 120
B29: Total | C29: =SUM(C20:C28) -> 70 | D29: =SUM(D20:D28) -> 70 | E29: =SUM(E20:E28) -> 70 | F29: =SUM(F20:F28) -> 70 | G29: =SUM(G20:G28) -> 70 | H29: =SUM(H20:H28) -> 70 | I29: =SUM(I20:I28) -> 70 | J29: =SUM(J20:J28) -> 70 | ... O29: =SUM(O20:O28) -> 840
B31: 1.3. Nº de Leitos-Dia por Especialidade
B32: 1.3.1. Clínica Médica | C32: =C7*C$1615 -> 403 | D32: =D7*D$1615 -> 377 | E32: =E7*E$1615 -> 403 | F32: =F7*F$1615 -> 390 | G32: =G7*G$1615 -> 403 | H32: =H7*H$1615 -> 390 | I32: =I7*I$1615 -> 403 | J32: =J7*J$1615 -> 403 | ... N32: =N7*N$1615 -> 403 | O32: =SUM(C32:N32) -> 4758
B33: 1.3.2. Clínica Pediátrica | C33: =C8*C$1615 -> 279 | D33: =D8*D$1615 -> 261 | E33: =E8*E$1615 -> 279 | F33: =F8*F$1615 -> 270 | G33: =G8*G$1615 -> 279 | H33: =H8*H$1615 -> 270 | I33: =I8*I$1615 -> 279 | J33: =J8*J$1615 -> 279 | ... N33: =N8*N$1615 -> 279 | O33: =SUM(C33:N33) -> 3294
B34: 1.3.3. Clínica Cirúrgica | C34: =C9*C$1615 -> 465 | D34: =D9*D$1615 -> 435 | E34: =E9*E$1615 -> 465 | F34: =F9*F$1615 -> 450 | G34: =G9*G$1615 -> 465 | H34: =H9*H$1615 -> 450 | I34: =I9*I$1615 -> 465 | J34: =J9*J$1615 -> 465 | ... N34: =N9*N$1615 -> 465 | O34: =SUM(C34:N34) -> 5490
B35: 1.3.4. Clínica Ginecologica/Obstétrica | C35: =C10*C$1615 -> 186 | D35: =D10*D$1615 -> 174 | E35: =E10*E$1615 -> 186 | F35: =F10*F$1615 -> 180 | G35: =G10*G$1615 -> 186 | H35: =H10*H$1615 -> 180 | I35: =I10*I$1615 -> 186 | J35: =J10*J$1615 -> 186 | ... N35: =N10*N$1615 -> 186 | O35: =SUM(C35:N35) -> 2196
B36: 1.3.5. UTI de Adultos | C36: =C11*C$1615 -> 217 | D36: =D11*D$1615 -> 203 | E36: =E11*E$1615 -> 217 | F36: =F11*F$1615 -> 210 | G36: =G11*G$1615 -> 217 | H36: =H11*H$1615 -> 210 | I36: =I11*I$1615 -> 217 | J36: =J11*J$1615 -> 217 | ... N36: =N11*N$1615 -> 217 | O36: =SUM(C36:N36) -> 2562
B37: 1.3.6. UTI Infantil (Pediátrica) | C37: =C12*C$1615 -> 155 | D37: =D12*D$1615 -> 145 | E37: =E12*E$1615 -> 155 | F37: =F12*F$1615 -> 150 | G37: =G12*G$1615 -> 155 | H37: =H12*H$1615 -> 150 | I37: =I12*I$1615 -> 155 | J37: =J12*J$1615 -> 155 | ... N37: =N12*N$1615 -> 155 | O37: =SUM(C37:N37) -> 1830
B38: 1.3.7. UTI Neonatal | C38: =C13*C$1615 -> 155 | D38: =D13*D$1615 -> 145 | E38: =E13*E$1615 -> 155 | F38: =F13*F$1615 -> 150 | G38: =G13*G$1615 -> 155 | H38: =H13*H$1615 -> 150 | I38: =I13*I$1615 -> 155 | J38: =J13*J$1615 -> 155 | ... N38: =N13*N$1615 -> 155 | O38: =SUM(C38:N38) -> 1830
B39: 1.3.8. Berçário | C39: =C14*C$1615 -> 0 | D39: =D14*D$1615 -> 0 | E39: =E14*E$1615 -> 0 | F39: =F14*F$1615 -> 0 | G39: =G14*G$1615 -> 0 | H39: =H14*H$1615 -> 0 | I39: =I14*I$1615 -> 0 | J39: =J14*J$1615 -> 0 | ... N39: =N14*N$1615 -> 0 | O39: =SUM(C39:N39) -> 0
B40: 1.3.9. Clínica Ortopédica | C40: =C15*C$1615 -> 310 | D40: =D15*D$1615 -> 290 | E40: =E15*E$1615 -> 310 | F40: =F15*F$1615 -> 300 | G40: =G15*G$1615 -> 310 | H40: =H15*H$1615 -> 300 | I40: =I15*I$1615 -> 310 | J40: =J15*J$1615 -> 310 | ... N40: =N15*N$1615 -> 310 | O40: =SUM(C40:N40) -> 3660
B41: SubTotal (Especialidades) | C41: =C32+C33+C34+C35+C40 -> 1643 | D41: =D32+D33+D34+D35+D40 -> 1537 | E41: =E32+E33+E34+E35+E40 -> 1643 | F41: =F32+F33+F34+F35+F40 -> 1590 | G41: =G32+G33+G34+G35+G40 -> 1643 | H41: =H32+H33+H34+H35+H40 -> 1590 | I41: =I32+I33+I34+I35+I40 -> 1643 | J41: =J32+J33+J34+J35+J40 -> 1643 | ... N41: =N32+N33+N34+N35+N40 -> 1643 | O41: =SUM(O31:O39) -> 21960
B42: Total com UTI | C42: =SUM(C32:C40) -> 2170 | D42: =SUM(D32:D40) -> 2030 | E42: =SUM(E32:E40) -> 2170 | F42: =SUM(F32:F40) -> 2100 | G42: =SUM(G32:G40) -> 2170 | H42: =SUM(H32:H40) -> 2100 | I42: =SUM(I32:I40) -> 2170 | J42: =SUM(J32:J40) -> 2170 | ... N42: =SUM(N32:N40) -> 2170 | O42: =SUM(C42:N42) -> 25620
B44: 1.4. Nº de Leitos-Dia por Unidade
B45: 1.4.1. Clínica Médica | C45: =C20*C$1615 -> 403 | D45: =D20*D$1615 -> 377 | E45: =E20*E$1615 -> 403 | F45: =F20*F$1615 -> 390 | G45: =G20*G$1615 -> 403 | H45: =H20*H$1615 -> 390 | I45: =I20*I$1615 -> 403 | J45: =J20*J$1615 -> 403 | ... N45: =N20*N$1615 -> 403 | O45: =SUM(C45:N45) -> 4758
...

Sheet Graficos % Ocupação

Sheet Atividade Assistêncial
B2: HRPM 2016 - RELATÓRIO DE ATIVIDADES - SEDE
B3: 1. ATIVIDADES ASSISTENCIAIS | F3: 2016 | R3: TOTAL | S3: 2016
C4: 1.1. NÚMERO DE LEITOS - ESPECIALIDADE | F4: Janeiro | G4: Fevereiro | H4: Março | I4: Abril | J4: Maio | K4: Junho | L4: Julho | M4: Agosto | N4: Setembro | O4: Outubro | P4: Novembro | Q4: Dezembro | R4: 2016 | S4: MÉDIA MENSAL
D5: 1.1.1 Clínica Médica | F5: 13 | G5: 13 | H5: 13 | I5: 13 | J5: 13 | K5: 13 | L5: 13 | M5: 13 | N5: 13 | O5: 13 | P5: 13 | Q5: 13 | R5: =SUM(F5:Q5) -> 156 | S5: =AVERAGE(F5:Q5) -> 13
D6: 1.1.2. Clínica Pediátrica | F6: 9 | G6: 9 | H6: 9 | I6: 9 | J6: 9 | K6: 9 | L6: 9 | M6: 9 | N6: 9 | O6: 9 | P6: 9 | Q6: 9 | R6: =SUM(F6:Q6) -> 108 | S6: =AVERAGE(F6:Q6) -> 9
D7: 1.1.3. Clínica Cirúrgica | F7: 15 | G7: 15 | H7: 15 | I7: 15 | J7: 15 | K7: 15 | L7: 15 | M7: 15 | N7: 15 | O7: 15 | P7: 15 | Q7: 15 | R7: =SUM(F7:Q7) -> 180 | S7: =AVERAGE(F7:Q7) -> 15
D8: 1.1.4. Clínica Obstétrica | F8: 6 | G8: 6 | H8: 6 | I8: 6 | J8: 6 | K8: 6 | L8: 6 | M8: 6 | N8: 6 | O8: 6 | P8: 6 | Q8: 6 | R8: =SUM(F8:Q8) -> 72 | S8: =AVERAGE(F8:Q8) -> 6
D9: 1.1.5. UTI de Adultos | F9: 7 | G9: 7 | H9: 7 | I9: 7 | J9: 7 | K9: 7 | L9: 7 | M9: 7 | N9: 7 | O9: 7 | P9: 7 | Q9: 7 | R9: =SUM(F9:Q9) -> 84 | S9: =AVERAGE(F9:Q9) -> 7
D10: 1.1.6. UTI Infantil | F10: 5 | G10: 5 | H10: 5 | I10: 5 | J10: 5 | K10: 5 | L10: 5 | M10: 5 | N10: 5 | O10: 5 | P10: 5 | Q10: 5 | R10: =SUM(F10:Q10) -> 60 | S10: =AVERAGE(F10:Q10) -> 5
D11: 1.1.7. UTI Neonatal | F11: 5 | G11: 5 | H11: 5 | I11: 5 | J11: 5 | K11: 5 | L11: 5 | M11: 5 | N11: 5 | O11: 5 | P11: 5 | Q11: 5 | R11: =SUM(F11:Q11) -> 60 | S11: =AVERAGE(F11:Q11) -> 5
D12: 1.1.8. Berçário | F12: 0 | G12: 0 | H12: 0 | I12: 0 | J12: 0 | K12: 0 | L12: 0 | M12: 0 | N12: 0 | O12: 0 | P12: 0 | Q12: 0 | R12: =SUM(F12:Q12) -> 0 | S12: =AVERAGE(F12:Q12) -> 0
D13: 1.1.9. Clínica Ortopédica | F13: 10 | G13: 10 | H13: 10 | I13: 10 | J13: 10 | K13: 10 | L13: 10 | M13: 10 | N13: 10 | O13: 10 | P13: 10 | Q13: 10 | R13: =SUM(F13:Q13) -> 120 | S13: =AVERAGE(F13:Q13) -> 10
D14: 1.2.0. Outros | F14: 0 | G14: 0 | H14: 0 | I14: 0 | J14: 0 | K14: 0 | L14: 0 | M14: 0 | N14: 0 | O14: 0 | P14: 0 | Q14: 0 | R14: =SUM(F14:Q14) -> 0 | S14: =AVERAGE(F14:Q14) -> 0
D15: Total de Leitos | F15: =SUM(F5:F14) -> 70 | G15: =SUM(G5:G14) -> 70 | H15: =SUM(H5:H14) -> 70 | I15: =SUM(I5:I14) -> 70 | J15: =SUM(J5:J14) -> 70 | K15: =SUM(K5:K14) -> 70 | L15: =SUM(L5:L14) -> 70 | M15: =SUM(M5:M14) -> 70 | ... Q15: =SUM(Q5:Q14) -> 70 | R15: =SUM(F15:Q15) -> 840 | S15: =SUM(S5:S14) -> 70
C16: 1.1.1 PACIENTES DIA POR ESPECIALIDADE
D17: 1.1.1.1 Clínica Médica | F17: ='P.E. Atual. '!C65 -> 247 | G17: ='P.E. Atual. '!D65 -> 299 | H17: ='P.E. Atual. '!E65 -> 299 | I17: ='P.E. Atual. '!F65 -> 213 | J17: ='P.E. Atual. '!G65 -> 221 | K17: ='P.E. Atual. '!H65 -> 146 | L17: ='P.E. Atual. '!I65 -> 259 | M17: ='P.E. Atual. '!J65 -> 249 | ... Q17: ='P.E. Atual. '!N65 -> 256 | R17: =SUM(F17:Q17) -> 3122 | S17: =AVERAGE(F17:Q17) -> 260.16667
D18: 1.1.1.2. Clínica Pediátrica | F18: ='P.E. Atual. '!C66 -> 271 | G18: ='P.E. Atual. '!D66 -> 238 | H18: ='P.E. Atual. '!E66 -> 240 | I18: ='P.E. Atual. '!F66 -> 208 | J18: ='P.E. Atual. '!G66 -> 226 | K18: ='P.E. Atual. '!H66 -> 211 | L18: ='P.E. Atual. '!I66 -> 251 | M18: ='P.E. Atual. '!J66 -> 259 | ... Q18: ='P.E. Atual. '!N66 -> 252 | R18: =SUM(F18:Q18) -> 2914 | S18: =AVERAGE(F18:Q18) -> 242.83333
D19: 1.1.1.3. Clínica Cirúrgica | F19: ='P.E. Atual. '!C67 -> 340 | G19: ='P.E. Atual. '!D67 -> 374 | H19: ='P.E. Atual. '!E67 -> 419 | I19: ='P.E. Atual. '!F67 -> 420 | J19: ='P.E. Atual. '!G67 -> 361 | K19: ='P.E. Atual. '!H67 -> 345 | L19: ='P.E. Atual. '!I67 -> 368 | M19: ='P.E. Atual. '!J67 -> 433 | ... Q19: ='P.E. Atual. '!N67 -> 346 | R19: =SUM(F19:Q19) -> 4540 | S19: =AVERAGE(F19:Q19) -> 378.33333
D20: 1.1.1.4. Clínica Obstétrica | F20: ='P.E. Atual. '!C68 -> 89 | G20: ='P.E. Atual. '!D68 -> 92 | H20: ='P.E. Atual. '!E68 -> 91 | I20: ='P.E. Atual. '!F68 -> 133 | J20: ='P.E. Atual. '!G68 -> 104 | K20: ='P.E. Atual. '!H68 -> 96 | L20: ='P.E. Atual. '!I68 -> 108 | M20: ='P.E. Atual. '!J68 -> 154 | ... Q20: ='P.E. Atual. '!N68 -> 93 | R20: =SUM(F20:Q20) -> 1380 | S20: =AVERAGE(F20:Q20) -> 115
D21: 1.1.1.5. UTI de Adultos | F21: ='P.E. Atual. '!C69 -> 173 | G21: ='P.E. Atual. '!D69 -> 175 | H21: ='P.E. Atual. '!E69 -> 153 | I21: ='P.E. Atual. '!F69 -> 142 | J21: ='P.E. Atual. '!G69 -> 158 | K21: ='P.E. Atual. '!H69 -> 170 | L21: ='P.E. Atual. '!I69 -> 151 | M21: ='P.E. Atual. '!J69 -> 147 | ... Q21: ='P.E. Atual. '!N69 -> 128 | R21: =SUM(F21:Q21) -> 1828 | S21: =AVERAGE(F21:Q21) -> 152.33333
D22: 1.1.1.6. UTI Infantil | F22: ='P.E. Atual. '!C70 -> 134 | G22: ='P.E. Atual. '!D70 -> 119 | H22: ='P.E. Atual. '!E70 -> 122 | I22: ='P.E. Atual. '!F70 -> 129 | J22: ='P.E. Atual. '!G70 -> 146 | K22: ='P.E. Atual. '!H70 -> 125 | L22: ='P.E. Atual. '!I70 -> 123 | M22: ='P.E. Atual. '!J70 -> 155 | ... Q22: ='P.E. Atual. '!N70 -> 110 | R22: =SUM(F22:Q22) -> 1545 | S22: =AVERAGE(F22:Q22) -> 128.75
D23: 1.1.1.7. UTI Neonatal | F23: ='P.E. Atual. '!C71 -> 149 | G23: ='P.E. Atual. '!D71 -> 127 | H23: ='P.E. Atual. '!E71 -> 114 | I23: ='P.E. Atual. '!F71 -> 132 | J23: ='P.E. Atual. '!G71 -> 140 | K23: ='P.E. Atual. '!H71 -> 105 | L23: ='P.E. Atual. '!I71 -> 133 | M23: ='P.E. Atual. '!J71 -> 146 | ... Q23: ='P.E. Atual. '!N71 -> 117 | R23: =SUM(F23:Q23) -> 1558 | S23: =AVERAGE(F23:Q23) -> 129.83333
D24: 1.1.1.8. Berçário | F24: ='P.E. Atual. '!C72 -> 0 | G24: ='P.E. Atual. '!D72 -> 0 | H24: ='P.E. Atual. '!E72 -> 0 | I24: ='P.E. Atual. '!F72 -> 0 | J24: ='P.E. Atual. '!G72 -> 0 | K24: ='P.E. Atual. '!H72 -> 0 | L24: ='P.E. Atual. '!I72 -> 0 | M24: ='P.E. Atual. '!J72 -> 0 | ... Q24: ='P.E. Atual. '!N72 -> 0 | R24: =SUM(F24:Q24) -> 0 | S24: =AVERAGE(F24:Q24) -> 0
D25: 1.1.1.9. Clínica Ortopédica | F25: ='P.E. Atual. '!C73 -> 263 | G25: ='P.E. Atual. '!D73 -> 241 | H25: ='P.E. Atual. '!E73 -> 248 | I25: ='P.E. Atual. '!F73 -> 268 | J25: ='P.E. Atual. '!G73 -> 250 | K25: ='P.E. Atual. '!H73 -> 245 | L25: ='P.E. Atual. '!I73 -> 237 | M25: ='P.E. Atual. '!J73 -> 233 | ... Q25: ='P.E. Atual. '!N73 -> 236 | R25: =SUM(F25:Q25) -> 3027 | S25: =AVERAGE(F25:Q25) -> 252.25
D26: 1.1.2.0. Outros | F26: ='P.E. Atual. '!C74 -> 0 | G26: ='P.E. Atual. '!D74 -> 0 | H26: ='P.E. Atual. '!E74 -> 0 | I26: ='P.E. Atual. '!F74 -> 0 | J26: ='P.E. Atual. '!G74 -> 0 | K26: ='P.E. Atual. '!H74 -> 0 | L26: ='P.E. Atual. '!I74 -> 0 | M26: ='P.E. Atual. '!J74 -> 0 | ... Q26: ='P.E. Atual. '!N74 -> 0 | R26: =SUM(F26:Q26) -> 0 | S26: =AVERAGE(F26:Q26) -> 0
D27: Total de Pacientes Dia por Especialidade | F27: =SUM(F17:F26) -> 1666 | G27: =SUM(G17:G26) -> 1665 | H27: =SUM(H17:H26) -> 1686 | I27: =SUM(I17:I26) -> 1645 | J27: =SUM(J17:J26) -> 1606 | K27: =SUM(K17:K26) -> 1443 | L27: =SUM(L17:L26) -> 1630 | M27: =SUM(M17:M26) -> 1776 | ... S27: =SUM(S17:S26) -> 1659.5
C28: 1.2. NÚMERO DE PACIENTES-DIA
D29: 1.2.1. PACIENTES PAGANTES
D30: 1.2.1.1. Particulares | F30: 0 | G30: 0 | H30: 0 | I30: 0 | J30: 0 | K30: 0 | L30: 0 | M30: 0 | N30: 0 | O30: 0 | P30: 0 | Q30: 0 | R30: =SUM(F30:Q30) -> 0 | S30: =AVERAGE(F30:Q30) -> 0
D31: 1.2.1.2. Convênio A | F31: 0 | G31: 0 | H31: 0 | I31: 0 | J31: 0 | K31: 0 | L31: 0 | M31: 0 | N31: 0 | O31: 0 | P31: 0 | Q31: 0 | R31: =SUM(F31:Q31) -> 0 | S31: =AVERAGE(F31:Q31) -> 0
D32: 1.2.1.3. Convênio B | F32: 0 | G32: 0 | H32: 0 | I32: 0 | J32: 0 | K32: 0 | L32: 0 | M32: 0 | N32: 0 | O32: 0 | P32: 0 | Q32: 0 | R32: =SUM(F32:Q32) -> 0 | S32: =AVERAGE(F32:Q32) -> 0
D33: 1.2.1.4. Convênio C | F33: 0 | G33: 0 | H33: 0 | I33: 0 | J33: 0 | K33: 0 | L33: 0 | M33: 0 | N33: 0 | O33: 0 | P33: 0 | Q33: 0 | R33: =SUM(F33:Q33) -> 0 | S33: =AVERAGE(F33:Q33) -> 0
D34: 1.2.1.5. Outros Convênios | F34: 0 | G34: 0 | H34: 0 | I34: 0 | J34: 0 | K34: 0 | L34: 0 | M34: 0 | N34: 0 | O34: 0 | P34: 0 | Q34: 0 | R34: =SUM(F34:Q34) -> 0 | S34: =AVERAGE(F34:Q34) -> 0
D35: Sub total ( 1 ) | F35: =SUM(F30:F34) -> 0 | G35: =SUM(G30:G34) -> 0 | H35: =SUM(H30:H34) -> 0 | I35: =SUM(I30:I34) -> 0 | J35: =SUM(J30:J34) -> 0 | K35: =SUM(K30:K34) -> 0 | L35: =SUM(L30:L34) -> 0 | M35: =SUM(M30:M34) -> 0 | ... S35: =SUM(S30:S34) -> 0
D36: 1.2.2. SOCIAIS
D37: 1.2.2.1. SUS | F37: =F27 -> 1666 | G37: =G27 -> 1665 | H37: =H27 -> 1686 | I37: =I27 -> 1645 | J37: =J27 -> 1606 | K37: =K27 -> 1443 | L37: =L27 -> 1630 | M37: =M27 -> 1776 | ... Q37: =Q27 -> 1538 | R37: =SUM(F37:Q37) -> 19914 | S37: =AVERAGE(F37:Q37) -> 1659.5
D38: 1.2.2.2. Gratuito | F38: 0 | G38: 0 | H38: 0 | I38: 0 | J38: 0 | K38: 0 | L38: 0 | M38: 0 | N38: 0 | O38: 0 | P38: 0 | Q38: 0 | R38: =SUM(F38:Q38) -> 0 | S38: =AVERAGE(F38:Q38) -> 0
D39: Sub Total ( 2 ) | F39: =SUM(F37:F38) -> 1666 | G39: =SUM(G37:G38) -> 1665 | H39: =SUM(H37:H38) -> 1686 | I39: =SUM(I37:I38) -> 1645 | J39: =SUM(J37:J38) -> 1606 | K39: =SUM(K37:K38) -> 1443 | L39: =SUM(L37:L38) -> 1630 | M39: =SUM(M37:M38) -> 1776 | ... S39: =SUM(S37:S38) -> 1659.5
D40: T o t a l d e Pacientes/dia | F40: =F35+F39 -> 1666 | G40: =G35+G39 -> 1665 | H40: =H35+H39 -> 1686 | I40: =I35+I39 -> 1645 | J40: =J35+J39 -> 1606 | K40: =K35+K39 -> 1443 | L40: =L35+L39 -> 1630 | M40: =M35+M39 -> 1776 | ... S40: =S35+S39 -> 1659.5
D41: Média Diária de Pacientes | F41: =F40/F221 -> 53.741935 | G41: =G40/G221 -> 57.413793 | H41: =H40/H221 -> 54.387097 | I41: =I40/I221 -> 54.833333 | J41: =J40/J221 -> 51.806452 | K41: =K40/K221 -> 48.1 | L41: =L40/L221 -> 52.580645 | M41: =M40/M221 -> 57.290323 | ... S41: =S40/S221 -> 54.409836
...

Sheet Quadro de Pessoal
A2: 2. RECURSOS HUMANOS | D2: 2016 | P2: TOTAL | R2: MÉDIA DOS MESES DE JUNHO, JULHO E AGOSTO | S2: VARIAÇÃO EM % ENTRE AS MÉDIAS DO ANOS
B3: 2.1. RECURSOS HUMANOS - PRÓPRIO | D3: Janeiro | E3: Fevereiro | F3: Março | G3: Abril | H3: Maio | I3: Junho | J3: Julho | K3: Agosto | L3: Setembro | M3: Outubro | N3: Novembro | O3: Dezembro | P3: 2016 | R3: 2015 | S3: 2015 x 2016
C4: 2.1.1. Administração | D4: ='P.E. Atual. '!C1504 -> 27 | E4: ='P.E. Atual. '!D1504 -> 28 | F4: ='P.E. Atual. '!E1504 -> 26 | G4: ='P.E. Atual. '!F1504 -> 25 | H4: ='P.E. Atual. '!G1504 -> 25 | I4: ='P.E. Atual. '!H1504 -> 26 | J4: ='P.E. Atual. '!I1504 -> 26 | K4: ='P.E. Atual. '!J1504 -> 25 | ... O4: ='P.E. Atual. '!N1504 -> 27 | P4: =AVERAGE(D4:O4) -> 26.416667 | R4: 67 | S4: =IFERROR(((P4/R4)-1),0) -> -0.60572139
C5: 2.1.2. Enfermagem - Total | D5: =SUM(D6:D9) -> 193 | E5: =SUM(E6:E9) -> 193 | F5: =SUM(F6:F9) -> 195 | G5: =SUM(G6:G9) -> 195 | H5: =SUM(H6:H9) -> 191 | I5: =SUM(I6:I9) -> 194 | J5: =SUM(J6:J9) -> 195 | K5: =SUM(K6:K9) -> 193 | ... P5: =SUM(P6:P9) -> 193.41667 | R5: =SUM(R6:R9) -> 193 | S5: =IFERROR(((P5/R5)-1),0) -> 0.0021588946
C6: 2.1.2.1. Enfermeiros | D6: ='P.E. Atual. '!C1505 -> 36 | E6: ='P.E. Atual. '!D1505 -> 36 | F6: ='P.E. Atual. '!E1505 -> 36 | G6: ='P.E. Atual. '!F1505 -> 36 | H6: ='P.E. Atual. '!G1505 -> 33 | I6: ='P.E. Atual. '!H1505 -> 35 | J6: ='P.E. Atual. '!I1505 -> 36 | K6: ='P.E. Atual. '!J1505 -> 37 | ... O6: ='P.E. Atual. '!N1505 -> 39 | P6: =AVERAGE(D6:O6) -> 36.333333 | R6: 35.666667 | S6: =IFERROR(((P6/R6)-1),0) -> 0.018691589
C7: 2.1.2.2. Técnicos de Enfermagem | D7: ='P.E. Atual. '!C1506 -> 156 | E7: ='P.E. Atual. '!D1506 -> 156 | F7: ='P.E. Atual. '!E1506 -> 158 | G7: ='P.E. Atual. '!F1506 -> 158 | H7: ='P.E. Atual. '!G1506 -> 157 | I7: ='P.E. Atual. '!H1506 -> 158 | J7: ='P.E. Atual. '!I1506 -> 158 | K7: ='P.E. Atual. '!J1506 -> 155 | ... O7: ='P.E. Atual. '!N1506 -> 154 | P7: =AVERAGE(D7:O7) -> 156.08333 | R7: 156.33333 | S7: =IFERROR(((P7/R7)-1),0) -> -0.0015991471
C8: 2.1.2.3. Auxiliares de Enfermagem | D8: ='P.E. Atual. '!C1507 -> 0 | E8: ='P.E. Atual. '!D1507 -> 0 | F8: ='P.E. Atual. '!E1507 -> 0 | G8: ='P.E. Atual. '!F1507 -> 0 | H8: ='P.E. Atual. '!G1507 -> 0 | I8: ='P.E. Atual. '!H1507 -> 0 | J8: ='P.E. Atual. '!I1507 -> 0 | K8: ='P.E. Atual. '!J1507 -> 0 | ... O8: ='P.E. Atual. '!N1507 -> 0 | P8: =AVERAGE(D8:O8) -> 0 | R8: 0 | S8: =IFERROR(((P8/R8)-1),0) -> 0
C9: 2.1.2.4. Maqueiro | D9: ='P.E. Atual. '!C1518 -> 1 | E9: ='P.E. Atual. '!D1518 -> 1 | F9: ='P.E. Atual. '!E1518 -> 1 | G9: ='P.E. Atual. '!F1518 -> 1 | H9: ='P.E. Atual. '!G1518 -> 1 | I9: ='P.E. Atual. '!H1518 -> 1 | J9: ='P.E. Atual. '!I1518 -> 1 | K9: ='P.E. Atual. '!J1518 -> 1 | ... O9: ='P.E. Atual. '!N1518 -> 1 | P9: =AVERAGE(D9:O9) -> 1 | R9: 1 | S9: =IFERROR(((P9/R9)-1),0) -> 0
C10: 2.1.3. Serviços de Apoio Assistencial (Fisio, Fono, Nutricionista e etc) | D10: 2 | E10: 2 | F10: 2 | G10: 2 | H10: 2 | I10: 2 | J10: 2 | K10: 2 | L10: 2 | M10: 2 | N10: 2 | O10: 2 | P10: =AVERAGE(D10:O10) -> 2 | R10: 0 | S10: =IFERROR(((P10/R10)-1),0) -> 0
C11: 2.1.4. S.A.D.T. | D11: ='P.E. Atual. '!C1508 -> 2 | E11: ='P.E. Atual. '!D1508 -> 2 | F11: ='P.E. Atual. '!E1508 -> 4 | G11: ='P.E. Atual. '!F1508 -> 4 | H11: ='P.E. Atual. '!G1508 -> 4 | I11: ='P.E. Atual. '!H1508 -> 4 | J11: ='P.E. Atual. '!I1508 -> 4 | K11: ='P.E. Atual. '!J1508 -> 4 | ... O11: ='P.E. Atual. '!N1508 -> 4 | P11: =AVERAGE(D11:O11) -> 3.6666667 | R11: 9 | S11: =IFERROR(((P11/R11)-1),0) -> -0.59259259
C12: 2.1.5. Nutrição | D12: ='P.E. Atual. '!C1513 -> 26 | E12: ='P.E. Atual. '!D1513 -> 25 | F12: ='P.E. Atual. '!E1513 -> 26 | G12: ='P.E. Atual. '!F1513 -> 26 | H12: ='P.E. Atual. '!G1513 -> 26 | I12: ='P.E. Atual. '!H1513 -> 26 | J12: ='P.E. Atual. '!I1513 -> 26 | K12: ='P.E. Atual. '!J1513 -> 25 | ... O12: ='P.E. Atual. '!N1513 -> 27 | P12: =AVERAGE(D12:O12) -> 26.083333 | R12: 25.333333 | S12: =IFERROR(((P12/R12)-1),0) -> 0.029605263
C13: 2.1.6. Limpeza e Higienização | D13: ='P.E. Atual. '!C1514 -> 34 | E13: ='P.E. Atual. '!D1514 -> 34 | F13: ='P.E. Atual. '!E1514 -> 34 | G13: ='P.E. Atual. '!F1514 -> 34 | H13: ='P.E. Atual. '!G1514 -> 34 | I13: ='P.E. Atual. '!H1514 -> 34 | J13: ='P.E. Atual. '!I1514 -> 34 | K13: ='P.E. Atual. '!J1514 -> 35 | ... O13: ='P.E. Atual. '!N1514 -> 35 | P13: =AVERAGE(D13:O13) -> 34.416667 | R13: 36 | S13: =IFERROR(((P13/R13)-1),0) -> -0.043981481
C14: 2.1.7. Processamento da Roupa | D14: 8 | E14: 8 | F14: 8 | G14: 8 | H14: 8 | I14: 8 | J14: 8 | K14: 8 | L14: 8 | M14: 8 | N14: 8 | O14: 8 | P14: =AVERAGE(D14:O14) -> 8 | R14: 8 | S14: =IFERROR(((P14/R14)-1),0) -> 0
C15: 2.1.8. Manutenção / Segurança | D15: ='P.E. Atual. '!C1516 -> 7 | E15: ='P.E. Atual. '!D1516 -> 7 | F15: ='P.E. Atual. '!E1516 -> 7 | G15: ='P.E. Atual. '!F1516 -> 7 | H15: ='P.E. Atual. '!G1516 -> 6 | I15: ='P.E. Atual. '!H1516 -> 6 | J15: ='P.E. Atual. '!I1516 -> 6 | K15: ='P.E. Atual. '!J1516 -> 5 | ... O15: ='P.E. Atual. '!N1516 -> 5 | P15: =AVERAGE(D15:O15) -> 5.9166667 | R15: 17 | S15: =IFERROR(((P15/R15)-1),0) -> -0.65196078
C16: S u b t o t a l ( 1 ) | D16: =D4+D5+D10+D11+D12+D13+D14+D15 -> 299 | E16: =E4+E5+E10+E11+E12+E13+E14+E15 -> 299 | F16: =F4+F5+F10+F11+F12+F13+F14+F15 -> 302 | G16: =G4+G5+G10+G11+G12+G13+G14+G15 -> 301 | H16: =H4+H5+H10+H11+H12+H13+H14+H15 -> 296 | I16: =I4+I5+I10+I11+I12+I13+I14+I15 -> 300 | J16: =J4+J5+J10+J11+J12+J13+J14+J15 -> 301 | K16: =K4+K5+K10+K11+K12+K13+K14+K15 -> 297 | ... P16: =P4+P5+P10+P11+P12+P13+P14+P15 -> 299.91667 | R16: =R4+R5+R10+R11+R12+R13+R14+R15 -> 355.33333 | S16: =IFERROR(((P16/R16)-1),0) -> -0.15595685
C17: 2.1.9. Obras | D17: ='P.E. Atual. '!C1525 -> 0 | E17: ='P.E. Atual. '!D1525 -> 0 | F17: ='P.E. Atual. '!E1525 -> 0 | G17: ='P.E. Atual. '!F1525 -> 0 | H17: ='P.E. Atual. '!G1525 -> 0 | I17: ='P.E. Atual. '!H1525 -> 0 | J17: ='P.E. Atual. '!I1525 -> 0 | K17: ='P.E. Atual. '!J1525 -> 0 | ... O17: ='P.E. Atual. '!N1525 -> 0 | P17: =AVERAGE(D17:O17) -> 0 | R17: 0 | S17: =IFERROR(((P17/R17)-1),0) -> 0
C18: 2.1.10. Médicos empregados | D18: ='P.E. Atual. '!C1526 -> 0 | E18: ='P.E. Atual. '!D1526 -> 0 | F18: ='P.E. Atual. '!E1526 -> 0 | G18: ='P.E. Atual. '!F1526 -> 0 | H18: ='P.E. Atual. '!G1526 -> 0 | I18: ='P.E. Atual. '!H1526 -> 0 | J18: ='P.E. Atual. '!I1526 -> 0 | K18: ='P.E. Atual. '!J1526 -> 0 | ... O18: ='P.E. Atual. '!N1526 -> 0 | P18: =AVERAGE(D18:O18) -> 0 | R18: 0 | S18: =IFERROR(((P18/R18)-1),0) -> 0
C19: 2.1.11. Outros | D19: ='P.E. Atual. '!C1527 -> 0 | E19: ='P.E. Atual. '!D1527 -> 0 | F19: ='P.E. Atual. '!E1527 -> 0 | G19: ='P.E. Atual. '!F1527 -> 0 | H19: ='P.E. Atual. '!G1527 -> 0 | I19: ='P.E. Atual. '!H1527 -> 0 | J19: ='P.E. Atual. '!I1527 -> 0 | K19: ='P.E. Atual. '!J1527 -> 0 | ... O19: ='P.E. Atual. '!N1527 -> 0 | P19: =AVERAGE(D19:O19) -> 0 | R19: 0 | S19: =IFERROR(((P19/R19)-1),0) -> 0
C20: S u b t o t a l ( 2 ) | D20: =D17+D18+D19 -> 0 | E20: =E17+E18+E19 -> 0 | F20: =F17+F18+F19 -> 0 | G20: =G17+G18+G19 -> 0 | H20: =H17+H18+H19 -> 0 | I20: =I17+I18+I19 -> 0 | J20: =J17+J18+J19 -> 0 | K20: =K17+K18+K19 -> 0 | ... P20: =P17+P18+P19 -> 0 | R20: =R17+R18+R19 -> 0 | S20: =IFERROR(((P20/R20)-1),0) -> 0
C21: T o t a l ( 1 + 2 ) | D21: =D16+D20 -> 299 | E21: =E16+E20 -> 299 | F21: =F16+F20 -> 302 | G21: =G16+G20 -> 301 | H21: =H16+H20 -> 296 | I21: =I16+I20 -> 300 | J21: =J16+J20 -> 301 | K21: =K16+K20 -> 297 | ... P21: =P16+P20 -> 299.91667 | R21: =R16+R20 -> 355.33333 | S21: =IFERROR(((P21/R21)-1),0) -> -0.15595685
B22: 2.2. RECURSOS HUMANOS - CEDIDO
C23: 2.2.1. Administração | D23: 0 | E23: 0 | F23: 0 | G23: 0 | H23: 0 | I23: 0 | J23: 0 | K23: 0 | L23: 0 | M23: 0 | N23: 0 | O23: 0 | P23: =AVERAGE(D23:O23) -> 0 | R23: 0 | S23: =IFERROR(((P23/R23)-1),0) -> 0
C24: 2.2.2. Enfermagem - Total | D24: =SUM(D25:D28) -> 0 | E24: =SUM(E25:E28) -> 0 | F24: =SUM(F25:F28) -> 0 | G24: =SUM(G25:G28) -> 0 | H24: =SUM(H25:H28) -> 0 | I24: =SUM(I25:I28) -> 0 | J24: =SUM(J25:J28) -> 0 | K24: =SUM(K25:K28) -> 0 | ... P24: =SUM(P25:P28) -> 0 | R24: =SUM(R25:R28) -> 0 | S24: =IFERROR(((P24/R24)-1),0) -> 0
C25: 2.2.2.1. Enfermeiros | D25: 0 | E25: 0 | F25: 0 | G25: 0 | H25: 0 | I25: 0 | J25: 0 | K25: 0 | L25: 0 | M25: 0 | N25: 0 | O25: 0 | P25: =AVERAGE(D25:O25) -> 0 | R25: 0 | S25: =IFERROR(((P25/R25)-1),0) -> 0
C26: 2.2.2.2. Técnicos de Enfermagem | D26: 0 | E26: 0 | F26: 0 | G26: 0 | H26: 0 | I26: 0 | J26: 0 | K26: 0 | L26: 0 | M26: 0 | N26: 0 | O26: 0 | P26: =AVERAGE(D26:O26) -> 0 | R26: 0 | S26: =IFERROR(((P26/R26)-1),0) -> 0
C27: 2.2.2.3. Auxiliares de Enfermagem | D27: 0 | E27: 0 | F27: 0 | G27: 0 | H27: 0 | I27: 0 | J27: 0 | K27: 0 | L27: 0 | M27: 0 | N27: 0 | O27: 0 | P27: =AVERAGE(D27:O27) -> 0 | R27: 0 | S27: =IFERROR(((P27/R27)-1),0) -> 0
C28: 2.2.2.4. Maqueiro | D28: 0 | E28: 0 | F28: 0 | G28: 0 | H28: 0 | I28: 0 | J28: 0 | K28: 0 | L28: 0 | M28: 0 | N28: 0 | O28: 0 | P28: =AVERAGE(D28:O28) -> 0 | R28: 0 | S28: =IFERROR(((P28/R28)-1),0) -> 0
C29: 2.2.3. Serviços de Apoio Assistencial (Fisio, Fono, Nutricionista e etc) | D29: 0 | E29: 0 | F29: 0 | G29: 0 | H29: 0 | I29: 0 | J29: 0 | K29: 0 | L29: 0 | M29: 0 | N29: 0 | O29: 0 | P29: =AVERAGE(D29:O29) -> 0 | R29: 0 | S29: =IFERROR(((P29/R29)-1),0) -> 0
C30: 2.2.4. S.A.D.T. | D30: 0 | E30: 0 | F30: 0 | G30: 0 | H30: 0 | I30: 0 | J30: 0 | K30: 0 | L30: 0 | M30: 0 | N30: 0 | O30: 0 | P30: =AVERAGE(D30:O30) -> 0 | R30: 0 | S30: =IFERROR(((P30/R30)-1),0) -> 0
C31: 2.2.5. Nutrição | D31: 0 | E31: 0 | F31: 0 | G31: 0 | H31: 0 | I31: 0 | J31: 0 | K31: 0 | L31: 0 | M31: 0 | N31: 0 | O31: 0 | P31: =AVERAGE(D31:O31) -> 0 | R31: 0 | S31: =IFERROR(((P31/R31)-1),0) -> 0
C32: 2.2.6. Limpeza e Higienização | D32: 0 | E32: 0 | F32: 0 | G32: 0 | H32: 0 | I32: 0 | J32: 0 | K32: 0 | L32: 0 | M32: 0 | N32: 0 | O32: 0 | P32: =AVERAGE(D32:O32) -> 0 | R32: 0 | S32: =IFERROR(((P32/R32)-1),0) -> 0
C33: 2.2.7. Processamento da Roupa | D33: 0 | E33: 0 | F33: 0 | G33: 0 | H33: 0 | I33: 0 | J33: 0 | K33: 0 | L33: 0 | M33: 0 | N33: 0 | O33: 0 | P33: =AVERAGE(D33:O33) -> 0 | R33: 0 | S33: =IFERROR(((P33/R33)-1),0) -> 0
C34: 2.2.8. Manutenção / Segurança | D34: 0 | E34: 0 | F34: 0 | G34: 0 | H34: 0 | I34: 0 | J34: 0 | K34: 0 | L34: 0 | M34: 0 | N34: 0 | O34: 0 | P34: =AVERAGE(D34:O34) -> 0 | R34: 0 | S34: =IFERROR(((P34/R34)-1),0) -> 0
C35: S u b t o t a l ( 3 ) | D35: =D23+D24+D29+D30+D31+D32+D33+D34 -> 0 | E35: =E23+E24+E29+E30+E31+E32+E33+E34 -> 0 | F35: =F23+F24+F29+F30+F31+F32+F33+F34 -> 0 | G35: =G23+G24+G29+G30+G31+G32+G33+G34 -> 0 | H35: =H23+H24+H29+H30+H31+H32+H33+H34 -> 0 | I35: =I23+I24+I29+I30+I31+I32+I33+I34 -> 0 | J35: =J23+J24+J29+J30+J31+J32+J33+J34 -> 0 | K35: =K23+K24+K29+K30+K31+K32+K33+K34 -> 0 | ... P35: =P23+P24+P29+P30+P31+P32+P33+P34 -> 0 | R35: =R23+R24+R29+R30+R31+R32+R33+R34 -> 0 | S35: =IFERROR(((P35/R35)-1),0) -> 0
C36: 2.2.9. Obras | D36: 0 | E36: 0 | F36: 0 | G36: 0 | H36: 0 | I36: 0 | J36: 0 | K36: 0 | L36: 0 | M36: 0 | N36: 0 | O36: 0 | P36: =AVERAGE(D36:O36) -> 0 | R36: 0 | S36: =IFERROR(((P36/R36)-1),0) -> 0
C37: 2.2.10. Médicos | D37: 0 | E37: 0 | F37: 0 | G37: 0 | H37: 0 | I37: 0 | J37: 0 | K37: 0 | L37: 0 | M37: 0 | N37: 0 | O37: 0 | P37: =AVERAGE(D37:O37) -> 0 | R37: 0 | S37: =IFERROR(((P37/R37)-1),0) -> 0
C38: 2.2.11. Outros | D38: 0 | E38: 0 | F38: 0 | G38: 0 | H38: 0 | I38: 0 | J38: 0 | K38: 0 | L38: 0 | M38: 0 | N38: 0 | O38: 0 | P38: =AVERAGE(D38:O38) -> 0 | R38: 0 | S38: =IFERROR(((P38/R38)-1),0) -> 0
C39: S u b t o t a l ( 4 ) | D39: =D36+D37+D38 -> 0 | E39: =E36+E37+E38 -> 0 | F39: =F36+F37+F38 -> 0 | G39: =G36+G37+G38 -> 0 | H39: =H36+H37+H38 -> 0 | I39: =I36+I37+I38 -> 0 | J39: =J36+J37+J38 -> 0 | K39: =K36+K37+K38 -> 0 | ... P39: =P36+P37+P38 -> 0 | R39: =R36+R37+R38 -> 0 | S39: =IFERROR(((P39/R39)-1),0) -> 0
C40: T o t a l ( 3 + 4 ) | D40: =D35+D39 -> 0 | E40: =E35+E39 -> 0 | F40: =F35+F39 -> 0 | G40: =G35+G39 -> 0 | H40: =H35+H39 -> 0 | I40: =I35+I39 -> 0 | J40: =J35+J39 -> 0 | K40: =K35+K39 -> 0 | ... P40: =P35+P39 -> 0 | R40: =R35+R39 -> 0 | S40: =IFERROR(((P40/R40)-1),0) -> 0
B41: 2.2.1 RECURSOS HUMANOS - COOPERATIVAS / TERCEIROS
...
