Workbook

Sheet P.E. Atual. 
B1: PLANO ESTATÍSTICO - 2016 - HOSPITAL REGIONAL DO MARAJÓ
B3: PLANO ESTATÍSTICO | C3: JAN | D3: FEV | E3: MAR | F3: ABR | G3: MAI | H3: JUN | I3: JUL | J3: AGO | K3: SET | L3: OUT | M3: NOV | N3: DEZ | O3: ACUMULADO
B4: 1- Estatística de Pacientes Internados
B6: 1.1. Nº de Leitos por Especialidade
B7: 1.1.1. Clínica Médica | C7: 13 | D7: 13 | E7: 13 | F7: 13 | G7: 13 | H7: 13 | I7: 13 | J7: 13 | K7: 13 | L7: 13 | M7: 13 | N7: 13 | O7: =SUM(C7:N7) -> 156
B8: 1.1.2. Clínica Pediátrica | C8: 9 | D8: 9 | E8: 9 | F8: 9 | G8: 9 | H8: 9 | I8: 9 | J8: 9 | K8: 9 | L8: 9 | M8: 9 | N8: 9 | O8: =SUM(C8:N8) -> 108
B9: 1.1.3. Clínica Cirúrgica | C9: 15 | D9: 15 | E9: 15 | F9: 15 | G9: 15 | H9: 15 | I9: 15 | J9: 15 | K9: 15 | L9: 15 | M9: 15 | N9: 15 | O9: =SUM(C9:N9) -> 180
B10: 1.1.4. Clínica Obstétrica | C10: 6 | D10: 6 | E10: 6 | F10: 6 | G10: 6 | H10: 6 | I10: 6 | J10: 6 | K10: 6 | L10: 6 | M10: 6 | N10: 6 | O10: =SUM(C10:N10) -> 72
B11: 1.1.5. UTI de Adultos | C11: 7 | D11: 7 | E11: 7 | F11: 7 | G11: 7 | H11: 7 | I11: 7 | J11: 7 | K11: 7 | L11: 7 | M11: 7 | N11: 7 | O11: =SUM(C11:N11) -> 84
B12: 1.1.6. UTI Infantil (Pediátrica) | C12: 5 | D12: 5 | E12: 5 | F12: 5 | G12: 5 | H12: 5 | I12: 5 | J12: 5 | K12: 5 | L12: 5 | M12: 5 | N12: 5 | O12: =SUM(C12:N12) -> 60
B13: 1.1.7. UTI Neonatal | C13: 5 | D13: 5 | E13: 5 | F13: 5 | G13: 5 | H13: 5 | I13: 5 | J13: 5 | K13: 5 | L13: 5 | M13: 5 | N13: 5 | O13: =SUM(C13:N13) -> 60
B14: 1.1.8. Berçário | C14: 0 | D14: 0 | E14: 0 | F14: 0 | G14: 0 | H14: 0 | I14: 0 | J14: 0 | K14: 0 | L14: 0 | M14: 0 | N14: 0 | O14: =SUM(C14:N14) -> 0
B15: 1.1.9. Clínica Ortopédica | C15: 10 | D15: 10 | E15: 10 | F15: 10 | G15: 10 | H15: 10 | I15: 10 | J15: 10 | K15: 10 | L15: 10 | M15: 10 | N15: 10 | O15: =SUM(C15:N15) -> 120
B16: SubTotal (Especialidades) | C16: =C7+C8+C9+C10+C15 -> 53 | D16: =D7+D8+D9+D10+D15 -> 53 | E16: =E7+E8+E9+E10+E15 -> 53 | F16: =F7+F8+F9+F10+F15 -> 53 | G16: =G7+G8+G9+G10+G15 -> 53 | H16: =H7+H8+H9+H10+H15 -> 53 | I16: =I7+I8+I9+I10+I15 -> 53 | J16: =J7+J8+J9+J10+J15 -> 53 | ... N16: =N7+N8+N9+N10+N15 -> 53 | O16: =SUM(O6:O14) -> 720
B17: Total com UTI | C17: =SUM(C7:C15) -> 70 | D17: =SUM(D7:D15) -> 70 | E17: =SUM(E7:E15) -> 70 | F17: =SUM(F7:F15) -> 70 | G17: =SUM(G7:G15) -> 70 | H17: =SUM(H7:H15) -> 70 | I17: =SUM(I7:I15) -> 70 | J17: =SUM(J7:J15) -> 70 | ... O17: =SUM(O7:O15) -> 840
B19: 1.2. Nº de Leitos por Unidade
B20: 1.2.1. Clínica Médica | C20: 13 | D20: 13 | E20: 13 | F20: 13 | G20: 13 | H20: 13 | I20: 13 | J20: 13 | K20: 13 | L20: 13 | M20: 13 | N20: 13 | O20: =SUM(C20:N20) -> 156
B21: 1.2.2. Pediátrica | C21: 9 | D21: 9 | E21: 9 | F21: 9 | G21: 9 | H21: 9 | I21: 9 | J21: 9 | K21: 9 | L21: 9 | M21: 9 | N21: 9 | O21: =SUM(C21:N21) -> 108
B22: 1.2.3. Clínica Cirúrgica | C22: 15 | D22: 15 | E22: 15 | F22: 15 | G22: 15 | H22: 15 | I22: 15 | J22: 15 | K22: 15 | L22: 15 | M22: 15 | N22: 15 | O22: =SUM(C22:N22) -> 180
B23: 1.2.4. Ginecologica/Obstétrica | C23: 6 | D23: 6 | E23: 6 | F23: 6 | G23: 6 | H23: 6 | I23: 6 | J23: 6 | K23: 6 | L23: 6 | M23: 6 | N23: 6 | O23: =SUM(C23:N23) -> 72
B24: 1.2.5. UTI de Adultos | C24: 7 | D24: 7 | E24: 7 | F24: 7 | G24: 7 | H24: 7 | I24: 7 | J24: 7 | K24: 7 | L24: 7 | M24: 7 | N24: 7 | O24: =SUM(C24:N24) -> 84
B25: 1.2.6. UTI Infantil (Pediátrica) | C25: 5 | D25: 5 | E25: 5 | F25: 5 | G25: 5 | H25: 5 | I25: 5 | J25: 5 | K25: 5 | L25: 5 | M25: 5 | N25: 5 | O25: =SUM(C25:N25) -> 60
B26: 1.2.7. UTI Neonatal | C26: 5 | D26: 5 | E26: 5 | F26: 5 | G26: 5 | H26: 5 | I26: 5 | J26: 5 | K26: 5 | L26: 5 | M26: 5 | N26: 5 | O26: =SUM(C26:N26) -> 60
B27: 1.2.8. Berçário | C27: 0 | D27: 0 | E27: 0 | F27: 0 | G27: 0 | H27: 0 | I27: 0 | J27: 0 | K27: 0 | L27: 0 | M27: 0 | N27: 0 | O27: =SUM(C27:N27) -> 0
B28: 1.2.9. Ortopédica | C28: 10 | D28: 10 | E28: 10 | F28: 10 | G28: 10 | H28: 10 | I28: 10 | J28: 10 | K28: 10 | L28: 10 | M28: 10 | N28: 10 | O28: =SUM(C28:N28) -> 120
B29: Total | C29: =SUM(C20:C28) -> 70 | D29: =SUM(D20:D28) -> 70 | E29: =SUM(E20:E28) -> 70 | F29: =SUM(F20:F28) -> 70 | G29: =SUM(G20:G28) -> 70 | H29: =SUM(H20:H28) -> 70 | I29: =SUM(I20:I28) -> 70 | J29: =SUM(J20:J28) -> 70 | ... O29: =SUM(O20:O28) -> 840
B31: 1.3. Nº de Leitos-Dia por Especialidade
B32: 1.3.1. Clínica Médica | C32: =C7*C$1615 -> 403 | D32: =D7*D$1615 -> 377 | E32: =E7*E$1615 -> 403 | F32: =F7*F$1615 -> 390 | G32: =G7*G$1615 -> 403 | H32: =H7*H$1615 -> 390 | I32: =I7*I$1615 -> 403 | J32: =J7*J$1615 -> 403 | ... N32: =N7*N$1615 -> 403 | O32: =SUM(C32:N32) -> 4758
B33: 1.3.2. Clínica Pediátrica | C33: =C8*C$1615 -> 279 | D33: =D8*D$1615 -> 261 | E33: =E8*E$1615 -> 279 | F33: =F8*F$1615 -> 270 | G33: =G8*G$1615 -> 279 | H33: =H8*H$1615 -> 270 | I33: =I8*I$1615 -> 279 | J33: =J8*J$1615 -> 279 | ... N33: =N8*N$1615 -> 279 | O33: =SUM(C33:N33) -> 3294
B34: 1.3.3. Clínica Cirúrgica | C34: =C9*C$1615 -> 465 | D34: =D9*D$1615 -> 435 | E34: =E9*E$1615 -> 465 | F34: =F9*F$1615 -> 450 | G34: =G9*G$1615 -> 465 | H34: =H9*H$1615 -> 450 | I34: =I9*I$1615 -> 465 | J34: =J9*J$1615 -> 465 | ... N34: =N9*N$1615 -> 465 | O34: =SUM(C34:N34) -> 5490
B35: 1.3.4. Clínica Ginecologica/Obstétrica | C35: =C10*C$1615 -> 186 | D35: =D10*D$1615 -> 174 | E35: =E10*E$1615 -> 186 | F35: =F10*F$1615 -> 180 | G35: =G10*G$1615 -> 186 | H35: =H10*H$1615 -> 180 | I35: =I10*I$1615 -> 186 | J35: =J10*J$1615 -> 186 | ... N35: =N10*N$1615 -> 186 | O35: =SUM(C35:N35) -> 2196
B36: 1.3.5. UTI de Adultos | C36: =C11*C$1615 -> 217 | D36: =D11*D$1615 -> 203 | E36: =E11*E$1615 -> 217 | F36: =F11*F$1615 -> 210 | G36: =G11*G$1615 -> 217 | H36: =H11*H$1615 -> 210 | I36: =I11*I$1615 -> 217 | J36: =J11*J$1615 -> 217 | ... N36: =N11*N$1615 -> 217 | O36: =SUM(C36:N36) -> 2562
B37: 1.3.6. UTI Infantil (Pediátrica) | C37: =C12*C$1615 -> 155 | D37: =D12*D$1615 -> 145 | E37: =E12*E$1615 -> 155 | F37: =F12*F$1615 -> 150 | G37: =G12*G$1615 -> 155 | H37: =H12*H$1615 -> 150 | I37: =I12*I$1615 -> 155 | J37: =J12*J$1615 -> 155 | ... N37: =N12*N$1615 -> 155 | O37: =SUM(C37:N37) -> 1830
B38: 1.3.7. UTI Neonatal | C38: =C13*C$1615 -> 155 | D38: =D13*D$1615 -> 145 | E38: =E13*E$1615 -> 155 | F38: =F13*F$1615 -> 150 | G38: =G13*G$1615 -> 155 | H38: =H13*H$1615 -> 150 | I38: =I13*I$1615 -> 155 | J38: =J13*J$1615 -> 155 | ... N38: =N13*N$1615 -> 155 | O38: =SUM(C38:N38) -> 1830
B39: 1.3.8. Berçário | C39: =C14*C$1615 -> 0 | D39: =D14*D$1615 -> 0 | E39: =E14*E$1615 -> 0 | F39: =F14*F$1615 -> 0 | G39: =G14*G$1615 -> 0 | H39: =H14*H$1615 -> 0 | I39: =I14*I$1615 -> 0 | J39: =J14*J$1615 -> 0 | ... N39: =N14*N$1615 -> 0 | O39: =SUM(C39:N39) -> 0
B40: 1.3.9. Clínica Ortopédica | C40: =C15*C$1615 -> 310 | D40: =D15*D$1615 -> 290 | E40: =E15*E$1615 -> 310 | F40: =F15*F$1615 -> 300 | G40: =G15*G$1615 -> 310 | H40: =H15*H$1615 -> 300 | I40: =I15*I$1615 -> 310 | J40: =J15*J$1615 -> 310 | ... N40: =N15*N$1615 -> 310 | O40: =SUM(C40:N40) -> 3660
B41: SubTotal (Especialidades) | C41: =C32+C33+C34+C35+C40 -> 1643 | D41: =D32+D33+D34+D35+D40 -> 1537 | E41: =E32+E33+E34+E35+E40 -> 1643 | F41: =F32+F33+F34+F35+F40 -> 1590 | G41: =G32+G33+G34+G35+G40 -> 1643 | H41: =H32+H33+H34+H35+H40 -> 1590 | I41: =I32+I33+I34+I35+I40 -> 1643 | J41: =J32+J33+J34+J35+J40 -> 1643 | ... N41: =N32+N33+N34+N35+N40 -> 1643 | O41: =SUM(O31:O39) -> 21960
B42: Total com UTI | C42: =SUM(C32:C40) -> 2170 | D42: =SUM(D32:D40) -> 2030 | E42: =SUM(E32:E40) -> 2170 | F42: =SUM(F32:F40) -> 2100 | G42: =SUM(G32:G40) -> 2170 | H42: =SUM(H32:H40) -> 2100 | I42: =SUM(I32:I40) -> 2170 | J42: =SUM(J32:J40) -> 2170 | ... N42: =SUM(N32:N40) -> 2170 | O42: =SUM(C42:N42) -> 25620
B44: 1.4. Nº de Leitos-Dia por Unidade
B45: 1.4.1. Clínica Médica | C45: =C20*C$1615 -> 403 | D45: =D20*D$1615 -> 377 | E45: =E20*E$1615 -> 403 | F45: =F20*F$1615 -> 390 | G45: =G20*G$1615 -> 403 | H45: =H20*H$1615 -> 390 | I45: =I20*I$1615 -> 403 | J45: =J20*J$1615 -> 403 | ... N45: =N20*N$1615 -> 403 | O45: =SUM(C45:N45) -> 4758
B46: 1.4.2. Pediátrica | C46: =C21*C$1615 -> 279 | D46: =D21*D$1615 -> 261 | E46: =E21*E$1615 -> 279 | F46: =F21*F$1615 -> 270 | G46: =G21*G$1615 -> 279 | H46: =H21*H$1615 -> 270 | I46: =I21*I$1615 -> 279 | J46: =J21*J$1615 -> 279 | ... N46: =N21*N$1615 -> 279 | O46: =SUM(C46:N46) -> 3294
B47: 1.4.3. Clínica Cirúrgica | C47: =C22*C$1615 -> 465 | D47: =D22*D$1615 -> 435 | E47: =E22*E$1615 -> 465 | F47: =F22*F$1615 -> 450 | G47: =G22*G$1615 -> 465 | H47: =H22*H$1615 -> 450 | I47: =I22*I$1615 -> 465 | J47: =J22*J$1615 -> 465 | ... N47: =N22*N$1615 -> 465 | O47: =SUM(C47:N47) -> 5490
B48: 1.4.4. Ginecologica/Obstétrica | C48: =C23*C$1615 -> 186 | D48: =D23*D$1615 -> 174 | E48: =E23*E$1615 -> 186 | F48: =F23*F$1615 -> 180 | G48: =G23*G$1615 -> 186 | H48: =H23*H$1615 -> 180 | I48: =I23*I$1615 -> 186 | J48: =J23*J$1615 -> 186 | ... N48: =N23*N$1615 -> 186 | O48: =SUM(C48:N48) -> 2196
B49: 1.4.5. UTI de Adultos | C49: =C24*C$1615 -> 217 | D49: =D24*D$1615 -> 203 | E49: =E24*E$1615 -> 217 | F49: =F24*F$1615 -> 210 | G49: =G24*G$1615 -> 217 | H49: =H24*H$1615 -> 210 | I49: =I24*I$1615 -> 217 | J49: =J24*J$1615 -> 217 | ... N49: =N24*N$1615 -> 217 | O49: =SUM(C49:N49) -> 2562
B50: 1.4.6. UTI Infantil (Pediátrica) | C50: =C25*C$1615 -> 155 | D50: =D25*D$1615 -> 145 | E50: =E25*E$1615 -> 155 | F50: =F25*F$1615 -> 150 | G50: =G25*G$1615 -> 155 | H50: =H25*H$1615 -> 150 | I50: =I25*I$1615 -> 155 | J50: =J25*J$1615 -> 155 | ... N50: =N25*N$1615 -> 155 | O50: =SUM(C50:N50) -> 1830
B51: 1.4.7. UTI Neonatal | C51: =C26*C$1615 -> 155 | D51: =D26*D$1615 -> 145 | E51: =E26*E$1615 -> 155 | F51: =F26*F$1615 -> 150 | G51: =G26*G$1615 -> 155 | H51: =H26*H$1615 -> 150 | I51: =I26*I$1615 -> 155 | J51: =J26*J$1615 -> 155 | ... N51: =N26*N$1615 -> 155 | O51: =SUM(C51:N51) -> 1830
B52: 1.4.8. Berçário | C52: =C27*C$1615 -> 0 | D52: =D27*D$1615 -> 0 | E52: =E27*E$1615 -> 0 | F52: =F27*F$1615 -> 0 | G52: =G27*G$1615 -> 0 | H52: =H27*H$1615 -> 0 | I52: =I27*I$1615 -> 0 | J52: =J27*J$1615 -> 0 | ... N52: =N27*N$1615 -> 0 | O52: =SUM(C52:N52) -> 0
B53: 1.4.9. Ortopédica | C53: =C28*C$1615 -> 310 | D53: =D28*D$1615 -> 290 | E53: =E28*E$1615 -> 310 | F53: =F28*F$1615 -> 300 | G53: =G28*G$1615 -> 310 | H53: =H28*H$1615 -> 300 | I53: =I28*I$1615 -> 310 | J53: =J28*J$1615 -> 310 | ... N53: =N28*N$1615 -> 310 | O53: =SUM(C53:N53) -> 3660
B54: Total | C54: =SUM(C45:C53) -> 2170 | D54: =SUM(D45:D53) -> 2030 | E54: =SUM(E45:E53) -> 2170 | F54: =SUM(F45:F53) -> 2100 | G54: =SUM(G45:G53) -> 2170 | H54: =SUM(H45:H53) -> 2100 | I54: =SUM(I45:I53) -> 2170 | J54: =SUM(J45:J53) -> 2170 | ... N54: =SUM(N45:N53) -> 2170 | O54: =SUM(C54:N54) -> 25620
B56: 1.5. Nº de Pacientes-Dia por Especialidade
B57: 1.5.1. Clínica Médica | C57: 320 | D57: 331 | E57: 292 | F57: 322 | G57: 263 | H57: 285 | I57: 378 | J57: 323 | K57: 363 | L57: 361 | M57: 258 | N57: 264 | O57: =SUM(C57:N57) -> 3760
B58: 1.5.2. Clínica Pediátrica | C58: 587 | D58: 493 | E58: 471 | F58: 520 | G58: 589 | H58: 474 | I58: 571 | J58: 683 | K58: 591 | L58: 627 | M58: 500 | N58: 559 | O58: =SUM(C58:N58) -> 6665
B59: 1.5.3. Clínica Cirúrgica | C59: 462 | D59: 563 | E59: 657 | F59: 473 | G59: 443 | H59: 430 | I59: 409 | J59: 471 | K59: 495 | L59: 473 | M59: 382 | N59: 417 | O59: =SUM(C59:N59) -> 5675
B60: 1.5.4. Clínica Ginecologica/Obstétrica | C60: 85 | D60: 75 | E60: 88 | F60: 112 | G60: 109 | H60: 98 | I60: 102 | J60: 139 | K60: 151 | L60: 144 | M60: 151 | N60: 81 | O60: =SUM(C60:N60) -> 1335
B61: 1.5.5. Clínica Ortopédica | C61: 212 | D61: 203 | E61: 178 | F61: 218 | G61: 202 | H61: 156 | I61: 170 | J61: 160 | K61: 247 | L61: 271 | M61: 245 | N61: 217 | O61: =SUM(C61:N61) -> 2479
B62: Total | C62: =SUM(C57:C61) -> 1666 | D62: =SUM(D57:D61) -> 1665 | E62: =SUM(E57:E61) -> 1686 | F62: =SUM(F57:F61) -> 1645 | G62: =SUM(G57:G61) -> 1606 | H62: =SUM(H57:H61) -> 1443 | I62: =SUM(I57:I61) -> 1630 | J62: =SUM(J57:J61) -> 1776 | ... N62: =SUM(N57:N61) -> 1538 | O62: =SUM(C62:N62) -> 19914
B64: 1.6. Pacientes-Dia por Unidade
B65: 1.6.1. Clínica Médica | C65: 247 | D65: 299 | E65: 299 | F65: 213 | G65: 221 | H65: 146 | I65: 259 | J65: 249 | K65: 341 | L65: 322 | M65: 270 | N65: 256 | O65: =SUM(C65:N65) -> 3122
B66: 1.6.2. Pediátrica | C66: 271 | D66: 238 | E66: 240 | F66: 208 | G66: 226 | H66: 211 | I66: 251 | J66: 259 | K66: 243 | L66: 274 | M66: 241 | N66: 252 | O66: =SUM(C66:N66) -> 2914
B67: 1.6.3. Clínica Cirúrgica | C67: 340 | D67: 374 | E67: 419 | F67: 420 | G67: 361 | H67: 345 | I67: 368 | J67: 433 | K67: 409 | L67: 397 | M67: 328 | N67: 346 | O67: =SUM(C67:N67) -> 4540
B68: 1.6.4. Ginecologica/Obstétrica | C68: 89 | D68: 92 | E68: 91 | F68: 133 | G68: 104 | H68: 96 | I68: 108 | J68: 154 | K68: 150 | L68: 132 | M68: 138 | N68: 93 | O68: =SUM(C68:N68) -> 1380
B69: 1.6.5. UTI de Adultos | C69: 173 | D69: 175 | E69: 153 | F69: 142 | G69: 158 | H69: 170 | I69: 151 | J69: 147 | K69: 145 | L69: 170 | M69: 116 | N69: 128 | O69: =SUM(C69:N69) -> 1828
B70: 1.6.6. UTI Infantil (Pediátrica) | C70: 134 | D70: 119 | E70: 122 | F70: 129 | G70: 146 | H70: 125 | I70: 123 | J70: 155 | K70: 142 | L70: 147 | M70: 93 | N70: 110 | O70: =SUM(C70:N70) -> 1545
B71: 1.6.7. UTI Neonatal | C71: 149 | D71: 127 | E71: 114 | F71: 132 | G71: 140 | H71: 105 | I71: 133 | J71: 146 | K71: 142 | L71: 154 | M71: 99 | N71: 117 | O71: =SUM(C71:N71) -> 1558
B72: 1.6.8. Berçário | C72: 0 | D72: 0 | E72: 0 | F72: 0 | G72: 0 | H72: 0 | I72: 0 | J72: 0 | K72: 0 | L72: 0 | M72: 0 | N72: 0 | O72: =SUM(C72:N72) -> 0
B73: 1.6.9. Ortopédica | C73: 263 | D73: 241 | E73: 248 | F73: 268 | G73: 250 | H73: 245 | I73: 237 | J73: 233 | K73: 275 | L73: 280 | M73: 251 | N73: 236 | O73: =SUM(C73:N73) -> 3027
B74: 1.6.10. Pronto Atendimento | C74: 0 | D74: 0 | E74: 0 | F74: 0 | G74: 0 | H74: 0 | I74: 0 | J74: 0 | K74: 0 | L74: 0 | M74: 0 | N74: 0 | O74: =SUM(C74:N74) -> 0
B75: Total | C75: =SUM(C65:C74) -> 1666 | D75: =SUM(D65:D74) -> 1665 | E75: =SUM(E65:E74) -> 1686 | F75: =SUM(F65:F74) -> 1645 | G75: =SUM(G65:G74) -> 1606 | H75: =SUM(H65:H74) -> 1443 | I75: =SUM(I65:I74) -> 1630 | J75: =SUM(J65:J74) -> 1776 | ... N75: =SUM(N65:N74) -> 1538 | O75: =SUM(C75:N75) -> 19914
B77: 1.7. Média Diária de Pacientes por Especialidade
B78: 1.7.1. Clínica Médica | C78: =C57/C$1615 -> 10.322581 | D78: =D57/D$1615 -> 11.413793 | E78: =E57/E$1615 -> 9.4193548 | F78: =F57/F$1615 -> 10.733333 | G78: =G57/G$1615 -> 8.483871 | H78: =H57/H$1615 -> 9.5 | I78: =I57/I$1615 -> 12.193548 | J78: =J57/J$1615 -> 10.419355 | ... N78: =N57/N$1615 -> 8.516129 | O78: =SUM(C78:N78) -> 123.34713
B79: 1.7.2. Clínica Pediátrica | C79: =C58/C$1615 -> 18.935484 | D79: =D58/D$1615 -> 17 | E79: =E58/E$1615 -> 15.193548 | F79: =F58/F$1615 -> 17.333333 | G79: =G58/G$1615 -> 19 | H79: =H58/H$1615 -> 15.8 | I79: =I58/I$1615 -> 18.419355 | J79: =J58/J$1615 -> 22.032258 | ... N79: =N58/N$1615 -> 18.032258 | O79: =SUM(C79:N79) -> 218.33871
B80: 1.7.3. Clínica Cirúrgica | C80: =C59/C$1615 -> 14.903226 | D80: =D59/D$1615 -> 19.413793 | E80: =E59/E$1615 -> 21.193548 | F80: =F59/F$1615 -> 15.766667 | G80: =G59/G$1615 -> 14.290323 | H80: =H59/H$1615 -> 14.333333 | I80: =I59/I$1615 -> 13.193548 | J80: =J59/J$1615 -> 15.193548 | ... N80: =N59/N$1615 -> 13.451613 | O80: =SUM(C80:N80) -> 186.231
B81: 1.7.4. Clínica Ginecologica/Obstétrica | C81: =C60/C$1615 -> 2.7419355 | D81: =D60/D$1615 -> 2.5862069 | E81: =E60/E$1615 -> 2.8387097 | F81: =F60/F$1615 -> 3.7333333 | G81: =G60/G$1615 -> 3.516129 | H81: =H60/H$1615 -> 3.2666667 | I81: =I60/I$1615 -> 3.2903226 | J81: =J60/J$1615 -> 4.483871 | ... N81: =N60/N$1615 -> 2.6129032 | O81: =SUM(C81:N81) -> 43.781906
B82: 1.7.5. Clínica Ortopédica | C82: =C61/C$1615 -> 6.8387097 | D82: =D61/D$1615 -> 7 | E82: =E61/E$1615 -> 5.7419355 | F82: =F61/F$1615 -> 7.2666667 | G82: =G61/G$1615 -> 6.516129 | H82: =H61/H$1615 -> 5.2 | I82: =I61/I$1615 -> 5.483871 | J82: =J61/J$1615 -> 5.1612903 | ... N82: =N61/N$1615 -> 7 | O82: =SUM(C82:N82) -> 81.350538
B83: Total | C83: =SUM(C78:C82) -> 53.741935 | D83: =SUM(D78:D82) -> 57.413793 | E83: =SUM(E78:E82) -> 54.387097 | F83: =SUM(F78:F82) -> 54.833333 | G83: =SUM(G78:G82) -> 51.806452 | H83: =SUM(H78:H82) -> 48.1 | I83: =SUM(I78:I82) -> 52.580645 | J83: =SUM(J78:J82) -> 57.290323 | ... N83: =SUM(N78:N82) -> 49.612903 | O83: =SUM(C83:N83) -> 653.04928
B85: 1.8. Média Diária de Pacientes por Unidade
B86: 1.8.1. Clínica Médica | C86: =C65/C$1615 -> 7.9677419 | D86: =D65/D$1615 -> 10.310345 | E86: =E65/E$1615 -> 9.6451613 | F86: =F65/F$1615 -> 7.1 | G86: =G65/G$1615 -> 7.1290323 | H86: =H65/H$1615 -> 4.8666667 | I86: =I65/I$1615 -> 8.3548387 | J86: =J65/J$1615 -> 8.0322581 | ... N86: =N65/N$1615 -> 8.2580645 | O86: =SUM(C86:N86) -> 102.41787
B87: 1.8.2. Pediátrica | C87: =C66/C$1615 -> 8.7419355 | D87: =D66/D$1615 -> 8.2068966 | E87: =E66/E$1615 -> 7.7419355 | F87: =F66/F$1615 -> 6.9333333 | G87: =G66/G$1615 -> 7.2903226 | H87: =H66/H$1615 -> 7.0333333 | I87: =I66/I$1615 -> 8.0967742 | J87: =J66/J$1615 -> 8.3548387 | ... N87: =N66/N$1615 -> 8.1290323 | O87: =SUM(C87:N87) -> 95.500445
B88: 1.8.3. Clínica Cirúrgica | C88: =C67/C$1615 -> 10.967742 | D88: =D67/D$1615 -> 12.896552 | E88: =E67/E$1615 -> 13.516129 | F88: =F67/F$1615 -> 14 | G88: =G67/G$1615 -> 11.645161 | H88: =H67/H$1615 -> 11.5 | I88: =I67/I$1615 -> 11.870968 | J88: =J67/J$1615 -> 13.967742 | ... N88: =N67/N$1615 -> 11.16129 | O88: =SUM(C88:N88) -> 148.8987
B89: 1.8.4. Ginecologica/Obstétrica | C89: =C68/C$1615 -> 2.8709677 | D89: =D68/D$1615 -> 3.1724138 | E89: =E68/E$1615 -> 2.9354839 | F89: =F68/F$1615 -> 4.4333333 | G89: =G68/G$1615 -> 3.3548387 | H89: =H68/H$1615 -> 3.2 | I89: =I68/I$1615 -> 3.483871 | J89: =J68/J$1615 -> 4.9677419 | ... N89: =N68/N$1615 -> 3 | O89: =SUM(C89:N89) -> 45.276715
B90: 1.8.5. UTI de Adultos | C90: =C69/C$1615 -> 5.5806452 | D90: =D69/D$1615 -> 6.0344828 | E90: =E69/E$1615 -> 4.9354839 | F90: =F69/F$1615 -> 4.7333333 | G90: =G69/G$1615 -> 5.0967742 | H90: =H69/H$1615 -> 5.6666667 | I90: =I69/I$1615 -> 4.8709677 | J90: =J69/J$1615 -> 4.7419355 | ... N90: =N69/N$1615 -> 4.1290323 | O90: =SUM(C90:N90) -> 59.973192
B91: 1.8.6. UTI Infantil (Pediátrica) | C91: =C70/C$1615 -> 4.3225806 | D91: =D70/D$1615 -> 4.1034483 | E91: =E70/E$1615 -> 3.9354839 | F91: =F70/F$1615 -> 4.3 | G91: =G70/G$1615 -> 4.7096774 | H91: =H70/H$1615 -> 4.1666667 | I91: =I70/I$1615 -> 3.9677419 | J91: =J70/J$1615 -> 5 | ... N91: =N70/N$1615 -> 3.5483871 | O91: =SUM(C91:N91) -> 50.629255
B92: 1.8.7. UTI Neonatal | C92: =C71/C$1615 -> 4.8064516 | D92: =D71/D$1615 -> 4.3793103 | E92: =E71/E$1615 -> 3.6774194 | F92: =F71/F$1615 -> 4.4 | G92: =G71/G$1615 -> 4.516129 | H92: =H71/H$1615 -> 3.5 | I92: =I71/I$1615 -> 4.2903226 | J92: =J71/J$1615 -> 4.7096774 | ... N92: =N71/N$1615 -> 3.7741935 | O92: =SUM(C92:N92) -> 51.054579
B93: 1.8.8. Berçário | C93: =C72/C$1615 -> 0 | D93: =D72/D$1615 -> 0 | E93: =E72/E$1615 -> 0 | F93: =F72/F$1615 -> 0 | G93: =G72/G$1615 -> 0 | H93: =H72/H$1615 -> 0 | I93: =I72/I$1615 -> 0 | J93: =J72/J$1615 -> 0 | ... N93: =N72/N$1615 -> 0 | O93: =SUM(C93:N93) -> 0
B94: 1.4.9. Ortopédica | C94: =C73/C$1615 -> 8.483871 | D94: =D73/D$1615 -> 8.3103448 | E94: =E73/E$1615 -> 8 | F94: =F73/F$1615 -> 8.9333333 | G94: =G73/G$1615 -> 8.0645161 | H94: =H73/H$1615 -> 8.1666667 | I94: =I73/I$1615 -> 7.6451613 | J94: =J73/J$1615 -> 7.516129 | ... N94: =N73/N$1615 -> 7.6129032 | O94: =SUM(C94:N94) -> 99.298517
B95: Total | C95: =SUM(C86:C94) -> 53.741935 | D95: =SUM(D86:D94) -> 57.413793 | E95: =SUM(E86:E94) -> 54.387097 | F95: =SUM(F86:F94) -> 54.833333 | G95: =SUM(G86:G94) -> 51.806452 | H95: =SUM(H86:H94) -> 48.1 | I95: =SUM(I86:I94) -> 52.580645 | J95: =SUM(J86:J94) -> 57.290323 | ... N95: =SUM(N86:N94) -> 49.612903 | O95: =SUM(C95:N95) -> 653.04928
B97: 1.9. Internações por Especialidade
B98: 1.9.1. Clínica Médica | C98: 28 | D98: =18+8 -> 26 | E98: =13+12 -> 25 | F98: =18+13 -> 31 | G98: =11+9 -> 20 | H98: 31 | I98: 29 | J98: 29 | K98: 32 | L98: 34 | M98: 27 | N98: 22 | O98: =SUM(C98:N98) -> 334
B99: 1.9.2. Clínica Pediátrica | C99: 58 | D99: =44+4+7 -> 55 | E99: =26+8+8 -> 42 | F99: =33+6+7 -> 46 | G99: =47+6+7 -> 60 | H99: 52 | I99: 58 | J99: 66 | K99: 61 | L99: 61 | M99: 63 | N99: 57 | O99: =SUM(C99:N99) -> 679
B100: 1.9.3. Clínica Cirúrgica | C100: 87 | D100: =88+2 -> 90 | E100: 104 | F100: 72 | G100: 94 | H100: 92 | I100: 93 | J100: 102 | K100: 88 | L100: 103 | M100: 84 | N100: 88 | O100: =SUM(C100:N100) -> 1097
B101: 1.9.4. Clínica Ginecologica/Obstétrica | C101: 25 | D101: 29 | E101: 24 | F101: 34 | G101: 41 | H101: 34 | I101: 33 | J101: 38 | K101: 40 | L101: 47 | M101: 40 | N101: 31 | O101: =SUM(C101:N101) -> 416
B102: 1.9.5. Clínica Ortopédica | C102: 43 | D102: 35 | E102: 43 | F102: 52 | G102: 37 | H102: 46 | I102: 47 | J102: 40 | K102: 44 | L102: 54 | M102: 51 | N102: 53 | O102: =SUM(C102:N102) -> 545
B103: Total | C103: =SUM(C98:C102) -> 241 | D103: =SUM(D98:D102) -> 235 | E103: =SUM(E98:E102) -> 238 | F103: =SUM(F98:F102) -> 235 | G103: =SUM(G98:G102) -> 252 | H103: =SUM(H98:H102) -> 255 | I103: =SUM(I98:I102) -> 260 | J103: =SUM(J98:J102) -> 275 | ... N103: =SUM(N98:N102) -> 251 | O103: =SUM(C103:N103) -> 3071
B105: 1.10. Internações por Unidade
B106: 1.10.1. Clínica Médica | C106: 59 | D106: 51 | E106: 54 | F106: 32 | G106: 38 | H106: 30 | I106: 44 | J106: 63 | K106: 49 | L106: 60 | M106: 55 | N106: 54 | O106: =SUM(C106:N106) -> 589
B107: 1.10.2. Pediátrica | C107: 40 | D107: 40 | E107: 21 | F107: 25 | G107: 28 | H107: 29 | I107: 26 | J107: 29 | K107: 18 | L107: 34 | M107: 32 | N107: 30 | O107: =SUM(C107:N107) -> 352
B108: 1.10.3. Clínica Cirúrgica | C108: 48 | D108: 59 | E108: 60 | F108: 63 | G108: 68 | H108: 80 | I108: 75 | J108: 68 | K108: 75 | L108: 84 | M108: 73 | N108: 60 | O108: =SUM(C108:N108) -> 813
B109: 1.10.4. Ginecologica/Obstétrica | C109: 23 | D109: 33 | E109: 25 | F109: 39 | G109: 38 | H109: 31 | I109: 32 | J109: 32 | K109: 37 | L109: 40 | M109: 34 | N109: 31 | O109: =SUM(C109:N109) -> 395
B110: 1.10.5. UTI de Adultos | C110: 8 | D110: 10 | E110: 12 | F110: 13 | G110: 9 | H110: 13 | I110: 12 | J110: 10 | K110: 14 | L110: 15 | M110: 10 | N110: 11 | O110: =SUM(C110:N110) -> 137
B111: 1.10.6. UTI Infantil (Pediátrica) | C111: 6 | D111: 4 | E111: 8 | F111: 6 | G111: 7 | H111: 8 | I111: 7 | J111: 5 | K111: 8 | L111: 5 | M111: 5 | N111: 6 | O111: =SUM(C111:N111) -> 75
...

Sheet Graficos % Ocupação

Sheet Atividade Assistêncial
B2: HRPM 2016 - RELATÓRIO DE ATIVIDADES - SEDE
B3: 1. ATIVIDADES ASSISTENCIAIS | F3: 2016 | R3: TOTAL | S3: 2016
C4: 1.1. NÚMERO DE LEITOS - ESPECIALIDADE | F4: Janeiro | G4: Fevereiro | H4: Março | I4: Abril | J4: Maio | K4: Junho | L4: Julho | M4: Agosto | N4: Setembro | O4: Outubro | P4: Novembro | Q4: Dezembro | R4: 2016 | S4: MÉDIA MENSAL
D5: 1.1.1 Clínica Médica | F5: 13 | G5: 13 | H5: 13 | I5: 13 | J5: 13 | K5: 13 | L5: 13 | M5: 13 | N5: 13 | O5: 13 | P5: 13 | Q5: 13 | R5: =SUM(F5:Q5) -> 156 | S5: =AVERAGE(F5:Q5) -> 13
D6: 1.1.2. Clínica Pediátrica | F6: 9 | G6: 9 | H6: 9 | I6: 9 | J6: 9 | K6: 9 | L6: 9 | M6: 9 | N6: 9 | O6: 9 | P6: 9 | Q6: 9 | R6: =SUM(F6:Q6) -> 108 | S6: =AVERAGE(F6:Q6) -> 9
D7: 1.1.3. Clínica Cirúrgica | F7: 15 | G7: 15 | H7: 15 | I7: 15 | J7: 15 | K7: 15 | L7: 15 | M7: 15 | N7: 15 | O7: 15 | P7: 15 | Q7: 15 | R7: =SUM(F7:Q7) -> 180 | S7: =AVERAGE(F7:Q7) -> 15
D8: 1.1.4. Clínica Obstétrica | F8: 6 | G8: 6 | H8: 6 | I8: 6 | J8: 6 | K8: 6 | L8: 6 | M8: 6 | N8: 6 | O8: 6 | P8: 6 | Q8: 6 | R8: =SUM(F8:Q8) -> 72 | S8: =AVERAGE(F8:Q8) -> 6
D9: 1.1.5. UTI de Adultos | F9: 7 | G9: 7 | H9: 7 | I9: 7 | J9: 7 | K9: 7 | L9: 7 | M9: 7 | N9: 7 | O9: 7 | P9: 7 | Q9: 7 | R9: =SUM(F9:Q9) -> 84 | S9: =AVERAGE(F9:Q9) -> 7
D10: 1.1.6. UTI Infantil | F10: 5 | G10: 5 | H10: 5 | I10: 5 | J10: 5 | K10: 5 | L10: 5 | M10: 5 | N10: 5 | O10: 5 | P10: 5 | Q10: 5 | R10: =SUM(F10:Q10) -> 60 | S10: =AVERAGE(F10:Q10) -> 5
D11: 1.1.7. UTI Neonatal | F11: 5 | G11: 5 | H11: 5 | I11: 5 | J11: 5 | K11: 5 | L11: 5 | M11: 5 | N11: 5 | O11: 5 | P11: 5 | Q11: 5 | R11: =SUM(F11:Q11) -> 60 | S11: =AVERAGE(F11:Q11) -> 5
D12: 1.1.8. Berçário | F12: 0 | G12: 0 | H12: 0 | I12: 0 | J12: 0 | K12: 0 | L12: 0 | M12: 0 | N12: 0 | O12: 0 | P12: 0 | Q12: 0 | R12: =SUM(F12:Q12) -> 0 | S12: =AVERAGE(F12:Q12) -> 0
D13: 1.1.9. Clínica Ortopédica | F13: 10 | G13: 10 | H13: 10 | I13: 10 | J13: 10 | K13: 10 | L13: 10 | M13: 10 | N13: 10 | O13: 10 | P13: 10 | Q13: 10 | R13: =SUM(F13:Q13) -> 120 | S13: =AVERAGE(F13:Q13) -> 10
D14: 1.2.0. Outros | F14: 0 | G14: 0 | H14: 0 | I14: 0 | J14: 0 | K14: 0 | L14: 0 | M14: 0 | N14: 0 | O14: 0 | P14: 0 | Q14: 0 | R14: =SUM(F14:Q14) -> 0 | S14: =AVERAGE(F14:Q14) -> 0
D15: Total de Leitos | F15: =SUM(F5:F14) -> 70 | G15: =SUM(G5:G14) -> 70 | H15: =SUM(H5:H14) -> 70 | I15: =SUM(I5:I14) -> 70 | J15: =SUM(J5:J14) -> 70 | K15: =SUM(K5:K14) -> 70 | L15: =SUM(L5:L14) -> 70 | M15: =SUM(M5:M14) -> 70 | ... Q15: =SUM(Q5:Q14) -> 70 | R15: =SUM(F15:Q15) -> 840 | S15: =SUM(S5:S14) -> 70
C16: 1.1.1 PACIENTES DIA POR ESPECIALIDADE
D17: 1.1.1.1 Clínica Médica | F17: ='P.E. Atual. '!C65 -> 247 | G17: ='P.E. Atual. '!D65 -> 299 | H17: ='P.E. Atual. '!E65 -> 299 | I17: ='P.E. Atual. '!F65 -> 213 | J17: ='P.E. Atual. '!G65 -> 221 | K17: ='P.E. Atual. '!H65 -> 146 | L17: ='P.E. Atual. '!I65 -> 259 | M17: ='P.E. Atual. '!J65 -> 249 | ... Q17: ='P.E. Atual. '!N65 -> 256 | R17: =SUM(F17:Q17) -> 3122 | S17: =AVERAGE(F17:Q17) -> 260.16667
D18: 1.1.1.2. Clínica Pediátrica | F18: ='P.E. Atual. '!C66 -> 271 | G18: ='P.E. Atual. '!D66 -> 238 | H18: ='P.E. Atual. '!E66 -> 240 | I18: ='P.E. Atual. '!F66 -> 208 | J18: ='P.E. Atual. '!G66 -> 226 | K18: ='P.E. Atual. '!H66 -> 211 | L18: ='P.E. Atual. '!I66 -> 251 | M18: ='P.E. Atual. '!J66 -> 259 | ... Q18: ='P.E. Atual. '!N66 -> 252 | R18: =SUM(F18:Q18) -> 2914 | S18: =AVERAGE(F18:Q18) -> 242.83333
D19: 1.1.1.3. Clínica Cirúrgica | F19: ='P.E. Atual. '!C67 -> 340 | G19: ='P.E. Atual. '!D67 -> 374 | H19: ='P.E. Atual. '!E67 -> 419 | I19: ='P.E. Atual. '!F67 -> 420 | J19: ='P.E. Atual. '!G67 -> 361 | K19: ='P.E. Atual. '!H67 -> 345 | L19: ='P.E. Atual. '!I67 -> 368 | M19: ='P.E. Atual. '!J67 -> 433 | ... Q19: ='P.E. Atual. '!N67 -> 346 | R19: =SUM(F19:Q19) -> 4540 | S19: =AVERAGE(F19:Q19) -> 378.33333
D20: 1.1.1.4. Clínica Obstétrica | F20: ='P.E. Atual. '!C68 -> 89 | G20: ='P.E. Atual. '!D68 -> 92 | H20: ='P.E. Atual. '!E68 -> 91 | I20: ='P.E. Atual. '!F68 -> 133 | J20: ='P.E. Atual. '!G68 -> 104 | K20: ='P.E. Atual. '!H68 -> 96 | L20: ='P.E. Atual. '!I68 -> 108 | M20: ='P.E. Atual. '!J68 -> 154 | ... Q20: ='P.E. Atual. '!N68 -> 93 | R20: =SUM(F20:Q20) -> 1380 | S20: =AVERAGE(F20:Q20) -> 115
D21: 1.1.1.5. UTI de Adultos | F21: ='P.E. Atual. '!C69 -> 173 | G21: ='P.E. Atual. '!D69 -> 175 | H21: ='P.E. Atual. '!E69 -> 153 | I21: ='P.E. Atual. '!F69 -> 142 | J21: ='P.E. Atual. '!G69 -> 158 | K21: ='P.E. Atual. '!H69 -> 170 | L21: ='P.E. Atual. '!I69 -> 151 | M21: ='P.E. Atual. '!J69 -> 147 | ... Q21: ='P.E. Atual. '!N69 -> 128 | R21: =SUM(F21:Q21) -> 1828 | S21: =AVERAGE(F21:Q21) -> 152.33333
D22: 1.1.1.6. UTI Infantil | F22: ='P.E. Atual. '!C70 -> 134 | G22: ='P.E. Atual. '!D70 -> 119 | H22: ='P.E. Atual. '!E70 -> 122 | I22: ='P.E. Atual. '!F70 -> 129 | J22: ='P.E. Atual. '!G70 -> 146 | K22: ='P.E. Atual. '!H70 -> 125 | L22: ='P.E. Atual. '!I70 -> 123 | M22: ='P.E. Atual. '!J70 -> 155 | ... Q22: ='P.E. Atual. '!N70 -> 110 | R22: =SUM(F22:Q22) -> 1545 | S22: =AVERAGE(F22:Q22) -> 128.75
D23: 1.1.1.7. UTI Neonatal | F23: ='P.E. Atual. '!C71 -> 149 | G23: ='P.E. Atual. '!D71 -> 127 | H23: ='P.E. Atual. '!E71 -> 114 | I23: ='P.E. Atual. '!F71 -> 132 | J23: ='P.E. Atual. '!G71 -> 140 | K23: ='P.E. Atual. '!H71 -> 105 | L23: ='P.E. Atual. '!I71 -> 133 | M23: ='P.E. Atual. '!J71 -> 146 | ... Q23: ='P.E. Atual. '!N71 -> 117 | R23: =SUM(F23:Q23) -> 1558 | S23: =AVERAGE(F23:Q23) -> 129.83333
D24: 1.1.1.8. Berçário | F24: ='P.E. Atual. '!C72 -> 0 | G24: ='P.E. Atual. '!D72 -> 0 | H24: ='P.E. Atual. '!E72 -> 0 | I24: ='P.E. Atual. '!F72 -> 0 | J24: ='P.E. Atual. '!G72 -> 0 | K24: ='P.E. Atual. '!H72 -> 0 | L24: ='P.E. Atual. '!I72 -> 0 | M24: ='P.E. Atual. '!J72 -> 0 | ... Q24: ='P.E. Atual. '!N72 -> 0 | R24: =SUM(F24:Q24) -> 0 | S24: =AVERAGE(F24:Q24) -> 0
D25: 1.1.1.9. Clínica Ortopédica | F25: ='P.E. Atual. '!C73 -> 263 | G25: ='P.E. Atual. '!D73 -> 241 | H25: ='P.E. Atual. '!E73 -> 248 | I25: ='P.E. Atual. '!F73 -> 268 | J25: ='P.E. Atual. '!G73 -> 250 | K25: ='P.E. Atual. '!H73 -> 245 | L25: ='P.E. Atual. '!I73 -> 237 | M25: ='P.E. Atual. '!J73 -> 233 | ... Q25: ='P.E. Atual. '!N73 -> 236 | R25: =SUM(F25:Q25) -> 3027 | S25: =AVERAGE(F25:Q25) -> 252.25
D26: 1.1.2.0. Outros | F26: ='P.E. Atual. '!C74 -> 0 | G26: ='P.E. Atual. '!D74 -> 0 | H26: ='P.E. Atual. '!E74 -> 0 | I26: ='P.E. Atual. '!F74 -> 0 | J26: ='P.E. Atual. '!G74 -> 0 | K26: ='P.E. Atual. '!H74 -> 0 | L26: ='P.E. Atual. '!I74 -> 0 | M26: ='P.E. Atual. '!J74 -> 0 | ... Q26: ='P.E. Atual. '!N74 -> 0 | R26: =SUM(F26:Q26) -> 0 | S26: =AVERAGE(F26:Q26) -> 0
D27: Total de Pacientes Dia por Especialidade | F27: =SUM(F17:F26) -> 1666 | G27: =SUM(G17:G26) -> 1665 | H27: =SUM(H17:H26) -> 1686 | I27: =SUM(I17:I26) -> 1645 | J27: =SUM(J17:J26) -> 1606 | K27: =SUM(K17:K26) -> 1443 | L27: =SUM(L17:L26) -> 1630 | M27: =SUM(M17:M26) -> 1776 | ... S27: =SUM(S17:S26) -> 1659.5
C28: 1.2. NÚMERO DE PACIENTES-DIA
D29: 1.2.1. PACIENTES PAGANTES
D30: 1.2.1.1. Particulares | F30: 0 | G30: 0 | H30: 0 | I30: 0 | J30: 0 | K30: 0 | L30: 0 | M30: 0 | N30: 0 | O30: 0 | P30: 0 | Q30: 0 | R30: =SUM(F30:Q30) -> 0 | S30: =AVERAGE(F30:Q30) -> 0
D31: 1.2.1.2. Convênio A | F31: 0 | G31: 0 | H31: 0 | I31: 0 | J31: 0 | K31: 0 | L31: 0 | M31: 0 | N31: 0 | O31: 0 | P31: 0 | Q31: 0 | R31: =SUM(F31:Q31) -> 0 | S31: =AVERAGE(F31:Q31) -> 0
D32: 1.2.1.3. Convênio B | F32: 0 | G32: 0 | H32: 0 | I32: 0 | J32: 0 | K32: 0 | L32: 0 | M32: 0 | N32: 0 | O32: 0 | P32: 0 | Q32: 0 | R32: =SUM(F32:Q32) -> 0 | S32: =AVERAGE(F32:Q32) -> 0
D33: 1.2.1.4. Convênio C | F33: 0 | G33: 0 | H33: 0 | I33: 0 | J33: 0 | K33: 0 | L33: 0 | M33: 0 | N33: 0 | O33: 0 | P33: 0 | Q33: 0 | R33: =SUM(F33:Q33) -> 0 | S33: =AVERAGE(F33:Q33) -> 0
D34: 1.2.1.5. Outros Convênios | F34: 0 | G34: 0 | H34: 0 | I34: 0 | J34: 0 | K34: 0 | L34: 0 | M34: 0 | N34: 0 | O34: 0 | P34: 0 | Q34: 0 | R34: =SUM(F34:Q34) -> 0 | S34: =AVERAGE(F34:Q34) -> 0
D35: Sub total ( 1 ) | F35: =SUM(F30:F34) -> 0 | G35: =SUM(G30:G34) -> 0 | H35: =SUM(H30:H34) -> 0 | I35: =SUM(I30:I34) -> 0 | J35: =SUM(J30:J34) -> 0 | K35: =SUM(K30:K34) -> 0 | L35: =SUM(L30:L34) -> 0 | M35: =SUM(M30:M34) -> 0 | ... S35: =SUM(S30:S34) -> 0
D36: 1.2.2. SOCIAIS
D37: 1.2.2.1. SUS | F37: =F27 -> 1666 | G37: =G27 -> 1665 | H37: =H27 -> 1686 | I37: =I27 -> 1645 | J37: =J27 -> 1606 | K37: =K27 -> 1443 | L37: =L27 -> 1630 | M37: =M27 -> 1776 | ... Q37: =Q27 -> 1538 | R37: =SUM(F37:Q37) -> 19914 | S37: =AVERAGE(F37:Q37) -> 1659.5
D38: 1.2.2.2. Gratuito | F38: 0 | G38: 0 | H38: 0 | I38: 0 | J38: 0 | K38: 0 | L38: 0 | M38: 0 | N38: 0 | O38: 0 | P38: 0 | Q38: 0 | R38: =SUM(F38:Q38) -> 0 | S38: =AVERAGE(F38:Q38) -> 0
D39: Sub Total ( 2 ) | F39: =SUM(F37:F38) -> 1666 | G39: =SUM(G37:G38) -> 1665 | H39: =SUM(H37:H38) -> 1686 | I39: =SUM(I37:I38) -> 1645 | J39: =SUM(J37:J38) -> 1606 | K39: =SUM(K37:K38) -> 1443 | L39: =SUM(L37:L38) -> 1630 | M39: =SUM(M37:M38) -> 1776 | ... S39: =SUM(S37:S38) -> 1659.5
D40: T o t a l d e Pacientes/dia | F40: =F35+F39 -> 1666 | G40: =G35+G39 -> 1665 | H40: =H35+H39 -> 1686 | I40: =I35+I39 -> 1645 | J40: =J35+J39 -> 1606 | K40: =K35+K39 -> 1443 | L40: =L35+L39 -> 1630 | M40: =M35+M39 -> 1776 | ... S40: =S35+S39 -> 1659.5
D41: Média Diária de Pacientes | F41: =F40/F221 -> 53.741935 | G41: =G40/G221 -> 57.413793 | H41: =H40/H221 -> 54.387097 | I41: =I40/I221 -> 54.833333 | J41: =J40/J221 -> 51.806452 | K41: =K40/K221 -> 48.1 | L41: =L40/L221 -> 52.580645 | M41: =M40/M221 -> 57.290323 | ... S41: =S40/S221 -> 54.409836
C42: 1.2.1 NÚMERO DE INTERNAÇÕES POR ESPECIALIDADE
D43: 1.2.1.1 Clínica Médica | F43: ='P.E. Atual. '!C106 -> 59 | G43: ='P.E. Atual. '!D106 -> 51 | H43: ='P.E. Atual. '!E106 -> 54 | I43: ='P.E. Atual. '!F106 -> 32 | J43: ='P.E. Atual. '!G106 -> 38 | K43: ='P.E. Atual. '!H106 -> 30 | L43: ='P.E. Atual. '!I106 -> 44 | M43: ='P.E. Atual. '!J106 -> 63 | ... Q43: ='P.E. Atual. '!N106 -> 54 | R43: =SUM(F43:Q43) -> 589 | S43: =AVERAGE(F43:Q43) -> 49.083333
D44: 1.2.1.2. Clínica Pediátrica | F44: ='P.E. Atual. '!C107 -> 40 | G44: ='P.E. Atual. '!D107 -> 40 | H44: ='P.E. Atual. '!E107 -> 21 | I44: ='P.E. Atual. '!F107 -> 25 | J44: ='P.E. Atual. '!G107 -> 28 | K44: ='P.E. Atual. '!H107 -> 29 | L44: ='P.E. Atual. '!I107 -> 26 | M44: ='P.E. Atual. '!J107 -> 29 | ... Q44: ='P.E. Atual. '!N107 -> 30 | R44: =SUM(F44:Q44) -> 352 | S44: =AVERAGE(F44:Q44) -> 29.333333
D45: 1.2.1.3. Clínica Cirúrgica | F45: ='P.E. Atual. '!C108 -> 48 | G45: ='P.E. Atual. '!D108 -> 59 | H45: ='P.E. Atual. '!E108 -> 60 | I45: ='P.E. Atual. '!F108 -> 63 | J45: ='P.E. Atual. '!G108 -> 68 | K45: ='P.E. Atual. '!H108 -> 80 | L45: ='P.E. Atual. '!I108 -> 75 | M45: ='P.E. Atual. '!J108 -> 68 | ... Q45: ='P.E. Atual. '!N108 -> 60 | R45: =SUM(F45:Q45) -> 813 | S45: =AVERAGE(F45:Q45) -> 67.75
D46: 1.2.1.4. Clínica Obstétrica | F46: ='P.E. Atual. '!C109 -> 23 | G46: ='P.E. Atual. '!D109 -> 33 | H46: ='P.E. Atual. '!E109 -> 25 | I46: ='P.E. Atual. '!F109 -> 39 | J46: ='P.E. Atual. '!G109 -> 38 | K46: ='P.E. Atual. '!H109 -> 31 | L46: ='P.E. Atual. '!I109 -> 32 | M46: ='P.E. Atual. '!J109 -> 32 | ... Q46: ='P.E. Atual. '!N109 -> 31 | R46: =SUM(F46:Q46) -> 395 | S46: =AVERAGE(F46:Q46) -> 32.916667
D47: 1.2.1.5. UTI de Adultos | F47: ='P.E. Atual. '!C110 -> 8 | G47: ='P.E. Atual. '!D110 -> 10 | H47: ='P.E. Atual. '!E110 -> 12 | I47: ='P.E. Atual. '!F110 -> 13 | J47: ='P.E. Atual. '!G110 -> 9 | K47: ='P.E. Atual. '!H110 -> 13 | L47: ='P.E. Atual. '!I110 -> 12 | M47: ='P.E. Atual. '!J110 -> 10 | ... Q47: ='P.E. Atual. '!N110 -> 11 | R47: =SUM(F47:Q47) -> 137 | S47: =AVERAGE(F47:Q47) -> 11.416667
D48: 1.2.1.6. UTI Infantil | F48: ='P.E. Atual. '!C111 -> 6 | G48: ='P.E. Atual. '!D111 -> 4 | H48: ='P.E. Atual. '!E111 -> 8 | I48: ='P.E. Atual. '!F111 -> 6 | J48: ='P.E. Atual. '!G111 -> 7 | K48: ='P.E. Atual. '!H111 -> 8 | L48: ='P.E. Atual. '!I111 -> 7 | M48: ='P.E. Atual. '!J111 -> 5 | ... Q48: ='P.E. Atual. '!N111 -> 6 | R48: =SUM(F48:Q48) -> 75 | S48: =AVERAGE(F48:Q48) -> 6.25
D49: 1.2.1.7. UTI Neonatal | F49: ='P.E. Atual. '!C112 -> 6 | G49: ='P.E. Atual. '!D112 -> 7 | H49: ='P.E. Atual. '!E112 -> 8 | I49: ='P.E. Atual. '!F112 -> 7 | J49: ='P.E. Atual. '!G112 -> 6 | K49: ='P.E. Atual. '!H112 -> 6 | L49: ='P.E. Atual. '!I112 -> 7 | M49: ='P.E. Atual. '!J112 -> 7 | ... Q49: ='P.E. Atual. '!N112 -> 4 | R49: =SUM(F49:Q49) -> 85 | S49: =AVERAGE(F49:Q49) -> 7.0833333
D50: 1.2.1.8. Berçário | F50: ='P.E. Atual. '!C113 -> 0 | G50: ='P.E. Atual. '!D113 -> 0 | H50: ='P.E. Atual. '!E113 -> 0 | I50: ='P.E. Atual. '!F113 -> 0 | J50: ='P.E. Atual. '!G113 -> 0 | K50: ='P.E. Atual. '!H113 -> 0 | L50: ='P.E. Atual. '!I113 -> 0 | M50: ='P.E. Atual. '!J113 -> 0 | ... Q50: ='P.E. Atual. '!N113 -> 0 | R50: =SUM(F50:Q50) -> 0 | S50: =AVERAGE(F50:Q50) -> 0
D51: 1.2.1.9. Clínica Ortopédica | F51: ='P.E. Atual. '!C114 -> 51 | G51: ='P.E. Atual. '!D114 -> 31 | H51: ='P.E. Atual. '!E114 -> 50 | I51: ='P.E. Atual. '!F114 -> 50 | J51: ='P.E. Atual. '!G114 -> 58 | K51: ='P.E. Atual. '!H114 -> 58 | L51: ='P.E. Atual. '!I114 -> 57 | M51: ='P.E. Atual. '!J114 -> 61 | ... Q51: ='P.E. Atual. '!N114 -> 55 | R51: =SUM(F51:Q51) -> 625 | S51: =AVERAGE(F51:Q51) -> 52.083333
D52: 1.2.2.0. Outros | F52: ='P.E. Atual. '!C115 -> 0 | G52: ='P.E. Atual. '!D115 -> 0 | H52: ='P.E. Atual. '!E115 -> 0 | I52: ='P.E. Atual. '!F115 -> 0 | J52: ='P.E. Atual. '!G115 -> 0 | K52: ='P.E. Atual. '!H115 -> 0 | L52: ='P.E. Atual. '!I115 -> 0 | M52: ='P.E. Atual. '!J115 -> 0 | ... Q52: ='P.E. Atual. '!N115 -> 0 | R52: =SUM(F52:Q52) -> 0 | S52: =AVERAGE(F52:Q52) -> 0
D53: Total de Internações por Especialidade | F53: =SUM(F43:F52) -> 241 | G53: =SUM(G43:G52) -> 235 | H53: =SUM(H43:H52) -> 238 | I53: =SUM(I43:I52) -> 235 | J53: =SUM(J43:J52) -> 252 | K53: =SUM(K43:K52) -> 255 | L53: =SUM(L43:L52) -> 260 | M53: =SUM(M43:M52) -> 275 | ... S53: =SUM(S43:S52) -> 255.91667
C54: 1.3. NÚMERO DE INTERNAÇÕES
D55: 1.3.1. PACIENTES PAGANTES
D56: 1.3.1.1. Particulares | F56: 0 | G56: 0 | H56: 0 | I56: 0 | J56: 0 | K56: 0 | L56: 0 | M56: 0 | N56: 0 | O56: 0 | P56: 0 | Q56: 0 | R56: =SUM(F56:Q56) -> 0 | S56: =AVERAGE(F56:Q56) -> 0
D57: 1.3.1.2. Convênio A | F57: 0 | G57: 0 | H57: 0 | I57: 0 | J57: 0 | K57: 0 | L57: 0 | M57: 0 | N57: 0 | O57: 0 | P57: 0 | Q57: 0 | R57: =SUM(F57:Q57) -> 0 | S57: =AVERAGE(F57:Q57) -> 0
D58: 1.3.1.3. Convênio B | F58: 0 | G58: 0 | H58: 0 | I58: 0 | J58: 0 | K58: 0 | L58: 0 | M58: 0 | N58: 0 | O58: 0 | P58: 0 | Q58: 0 | R58: =SUM(F58:Q58) -> 0 | S58: =AVERAGE(F58:Q58) -> 0
D59: 1.3.1.4. Convênio C | F59: 0 | G59: 0 | H59: 0 | I59: 0 | J59: 0 | K59: 0 | L59: 0 | M59: 0 | N59: 0 | O59: 0 | P59: 0 | Q59: 0 | R59: =SUM(F59:Q59) -> 0 | S59: =AVERAGE(F59:Q59) -> 0
D60: 1.3.1.5. Outros Convênios | F60: 0 | G60: 0 | H60: 0 | I60: 0 | J60: 0 | K60: 0 | L60: 0 | M60: 0 | N60: 0 | O60: 0 | P60: 0 | Q60: 0 | R60: =SUM(F60:Q60) -> 0 | S60: =AVERAGE(F60:Q60) -> 0
D61: Sub total ( 1 ) | F61: =SUM(F56:F60) -> 0 | G61: =SUM(G56:G60) -> 0 | H61: =SUM(H56:H60) -> 0 | I61: =SUM(I56:I60) -> 0 | J61: =SUM(J56:J60) -> 0 | K61: =SUM(K56:K60) -> 0 | L61: =SUM(L56:L60) -> 0 | M61: =SUM(M56:M60) -> 0 | ... S61: =SUM(S56:S60) -> 0
D62: 1.3.2. SOCIAIS
D63: 1.3.2.1. SUS | F63: =F53 -> 241 | G63: =G53 -> 235 | H63: =H53 -> 238 | I63: =I53 -> 235 | J63: =J53 -> 252 | K63: =K53 -> 255 | L63: =L53 -> 260 | M63: =M53 -> 275 | ... Q63: =Q53 -> 251 | R63: =SUM(F63:Q63) -> 3071 | S63: =AVERAGE(F63:Q63) -> 255.91667
D64: 1.3.2.2. Gratuito | F64: 0 | G64: 0 | H64: 0 | I64: 0 | J64: 0 | K64: 0 | L64: 0 | M64: 0 | N64: 0 | O64: 0 | P64: 0 | Q64: 0 | R64: =SUM(F64:Q64) -> 0 | S64: =AVERAGE(F64:Q64) -> 0
D65: Sub Total ( 2 ) | F65: =SUM(F63:F64) -> 241 | G65: =SUM(G63:G64) -> 235 | H65: =SUM(H63:H64) -> 238 | I65: =SUM(I63:I64) -> 235 | J65: =SUM(J63:J64) -> 252 | K65: =SUM(K63:K64) -> 255 | L65: =SUM(L63:L64) -> 260 | M65: =SUM(M63:M64) -> 275 | ... S65: =SUM(S63:S64) -> 255.91667
D66: T o t a l d e I n t e r n a ç õ e s | F66: =F61+F65 -> 241 | G66: =G61+G65 -> 235 | H66: =H61+H65 -> 238 | I66: =I61+I65 -> 235 | J66: =J61+J65 -> 252 | K66: =K61+K65 -> 255 | L66: =L61+L65 -> 260 | M66: =M61+M65 -> 275 | ... S66: =S61+S65 -> 255.91667
D67: Média Diária de Internações | F67: =F66/F221 -> 7.7741935 | G67: =G66/G221 -> 8.1034483 | H67: =H66/H221 -> 7.6774194 | I67: =I66/I221 -> 7.8333333 | J67: =J66/J221 -> 8.1290323 | K67: =K66/K221 -> 8.5 | L67: =L66/L221 -> 8.3870968 | M67: =M66/M221 -> 8.8709677 | ... S67: =S66/S221 -> 8.3907104
C68: 1.4. PORCENTAGEM DE OCUPAÇÃO
D69: 1.4.1. Clínica Médica | F69: =IF(F5=0,0,F17/(F5*F$221)) -> 0.61290323 | G69: =IF(G5=0,0,G17/(G5*G$221)) -> 0.79310345 | H69: =IF(H5=0,0,H17/(H5*H$221)) -> 0.74193548 | I69: =IF(I5=0,0,I17/(I5*I$221)) -> 0.54615385 | J69: =IF(J5=0,0,J17/(J5*J$221)) -> 0.5483871 | K69: =IF(K5=0,0,K17/(K5*K$221)) -> 0.37435897 | L69: =IF(L5=0,0,L17/(L5*L$221)) -> 0.6426799 | M69: =IF(M5=0,0,M17/(M5*M$221)) -> 0.617866 | ... Q69: =IF(Q5=0,0,Q17/(Q5*Q$221)) -> 0.63523573 | S69: =IF(S5=0,0,S17/(S5*$R$226)) -> #DIV/0!
D70: 1.4.2. Clínica Pediátrica | F70: =IF(F6=0,0,F18/(F6*F$221)) -> 0.97132616 | G70: =IF(G6=0,0,G18/(G6*G$221)) -> 0.91187739 | H70: =IF(H6=0,0,H18/(H6*H$221)) -> 0.86021505 | I70: =IF(I6=0,0,I18/(I6*I$221)) -> 0.77037037 | J70: =IF(J6=0,0,J18/(J6*J$221)) -> 0.81003584 | K70: =IF(K6=0,0,K18/(K6*K$221)) -> 0.78148148 | L70: =IF(L6=0,0,L18/(L6*L$221)) -> 0.89964158 | M70: =IF(M6=0,0,M18/(M6*M$221)) -> 0.92831541 | ... Q70: =IF(Q6=0,0,Q18/(Q6*Q$221)) -> 0.90322581 | S70: =IF(S6=0,0,S18/(S6*$R$226)) -> #DIV/0!
D71: 1.4.3. Clínica Cirúrgica | F71: =IF(F7=0,0,F19/(F7*F$221)) -> 0.7311828 | G71: =IF(G7=0,0,G19/(G7*G$221)) -> 0.85977011 | H71: =IF(H7=0,0,H19/(H7*H$221)) -> 0.90107527 | I71: =IF(I7=0,0,I19/(I7*I$221)) -> 0.93333333 | J71: =IF(J7=0,0,J19/(J7*J$221)) -> 0.77634409 | K71: =IF(K7=0,0,K19/(K7*K$221)) -> 0.76666667 | L71: =IF(L7=0,0,L19/(L7*L$221)) -> 0.79139785 | M71: =IF(M7=0,0,M19/(M7*M$221)) -> 0.9311828 | ... Q71: =IF(Q7=0,0,Q19/(Q7*Q$221)) -> 0.74408602 | S71: =IF(S7=0,0,S19/(S7*$R$226)) -> #DIV/0!
D72: 1.4.4. Clínica Obstétrica | F72: =IF(F8=0,0,F20/(F8*F$221)) -> 0.47849462 | G72: =IF(G8=0,0,G20/(G8*G$221)) -> 0.52873563 | H72: =IF(H8=0,0,H20/(H8*H$221)) -> 0.48924731 | I72: =IF(I8=0,0,I20/(I8*I$221)) -> 0.73888889 | J72: =IF(J8=0,0,J20/(J8*J$221)) -> 0.55913978 | K72: =IF(K8=0,0,K20/(K8*K$221)) -> 0.53333333 | L72: =IF(L8=0,0,L20/(L8*L$221)) -> 0.58064516 | M72: =IF(M8=0,0,M20/(M8*M$221)) -> 0.82795699 | ... Q72: =IF(Q8=0,0,Q20/(Q8*Q$221)) -> 0.5 | S72: =IF(S8=0,0,S20/(S8*$R$226)) -> #DIV/0!
D73: 1.4.5. UTI de Adultos | F73: =IF(F9=0,0,F21/(F9*F$221)) -> 0.79723502 | G73: =IF(G9=0,0,G21/(G9*G$221)) -> 0.86206897 | H73: =IF(H9=0,0,H21/(H9*H$221)) -> 0.70506912 | I73: =IF(I9=0,0,I21/(I9*I$221)) -> 0.67619048 | J73: =IF(J9=0,0,J21/(J9*J$221)) -> 0.7281106 | K73: =IF(K9=0,0,K21/(K9*K$221)) -> 0.80952381 | L73: =IF(L9=0,0,L21/(L9*L$221)) -> 0.69585253 | M73: =IF(M9=0,0,M21/(M9*M$221)) -> 0.67741935 | ... Q73: =IF(Q9=0,0,Q21/(Q9*Q$221)) -> 0.58986175 | S73: =IF(S9=0,0,S21/(S9*$R$226)) -> #DIV/0!
D74: 1.4.6. UTI Infantil | F74: =IF(F10=0,0,F22/(F10*F$221)) -> 0.86451613 | G74: =IF(G10=0,0,G22/(G10*G$221)) -> 0.82068966 | H74: =IF(H10=0,0,H22/(H10*H$221)) -> 0.78709677 | I74: =IF(I10=0,0,I22/(I10*I$221)) -> 0.86 | J74: =IF(J10=0,0,J22/(J10*J$221)) -> 0.94193548 | K74: =IF(K10=0,0,K22/(K10*K$221)) -> 0.83333333 | L74: =IF(L10=0,0,L22/(L10*L$221)) -> 0.79354839 | M74: =IF(M10=0,0,M22/(M10*M$221)) -> 1 | ... Q74: =IF(Q10=0,0,Q22/(Q10*Q$221)) -> 0.70967742 | S74: =IF(S10=0,0,S22/(S10*$R$226)) -> #DIV/0!
D75: 1.4.7. UTI Neonatal | F75: =IF(F11=0,0,F23/(F11*F$221)) -> 0.96129032 | G75: =IF(G11=0,0,G23/(G11*G$221)) -> 0.87586207 | H75: =IF(H11=0,0,H23/(H11*H$221)) -> 0.73548387 | I75: =IF(I11=0,0,I23/(I11*I$221)) -> 0.88 | J75: =IF(J11=0,0,J23/(J11*J$221)) -> 0.90322581 | K75: =IF(K11=0,0,K23/(K11*K$221)) -> 0.7 | L75: =IF(L11=0,0,L23/(L11*L$221)) -> 0.85806452 | M75: =IF(M11=0,0,M23/(M11*M$221)) -> 0.94193548 | ... Q75: =IF(Q11=0,0,Q23/(Q11*Q$221)) -> 0.75483871 | S75: =IF(S11=0,0,S23/(S11*$R$226)) -> #DIV/0!
D76: 1.4.8. Berçário | F76: =IF(F12=0,0,F24/(F12*F$221)) -> 0 | G76: =IF(G12=0,0,G24/(G12*G$221)) -> 0 | H76: =IF(H12=0,0,H24/(H12*H$221)) -> 0 | I76: =IF(I12=0,0,I24/(I12*I$221)) -> 0 | J76: =IF(J12=0,0,J24/(J12*J$221)) -> 0 | K76: =IF(K12=0,0,K24/(K12*K$221)) -> 0 | L76: =IF(L12=0,0,L24/(L12*L$221)) -> 0 | M76: =IF(M12=0,0,M24/(M12*M$221)) -> 0 | ... Q76: =IF(Q12=0,0,Q24/(Q12*Q$221)) -> 0 | S76: =IF(S12=0,0,S24/(S12*$R$226)) -> 0
D77: 1.4.9. Clínica Ortopédica | F77: =IF(F13=0,0,F25/(F13*F$221)) -> 0.8483871 | G77: =IF(G13=0,0,G25/(G13*G$221)) -> 0.83103448 | H77: =IF(H13=0,0,H25/(H13*H$221)) -> 0.8 | I77: =IF(I13=0,0,I25/(I13*I$221)) -> 0.89333333 | J77: =IF(J13=0,0,J25/(J13*J$221)) -> 0.80645161 | K77: =IF(K13=0,0,K25/(K13*K$221)) -> 0.81666667 | L77: =IF(L13=0,0,L25/(L13*L$221)) -> 0.76451613 | M77: =IF(M13=0,0,M25/(M13*M$221)) -> 0.7516129 | ... Q77: =IF(Q13=0,0,Q25/(Q13*Q$221)) -> 0.76129032 | S77: =IF(S13=0,0,S25/(S13*$R$226)) -> #DIV/0!
D78: 1.4.10. Outros | F78: =IF(F14=0,0,F26/(F14*F$221)) -> 0 | G78: =IF(G14=0,0,G26/(G14*G$221)) -> 0 | H78: =IF(H14=0,0,H26/(H14*H$221)) -> 0 | I78: =IF(I14=0,0,I26/(I14*I$221)) -> 0 | J78: =IF(J14=0,0,J26/(J14*J$221)) -> 0 | K78: =IF(K14=0,0,K26/(K14*K$221)) -> 0 | L78: =IF(L14=0,0,L26/(L14*L$221)) -> 0 | M78: =IF(M14=0,0,M26/(M14*M$221)) -> 0 | ... Q78: =IF(Q14=0,0,Q26/(Q14*Q$221)) -> 0 | S78: =IF(S14=0,0,S26/(S14*$R$226)) -> 0
D79: Porcentagem Geral de Ocupação | F79: =IF(F15=0,0,F27/(F15*30.4)) -> 0.78289474 | G79: =IF(G15=0,0,G27/(G15*30.4)) -> 0.78242481 | H79: =IF(H15=0,0,H27/(H15*30.4)) -> 0.79229323 | I79: =IF(I15=0,0,I27/(I15*30.4)) -> 0.77302632 | J79: =IF(J15=0,0,J27/(J15*30.4)) -> 0.75469925 | K79: =IF(K15=0,0,K27/(K15*30.4)) -> 0.6781015 | L79: =IF(L15=0,0,L27/(L15*30.4)) -> 0.76597744 | M79: =IF(M15=0,0,M27/(M15*30.4)) -> 0.83458647 | ... Q79: =IF(Q15=0,0,Q27/(Q15*30.4)) -> 0.72274436 | S79: =IF(S15=0,0,S27/(S15*$R$226)) -> #DIV/0!
C80: 1.5. MÉDIA DE PERMANÊNCIA - ESPECIALIDADES
D81: 1.5.1. Clínica Médica | F81: ='P.E. Atual. '!C86 -> 7.9677419 | G81: ='P.E. Atual. '!D86 -> 10.310345 | H81: ='P.E. Atual. '!E86 -> 9.6451613 | I81: ='P.E. Atual. '!F86 -> 7.1 | J81: ='P.E. Atual. '!G86 -> 7.1290323 | K81: ='P.E. Atual. '!H86 -> 4.8666667 | L81: ='P.E. Atual. '!I86 -> 8.3548387 | M81: ='P.E. Atual. '!J86 -> 8.0322581 | ... Q81: ='P.E. Atual. '!N86 -> 8.2580645 | S81: =AVERAGE(F81:Q81) -> 8.5348226
D82: 1.5.2. Clínica Pediátrica | F82: ='P.E. Atual. '!C87 -> 8.7419355 | G82: ='P.E. Atual. '!D87 -> 8.2068966 | H82: ='P.E. Atual. '!E87 -> 7.7419355 | I82: ='P.E. Atual. '!F87 -> 6.9333333 | J82: ='P.E. Atual. '!G87 -> 7.2903226 | K82: ='P.E. Atual. '!H87 -> 7.0333333 | L82: ='P.E. Atual. '!I87 -> 8.0967742 | M82: ='P.E. Atual. '!J87 -> 8.3548387 | ... Q82: ='P.E. Atual. '!N87 -> 8.1290323 | S82: =AVERAGE(F82:Q82) -> 7.9583704
D83: 1.5.3. Clínica Cirúrgica | F83: ='P.E. Atual. '!C88 -> 10.967742 | G83: ='P.E. Atual. '!D88 -> 12.896552 | H83: ='P.E. Atual. '!E88 -> 13.516129 | I83: ='P.E. Atual. '!F88 -> 14 | J83: ='P.E. Atual. '!G88 -> 11.645161 | K83: ='P.E. Atual. '!H88 -> 11.5 | L83: ='P.E. Atual. '!I88 -> 11.870968 | M83: ='P.E. Atual. '!J88 -> 13.967742 | ... Q83: ='P.E. Atual. '!N88 -> 11.16129 | S83: =AVERAGE(F83:Q83) -> 12.408225
D84: 1.5.4. Clínica Obstétrica | F84: ='P.E. Atual. '!C89 -> 2.8709677 | G84: ='P.E. Atual. '!D89 -> 3.1724138 | H84: ='P.E. Atual. '!E89 -> 2.9354839 | I84: ='P.E. Atual. '!F89 -> 4.4333333 | J84: ='P.E. Atual. '!G89 -> 3.3548387 | K84: ='P.E. Atual. '!H89 -> 3.2 | L84: ='P.E. Atual. '!I89 -> 3.483871 | M84: ='P.E. Atual. '!J89 -> 4.9677419 | ... Q84: ='P.E. Atual. '!N89 -> 3 | S84: =AVERAGE(F84:Q84) -> 3.7730596
D85: 1.5.5. UTI de Adultos | F85: ='P.E. Atual. '!C90 -> 5.5806452 | G85: ='P.E. Atual. '!D90 -> 6.0344828 | H85: ='P.E. Atual. '!E90 -> 4.9354839 | I85: ='P.E. Atual. '!F90 -> 4.7333333 | J85: ='P.E. Atual. '!G90 -> 5.0967742 | K85: ='P.E. Atual. '!H90 -> 5.6666667 | L85: ='P.E. Atual. '!I90 -> 4.8709677 | M85: ='P.E. Atual. '!J90 -> 4.7419355 | ... Q85: ='P.E. Atual. '!N90 -> 4.1290323 | S85: =AVERAGE(F85:Q85) -> 4.997766
D86: 1.5.6. UTI Infantil | F86: ='P.E. Atual. '!C91 -> 4.3225806 | G86: ='P.E. Atual. '!D91 -> 4.1034483 | H86: ='P.E. Atual. '!E91 -> 3.9354839 | I86: ='P.E. Atual. '!F91 -> 4.3 | J86: ='P.E. Atual. '!G91 -> 4.7096774 | K86: ='P.E. Atual. '!H91 -> 4.1666667 | L86: ='P.E. Atual. '!I91 -> 3.9677419 | M86: ='P.E. Atual. '!J91 -> 5 | ... Q86: ='P.E. Atual. '!N91 -> 3.5483871 | S86: =AVERAGE(F86:Q86) -> 4.2191046
D87: 1.5.7. UTI Neonatal | F87: ='P.E. Atual. '!C92 -> 4.8064516 | G87: ='P.E. Atual. '!D92 -> 4.3793103 | H87: ='P.E. Atual. '!E92 -> 3.6774194 | I87: ='P.E. Atual. '!F92 -> 4.4 | J87: ='P.E. Atual. '!G92 -> 4.516129 | K87: ='P.E. Atual. '!H92 -> 3.5 | L87: ='P.E. Atual. '!I92 -> 4.2903226 | M87: ='P.E. Atual. '!J92 -> 4.7096774 | ... Q87: ='P.E. Atual. '!N92 -> 3.7741935 | S87: =AVERAGE(F87:Q87) -> 4.2545483
D88: 1.5.8. Berçário | F88: ='P.E. Atual. '!C93 -> 0 | G88: ='P.E. Atual. '!D93 -> 0 | H88: ='P.E. Atual. '!E93 -> 0 | I88: ='P.E. Atual. '!F93 -> 0 | J88: ='P.E. Atual. '!G93 -> 0 | K88: ='P.E. Atual. '!H93 -> 0 | L88: ='P.E. Atual. '!I93 -> 0 | M88: ='P.E. Atual. '!J93 -> 0 | ... Q88: ='P.E. Atual. '!N93 -> 0 | S88: =AVERAGE(F88:Q88) -> 0
D89: 1.5.9. Clínica Ortopédica | F89: ='P.E. Atual. '!C94 -> 8.483871 | G89: ='P.E. Atual. '!D94 -> 8.3103448 | H89: ='P.E. Atual. '!E94 -> 8 | I89: ='P.E. Atual. '!F94 -> 8.9333333 | J89: ='P.E. Atual. '!G94 -> 8.0645161 | K89: ='P.E. Atual. '!H94 -> 8.1666667 | L89: ='P.E. Atual. '!I94 -> 7.6451613 | M89: ='P.E. Atual. '!J94 -> 7.516129 | ... Q89: ='P.E. Atual. '!N94 -> 7.6129032 | S89: =AVERAGE(F89:Q89) -> 8.2748764
D90: 1.5.10. Outros | F90: ='P.E. Atual. '!C95 -> 53.741935 | G90: ='P.E. Atual. '!D95 -> 57.413793 | H90: ='P.E. Atual. '!E95 -> 54.387097 | I90: ='P.E. Atual. '!F95 -> 54.833333 | J90: ='P.E. Atual. '!G95 -> 51.806452 | K90: ='P.E. Atual. '!H95 -> 48.1 | L90: ='P.E. Atual. '!I95 -> 52.580645 | M90: ='P.E. Atual. '!J95 -> 57.290323 | ... Q90: ='P.E. Atual. '!N95 -> 49.612903 | S90: =AVERAGE(F90:Q90) -> 54.420773
D91: Média Geral de Permanência | F91: ='P.E. Atual. '!C95 -> 53.741935 | G91: ='P.E. Atual. '!D95 -> 57.413793 | H91: ='P.E. Atual. '!E95 -> 54.387097 | I91: ='P.E. Atual. '!F95 -> 54.833333 | J91: ='P.E. Atual. '!G95 -> 51.806452 | K91: ='P.E. Atual. '!H95 -> 48.1 | L91: ='P.E. Atual. '!I95 -> 52.580645 | M91: ='P.E. Atual. '!J95 -> 57.290323 | ... Q91: ='P.E. Atual. '!N95 -> 49.612903 | S91: =IF(S53=0,0,S27/S53) -> 6.4845327
C92: 1.6.MÉDIA GERAL PERMANÊNCIA - CONVÊNIOS
D93: 1.6.1. PACIENTES PAGANTES
D94: 1.6.1.1. Particulares | F94: =IF(F56=0,0,F30/F56) -> 0 | G94: =IF(G56=0,0,G30/G56) -> 0 | H94: =IF(H56=0,0,H30/H56) -> 0 | I94: =IF(I56=0,0,I30/I56) -> 0 | J94: =IF(J56=0,0,J30/J56) -> 0 | K94: =IF(K56=0,0,K30/K56) -> 0 | L94: =IF(L56=0,0,L30/L56) -> 0 | M94: =IF(M56=0,0,M30/M56) -> 0 | ... Q94: =IF(Q56=0,0,Q30/Q56) -> 0 | S94: =IF(S56=0,0,S30/S56) -> 0
D95: 1.6.1.2. Convênio A | F95: =IF(F57=0,0,F31/F57) -> 0 | G95: =IF(G57=0,0,G31/G57) -> 0 | H95: =IF(H57=0,0,H31/H57) -> 0 | I95: =IF(I57=0,0,I31/I57) -> 0 | J95: =IF(J57=0,0,J31/J57) -> 0 | K95: =IF(K57=0,0,K31/K57) -> 0 | L95: =IF(L57=0,0,L31/L57) -> 0 | M95: =IF(M57=0,0,M31/M57) -> 0 | ... Q95: =IF(Q57=0,0,Q31/Q57) -> 0 | S95: =IF(S57=0,0,S31/S57) -> 0
D96: 1.6.1.3. Convênio B | F96: =IF(F58=0,0,F32/F58) -> 0 | G96: =IF(G58=0,0,G32/G58) -> 0 | H96: =IF(H58=0,0,H32/H58) -> 0 | I96: =IF(I58=0,0,I32/I58) -> 0 | J96: =IF(J58=0,0,J32/J58) -> 0 | K96: =IF(K58=0,0,K32/K58) -> 0 | L96: =IF(L58=0,0,L32/L58) -> 0 | M96: =IF(M58=0,0,M32/M58) -> 0 | ... Q96: =IF(Q58=0,0,Q32/Q58) -> 0 | S96: =IF(S58=0,0,S32/S58) -> 0
D97: 1.6.1.4. Convênio C | F97: =IF(F59=0,0,F33/F59) -> 0 | G97: =IF(G59=0,0,G33/G59) -> 0 | H97: =IF(H59=0,0,H33/H59) -> 0 | I97: =IF(I59=0,0,I33/I59) -> 0 | J97: =IF(J59=0,0,J33/J59) -> 0 | K97: =IF(K59=0,0,K33/K59) -> 0 | L97: =IF(L59=0,0,L33/L59) -> 0 | M97: =IF(M59=0,0,M33/M59) -> 0 | ... Q97: =IF(Q59=0,0,Q33/Q59) -> 0 | S97: =IF(S59=0,0,S33/S59) -> 0
D98: 1.6.1.5. Outros Convênios | F98: =IF(F60=0,0,F34/F60) -> 0 | G98: =IF(G60=0,0,G34/G60) -> 0 | H98: =IF(H60=0,0,H34/H60) -> 0 | I98: =IF(I60=0,0,I34/I60) -> 0 | J98: =IF(J60=0,0,J34/J60) -> 0 | K98: =IF(K60=0,0,K34/K60) -> 0 | L98: =IF(L60=0,0,L34/L60) -> 0 | M98: =IF(M60=0,0,M34/M60) -> 0 | ... Q98: =IF(Q60=0,0,Q34/Q60) -> 0 | S98: =IF(S60=0,0,S34/S60) -> 0
D99: Média de Permanência | F99: =IF(F61=0,0,F35/F61) -> 0 | G99: =IF(G61=0,0,G35/G61) -> 0 | H99: =IF(H61=0,0,H35/H61) -> 0 | I99: =IF(I61=0,0,I35/I61) -> 0 | J99: =IF(J61=0,0,J35/J61) -> 0 | K99: =IF(K61=0,0,K35/K61) -> 0 | L99: =IF(L61=0,0,L35/L61) -> 0 | M99: =IF(M61=0,0,M35/M61) -> 0 | ... Q99: =IF(Q61=0,0,Q35/Q61) -> 0 | S99: =IF(S61=0,0,S35/S61) -> 0
D100: 1.6.2. SOCIAIS
D101: 1.6.2.1. Sus | F101: ='P.E. Atual. '!C333 -> 7.1196581 | G101: ='P.E. Atual. '!D333 -> 6.9375 | H101: ='P.E. Atual. '!E333 -> 6.7710843 | I101: ='P.E. Atual. '!F333 -> 6.8257261 | J101: ='P.E. Atual. '!G333 -> 6.424 | K101: ='P.E. Atual. '!H333 -> 5.5930233 | L101: ='P.E. Atual. '!I333 -> 6.3921569 | M101: ='P.E. Atual. '!J333 -> 6.5535055 | ... Q101: ='P.E. Atual. '!N333 -> 5.6962963 | S101: =IF(S63=0,0,S37/S63) -> 6.4845327
...

Sheet Quadro de Pessoal
A2: 2. RECURSOS HUMANOS | D2: 2016 | P2: TOTAL | R2: MÉDIA DOS MESES DE JUNHO, JULHO E AGOSTO | S2: VARIAÇÃO EM % ENTRE AS MÉDIAS DO ANOS
B3: 2.1. RECURSOS HUMANOS - PRÓPRIO | D3: Janeiro | E3: Fevereiro | F3: Março | G3: Abril | H3: Maio | I3: Junho | J3: Julho | K3: Agosto | L3: Setembro | M3: Outubro | N3: Novembro | O3: Dezembro | P3: 2016 | R3: 2015 | S3: 2015 x 2016
C4: 2.1.1. Administração | D4: ='P.E. Atual. '!C1504 -> 27 | E4: ='P.E. Atual. '!D1504 -> 28 | F4: ='P.E. Atual. '!E1504 -> 26 | G4: ='P.E. Atual. '!F1504 -> 25 | H4: ='P.E. Atual. '!G1504 -> 25 | I4: ='P.E. Atual. '!H1504 -> 26 | J4: ='P.E. Atual. '!I1504 -> 26 | K4: ='P.E. Atual. '!J1504 -> 25 | ... O4: ='P.E. Atual. '!N1504 -> 27 | P4: =AVERAGE(D4:O4) -> 26.416667 | R4: 67 | S4: =IFERROR(((P4/R4)-1),0) -> -0.60572139
C5: 2.1.2. Enfermagem - Total | D5: =SUM(D6:D9) -> 193 | E5: =SUM(E6:E9) -> 193 | F5: =SUM(F6:F9) -> 195 | G5: =SUM(G6:G9) -> 195 | H5: =SUM(H6:H9) -> 191 | I5: =SUM(I6:I9) -> 194 | J5: =SUM(J6:J9) -> 195 | K5: =SUM(K6:K9) -> 193 | ... P5: =SUM(P6:P9) -> 193.41667 | R5: =SUM(R6:R9) -> 193 | S5: =IFERROR(((P5/R5)-1),0) -> 0.0021588946
C6: 2.1.2.1. Enfermeiros | D6: ='P.E. Atual. '!C1505 -> 36 | E6: ='P.E. Atual. '!D1505 -> 36 | F6: ='P.E. Atual. '!E1505 -> 36 | G6: ='P.E. Atual. '!F1505 -> 36 | H6: ='P.E. Atual. '!G1505 -> 33 | I6: ='P.E. Atual. '!H1505 -> 35 | J6: ='P.E. Atual. '!I1505 -> 36 | K6: ='P.E. Atual. '!J1505 -> 37 | ... O6: ='P.E. Atual. '!N1505 -> 39 | P6: =AVERAGE(D6:O6) -> 36.333333 | R6: 35.666667 | S6: =IFERROR(((P6/R6)-1),0) -> 0.018691589
C7: 2.1.2.2. Técnicos de Enfermagem | D7: ='P.E. Atual. '!C1506 -> 156 | E7: ='P.E. Atual. '!D1506 -> 156 | F7: ='P.E. Atual. '!E1506 -> 158 | G7: ='P.E. Atual. '!F1506 -> 158 | H7: ='P.E. Atual. '!G1506 -> 157 | I7: ='P.E. Atual. '!H1506 -> 158 | J7: ='P.E. Atual. '!I1506 -> 158 | K7: ='P.E. Atual. '!J1506 -> 155 | ... O7: ='P.E. Atual. '!N1506 -> 154 | P7: =AVERAGE(D7:O7) -> 156.08333 | R7: 156.33333 | S7: =IFERROR(((P7/R7)-1),0) -> -0.0015991471
C8: 2.1.2.3. Auxiliares de Enfermagem | D8: ='P.E. Atual. '!C1507 -> 0 | E8: ='P.E. Atual. '!D1507 -> 0 | F8: ='P.E. Atual. '!E1507 -> 0 | G8: ='P.E. Atual. '!F1507 -> 0 | H8: ='P.E. Atual. '!G1507 -> 0 | I8: ='P.E. Atual. '!H1507 -> 0 | J8: ='P.E. Atual. '!I1507 -> 0 | K8: ='P.E. Atual. '!J1507 -> 0 | ... O8: ='P.E. Atual. '!N1507 -> 0 | P8: =AVERAGE(D8:O8) -> 0 | R8: 0 | S8: =IFERROR(((P8/R8)-1),0) -> 0
C9: 2.1.2.4. Maqueiro | D9: ='P.E. Atual. '!C1518 -> 1 | E9: ='P.E. Atual. '!D1518 -> 1 | F9: ='P.E. Atual. '!E1518 -> 1 | G9: ='P.E. Atual. '!F1518 -> 1 | H9: ='P.E. Atual. '!G1518 -> 1 | I9: ='P.E. Atual. '!H1518 -> 1 | J9: ='P.E. Atual. '!I1518 -> 1 | K9: ='P.E. Atual. '!J1518 -> 1 | ... O9: ='P.E. Atual. '!N1518 -> 1 | P9: =AVERAGE(D9:O9) -> 1 | R9: 1 | S9: =IFERROR(((P9/R9)-1),0) -> 0
C10: 2.1.3. Serviços de Apoio Assistencial (Fisio, Fono, Nutricionista e etc) | D10: 2 | E10: 2 | F10: 2 | G10: 2 | H10: 2 | I10: 2 | J10: 2 | K10: 2 | L10: 2 | M10: 2 | N10: 2 | O10: 2 | P10: =AVERAGE(D10:O10) -> 2 | R10: 0 | S10: =IFERROR(((P10/R10)-1),0) -> 0
C11: 2.1.4. S.A.D.T. | D11: ='P.E. Atual. '!C1508 -> 2 | E11: ='P.E. Atual. '!D1508 -> 2 | F11: ='P.E. Atual. '!E1508 -> 4 | G11: ='P.E. Atual. '!F1508 -> 4 | H11: ='P.E. Atual. '!G1508 -> 4 | I11: ='P.E. Atual. '!H1508 -> 4 | J11: ='P.E. Atual. '!I1508 -> 4 | K11: ='P.E. Atual. '!J1508 -> 4 | ... O11: ='P.E. Atual. '!N1508 -> 4 | P11: =AVERAGE(D11:O11) -> 3.6666667 | R11: 9 | S11: =IFERROR(((P11/R11)-1),0) -> -0.59259259
C12: 2.1.5. Nutrição | D12: ='P.E. Atual. '!C1513 -> 26 | E12: ='P.E. Atual. '!D1513 -> 25 | F12: ='P.E. Atual. '!E1513 -> 26 | G12: ='P.E. Atual. '!F1513 -> 26 | H12: ='P.E. Atual. '!G1513 -> 26 | I12: ='P.E. Atual. '!H1513 -> 26 | J12: ='P.E. Atual. '!I1513 -> 26 | K12: ='P.E. Atual. '!J1513 -> 25 | ... O12: ='P.E. Atual. '!N1513 -> 27 | P12: =AVERAGE(D12:O12) -> 26.083333 | R12: 25.333333 | S12: =IFERROR(((P12/R12)-1),0) -> 0.029605263
C13: 2.1.6. Limpeza e Higienização | D13: ='P.E. Atual. '!C1514 -> 34 | E13: ='P.E. Atual. '!D1514 -> 34 | F13: ='P.E. Atual. '!E1514 -> 34 | G13: ='P.E. Atual. '!F1514 -> 34 | H13: ='P.E. Atual. '!G1514 -> 34 | I13: ='P.E. Atual. '!H1514 -> 34 | J13: ='P.E. Atual. '!I1514 -> 34 | K13: ='P.E. Atual. '!J1514 -> 35 | ... O13: ='P.E. Atual. '!N1514 -> 35 | P13: =AVERAGE(D13:O13) -> 34.416667 | R13: 36 | S13: =IFERROR(((P13/R13)-1),0) -> -0.043981481
C14: 2.1.7. Processamento da Roupa | D14: 8 | E14: 8 | F14: 8 | G14: 8 | H14: 8 | I14: 8 | J14: 8 | K14: 8 | L14: 8 | M14: 8 | N14: 8 | O14: 8 | P14: =AVERAGE(D14:O14) -> 8 | R14: 8 | S14: =IFERROR(((P14/R14)-1),0) -> 0
C15: 2.1.8. Manutenção / Segurança | D15: ='P.E. Atual. '!C1516 -> 7 | E15: ='P.E. Atual. '!D1516 -> 7 | F15: ='P.E. Atual. '!E1516 -> 7 | G15: ='P.E. Atual. '!F1516 -> 7 | H15: ='P.E. Atual. '!G1516 -> 6 | I15: ='P.E. Atual. '!H1516 -> 6 | J15: ='P.E. Atual. '!I1516 -> 6 | K15: ='P.E. Atual. '!J1516 -> 5 | ... O15: ='P.E. Atual. '!N1516 -> 5 | P15: =AVERAGE(D15:O15) -> 5.9166667 | R15: 17 | S15: =IFERROR(((P15/R15)-1),0) -> -0.65196078
C16: S u b t o t a l ( 1 ) | D16: =D4+D5+D10+D11+D12+D13+D14+D15 -> 299 | E16: =E4+E5+E10+E11+E12+E13+E14+E15 -> 299 | F16: =F4+F5+F10+F11+F12+F13+F14+F15 -> 302 | G16: =G4+G5+G10+G11+G12+G13+G14+G15 -> 301 | H16: =H4+H5+H10+H11+H12+H13+H14+H15 -> 296 | I16: =I4+I5+I10+I11+I12+I13+I14+I15 -> 300 | J16: =J4+J5+J10+J11+J12+J13+J14+J15 -> 301 | K16: =K4+K5+K10+K11+K12+K13+K14+K15 -> 297 | ... P16: =P4+P5+P10+P11+P12+P13+P14+P15 -> 299.91667 | R16: =R4+R5+R10+R11+R12+R13+R14+R15 -> 355.33333 | S16: =IFERROR(((P16/R16)-1),0) -> -0.15595685
C17: 2.1.9. Obras | D17: ='P.E. Atual. '!C1525 -> 0 | E17: ='P.E. Atual. '!D1525 -> 0 | F17: ='P.E. Atual. '!E1525 -> 0 | G17: ='P.E. Atual. '!F1525 -> 0 | H17: ='P.E. Atual. '!G1525 -> 0 | I17: ='P.E. Atual. '!H1525 -> 0 | J17: ='P.E. Atual. '!I1525 -> 0 | K17: ='P.E. Atual. '!J1525 -> 0 | ... O17: ='P.E. Atual. '!N1525 -> 0 | P17: =AVERAGE(D17:O17) -> 0 | R17: 0 | S17: =IFERROR(((P17/R17)-1),0) -> 0
C18: 2.1.10. Médicos empregados | D18: ='P.E. Atual. '!C1526 -> 0 | E18: ='P.E. Atual. '!D1526 -> 0 | F18: ='P.E. Atual. '!E1526 -> 0 | G18: ='P.E. Atual. '!F1526 -> 0 | H18: ='P.E. Atual. '!G1526 -> 0 | I18: ='P.E. Atual. '!H1526 -> 0 | J18: ='P.E. Atual. '!I1526 -> 0 | K18: ='P.E. Atual. '!J1526 -> 0 | ... O18: ='P.E. Atual. '!N1526 -> 0 | P18: =AVERAGE(D18:O18) -> 0 | R18: 0 | S18: =IFERROR(((P18/R18)-1),0) -> 0
C19: 2.1.11. Outros | D19: ='P.E. Atual. '!C1527 -> 0 | E19: ='P.E. Atual. '!D1527 -> 0 | F19: ='P.E. Atual. '!E1527 -> 0 | G19: ='P.E. Atual. '!F1527 -> 0 | H19: ='P.E. Atual. '!G1527 -> 0 | I19: ='P.E. Atual. '!H1527 -> 0 | J19: ='P.E. Atual. '!I1527 -> 0 | K19: ='P.E. Atual. '!J1527 -> 0 | ... O19: ='P.E. Atual. '!N1527 -> 0 | P19: =AVERAGE(D19:O19) -> 0 | R19: 0 | S19: =IFERROR(((P19/R19)-1),0) -> 0
C20: S u b t o t a l ( 2 ) | D20: =D17+D18+D19 -> 0 | E20: =E17+E18+E19 -> 0 | F20: =F17+F18+F19 -> 0 | G20: =G17+G18+G19 -> 0 | H20: =H17+H18+H19 -> 0 | I20: =I17+I18+I19 -> 0 | J20: =J17+J18+J19 -> 0 | K20: =K17+K18+K19 -> 0 | ... P20: =P17+P18+P19 -> 0 | R20: =R17+R18+R19 -> 0 | S20: =IFERROR(((P20/R20)-1),0) -> 0
C21: T o t a l ( 1 + 2 ) | D21: =D16+D20 -> 299 | E21: =E16+E20 -> 299 | F21: =F16+F20 -> 302 | G21: =G16+G20 -> 301 | H21: =H16+H20 -> 296 | I21: =I16+I20 -> 300 | J21: =J16+J20 -> 301 | K21: =K16+K20 -> 297 | ... P21: =P16+P20 -> 299.91667 | R21: =R16+R20 -> 355.33333 | S21: =IFERROR(((P21/R21)-1),0) -> -0.15595685
B22: 2.2. RECURSOS HUMANOS - CEDIDO
C23: 2.2.1. Administração | D23: 0 | E23: 0 | F23: 0 | G23: 0 | H23: 0 | I23: 0 | J23: 0 | K23: 0 | L23: 0 | M23: 0 | N23: 0 | O23: 0 | P23: =AVERAGE(D23:O23) -> 0 | R23: 0 | S23: =IFERROR(((P23/R23)-1),0) -> 0
C24: 2.2.2. Enfermagem - Total | D24: =SUM(D25:D28) -> 0 | E24: =SUM(E25:E28) -> 0 | F24: =SUM(F25:F28) -> 0 | G24: =SUM(G25:G28) -> 0 | H24: =SUM(H25:H28) -> 0 | I24: =SUM(I25:I28) -> 0 | J24: =SUM(J25:J28) -> 0 | K24: =SUM(K25:K28) -> 0 | ... P24: =SUM(P25:P28) -> 0 | R24: =SUM(R25:R28) -> 0 | S24: =IFERROR(((P24/R24)-1),0) -> 0
C25: 2.2.2.1. Enfermeiros | D25: 0 | E25: 0 | F25: 0 | G25: 0 | H25: 0 | I25: 0 | J25: 0 | K25: 0 | L25: 0 | M25: 0 | N25: 0 | O25: 0 | P25: =AVERAGE(D25:O25) -> 0 | R25: 0 | S25: =IFERROR(((P25/R25)-1),0) -> 0
C26: 2.2.2.2. Técnicos de Enfermagem | D26: 0 | E26: 0 | F26: 0 | G26: 0 | H26: 0 | I26: 0 | J26: 0 | K26: 0 | L26: 0 | M26: 0 | N26: 0 | O26: 0 | P26: =AVERAGE(D26:O26) -> 0 | R26: 0 | S26: =IFERROR(((P26/R26)-1),0) -> 0
C27: 2.2.2.3. Auxiliares de Enfermagem | D27: 0 | E27: 0 | F27: 0 | G27: 0 | H27: 0 | I27: 0 | J27: 0 | K27: 0 | L27: 0 | M27: 0 | N27: 0 | O27: 0 | P27: =AVERAGE(D27:O27) -> 0 | R27: 0 | S27: =IFERROR(((P27/R27)-1),0) -> 0
C28: 2.2.2.4. Maqueiro | D28: 0 | E28: 0 | F28: 0 | G28: 0 | H28: 0 | I28: 0 | J28: 0 | K28: 0 | L28: 0 | M28: 0 | N28: 0 | O28: 0 | P28: =AVERAGE(D28:O28) -> 0 | R28: 0 | S28: =IFERROR(((P28/R28)-1),0) -> 0
C29: 2.2.3. Serviços de Apoio Assistencial (Fisio, Fono, Nutricionista e etc) | D29: 0 | E29: 0 | F29: 0 | G29: 0 | H29: 0 | I29: 0 | J29: 0 | K29: 0 | L29: 0 | M29: 0 | N29: 0 | O29: 0 | P29: =AVERAGE(D29:O29) -> 0 | R29: 0 | S29: =IFERROR(((P29/R29)-1),0) -> 0
C30: 2.2.4. S.A.D.T. | D30: 0 | E30: 0 | F30: 0 | G30: 0 | H30: 0 | I30: 0 | J30: 0 | K30: 0 | L30: 0 | M30: 0 | N30: 0 | O30: 0 | P30: =AVERAGE(D30:O30) -> 0 | R30: 0 | S30: =IFERROR(((P30/R30)-1),0) -> 0
C31: 2.2.5. Nutrição | D31: 0 | E31: 0 | F31: 0 | G31: 0 | H31: 0 | I31: 0 | J31: 0 | K31: 0 | L31: 0 | M31: 0 | N31: 0 | O31: 0 | P31: =AVERAGE(D31:O31) -> 0 | R31: 0 | S31: =IFERROR(((P31/R31)-1),0) -> 0
C32: 2.2.6. Limpeza e Higienização | D32: 0 | E32: 0 | F32: 0 | G32: 0 | H32: 0 | I32: 0 | J32: 0 | K32: 0 | L32: 0 | M32: 0 | N32: 0 | O32: 0 | P32: =AVERAGE(D32:O32) -> 0 | R32: 0 | S32: =IFERROR(((P32/R32)-1),0) -> 0
C33: 2.2.7. Processamento da Roupa | D33: 0 | E33: 0 | F33: 0 | G33: 0 | H33: 0 | I33: 0 | J33: 0 | K33: 0 | L33: 0 | M33: 0 | N33: 0 | O33: 0 | P33: =AVERAGE(D33:O33) -> 0 | R33: 0 | S33: =IFERROR(((P33/R33)-1),0) -> 0
C34: 2.2.8. Manutenção / Segurança | D34: 0 | E34: 0 | F34: 0 | G34: 0 | H34: 0 | I34: 0 | J34: 0 | K34: 0 | L34: 0 | M34: 0 | N34: 0 | O34: 0 | P34: =AVERAGE(D34:O34) -> 0 | R34: 0 | S34: =IFERROR(((P34/R34)-1),0) -> 0
C35: S u b t o t a l ( 3 ) | D35: =D23+D24+D29+D30+D31+D32+D33+D34 -> 0 | E35: =E23+E24+E29+E30+E31+E32+E33+E34 -> 0 | F35: =F23+F24+F29+F30+F31+F32+F33+F34 -> 0 | G35: =G23+G24+G29+G30+G31+G32+G33+G34 -> 0 | H35: =H23+H24+H29+H30+H31+H32+H33+H34 -> 0 | I35: =I23+I24+I29+I30+I31+I32+I33+I34 -> 0 | J35: =J23+J24+J29+J30+J31+J32+J33+J34 -> 0 | K35: =K23+K24+K29+K30+K31+K32+K33+K34 -> 0 | ... P35: =P23+P24+P29+P30+P31+P32+P33+P34 -> 0 | R35: =R23+R24+R29+R30+R31+R32+R33+R34 -> 0 | S35: =IFERROR(((P35/R35)-1),0) -> 0
C36: 2.2.9. Obras | D36: 0 | E36: 0 | F36: 0 | G36: 0 | H36: 0 | I36: 0 | J36: 0 | K36: 0 | L36: 0 | M36: 0 | N36: 0 | O36: 0 | P36: =AVERAGE(D36:O36) -> 0 | R36: 0 | S36: =IFERROR(((P36/R36)-1),0) -> 0
C37: 2.2.10. Médicos | D37: 0 | E37: 0 | F37: 0 | G37: 0 | H37: 0 | I37: 0 | J37: 0 | K37: 0 | L37: 0 | M37: 0 | N37: 0 | O37: 0 | P37: =AVERAGE(D37:O37) -> 0 | R37: 0 | S37: =IFERROR(((P37/R37)-1),0) -> 0
C38: 2.2.11. Outros | D38: 0 | E38: 0 | F38: 0 | G38: 0 | H38: 0 | I38: 0 | J38: 0 | K38: 0 | L38: 0 | M38: 0 | N38: 0 | O38: 0 | P38: =AVERAGE(D38:O38) -> 0 | R38: 0 | S38: =IFERROR(((P38/R38)-1),0) -> 0
C39: S u b t o t a l ( 4 ) | D39: =D36+D37+D38 -> 0 | E39: =E36+E37+E38 -> 0 | F39: =F36+F37+F38 -> 0 | G39: =G36+G37+G38 -> 0 | H39: =H36+H37+H38 -> 0 | I39: =I36+I37+I38 -> 0 | J39: =J36+J37+J38 -> 0 | K39: =K36+K37+K38 -> 0 | ... P39: =P36+P37+P38 -> 0 | R39: =R36+R37+R38 -> 0 | S39: =IFERROR(((P39/R39)-1),0) -> 0
C40: T o t a l ( 3 + 4 ) | D40: =D35+D39 -> 0 | E40: =E35+E39 -> 0 | F40: =F35+F39 -> 0 | G40: =G35+G39 -> 0 | H40: =H35+H39 -> 0 | I40: =I35+I39 -> 0 | J40: =J35+J39 -> 0 | K40: =K35+K39 -> 0 | ... P40: =P35+P39 -> 0 | R40: =R35+R39 -> 0 | S40: =IFERROR(((P40/R40)-1),0) -> 0
B41: 2.2.1 RECURSOS HUMANOS - COOPERATIVAS / TERCEIROS
C42: 2.2.1. Administração | D42: 2 | E42: 2 | F42: 2 | G42: 2 | H42: 2 | I42: 2 | J42: 2 | K42: 2 | L42: 2 | M42: 2 | N42: 2 | O42: 2 | P42: =AVERAGE(D42:O42) -> 2 | R42: 2 | S42: =IFERROR(((P42/R42)-1),0) -> 0
C43: 2.2.2. Enfermagem - Total | D43: =SUM(D44:D47) -> 0 | E43: =SUM(E44:E47) -> 0 | F43: =SUM(F44:F47) -> 0 | G43: =SUM(G44:G47) -> 0 | H43: =SUM(H44:H47) -> 0 | I43: =SUM(I44:I47) -> 0 | J43: =SUM(J44:J47) -> 0 | K43: =SUM(K44:K47) -> 0 | ... P43: =SUM(P44:P47) -> 0 | R43: =SUM(R44:R47) -> 0 | S43: =IFERROR(((P43/R43)-1),0) -> 0
C44: 2.2.2.1. Enfermeiros | D44: 0 | E44: 0 | F44: 0 | G44: 0 | H44: 0 | I44: 0 | J44: 0 | K44: 0 | L44: 0 | M44: 0 | N44: 0 | O44: 0 | P44: =AVERAGE(D44:O44) -> 0 | R44: 0 | S44: =IFERROR(((P44/R44)-1),0) -> 0
C45: 2.2.2.2. Técnicos de Enfermagem | D45: 0 | E45: 0 | F45: 0 | G45: 0 | H45: 0 | I45: 0 | J45: 0 | K45: 0 | L45: 0 | M45: 0 | N45: 0 | O45: 0 | P45: =AVERAGE(D45:O45) -> 0 | R45: 0 | S45: =IFERROR(((P45/R45)-1),0) -> 0
C46: 2.2.2.3. Auxiliares de Enfermagem | D46: 0 | E46: 0 | F46: 0 | G46: 0 | H46: 0 | I46: 0 | J46: 0 | K46: 0 | L46: 0 | M46: 0 | N46: 0 | O46: 0 | P46: =AVERAGE(D46:O46) -> 0 | R46: 0 | S46: =IFERROR(((P46/R46)-1),0) -> 0
C47: 2.2.2.4. Maqueiro | D47: 0 | E47: 0 | F47: 0 | G47: 0 | H47: 0 | I47: 0 | J47: 0 | K47: 0 | L47: 0 | M47: 0 | N47: 0 | O47: 0 | P47: =AVERAGE(D47:O47) -> 0 | R47: 0 | S47: =IFERROR(((P47/R47)-1),0) -> 0
C48: 2.2.3. Serviços de Apoio Assistencial (Fisio, Fono, Nutricionista e etc) | D48: 6 | E48: 6 | F48: 6 | G48: 6 | H48: 6 | I48: 6 | J48: 6 | K48: 6 | L48: 6 | M48: 6 | N48: 6 | O48: 6 | P48: =AVERAGE(D48:O48) -> 6 | R48: 6 | S48: =IFERROR(((P48/R48)-1),0) -> 0
C49: 2.2.4. S.A.D.T. | D49: =7+5+9 -> 21 | E49: =7+5+9 -> 21 | F49: =7+5+9 -> 21 | G49: =7+5+9 -> 21 | H49: =7+5+9 -> 21 | I49: =7+5+9 -> 21 | J49: =7+5+9 -> 21 | K49: =7+5+9 -> 21 | ... O49: =7+5+9 -> 21 | P49: =AVERAGE(D49:O49) -> 21 | R49: =7+5+9 -> 21 | S49: =IFERROR(((P49/R49)-1),0) -> 0
C50: 2.2.5. Nutrição | D50: 0 | E50: 0 | F50: 0 | G50: 0 | H50: 0 | I50: 0 | J50: 0 | K50: 0 | L50: 0 | M50: 0 | N50: 0 | O50: 0 | P50: =AVERAGE(D50:O50) -> 0 | R50: 0 | S50: =IFERROR(((P50/R50)-1),0) -> 0
C51: 2.2.6. Limpeza e Higienização | D51: 0 | E51: 0 | F51: 0 | G51: 0 | H51: 0 | I51: 0 | J51: 0 | K51: 0 | L51: 0 | M51: 0 | N51: 0 | O51: 0 | P51: =AVERAGE(D51:O51) -> 0 | R51: 0 | S51: =IFERROR(((P51/R51)-1),0) -> 0
C52: 2.2.7. Processamento da Roupa | D52: 0 | E52: 0 | F52: 0 | G52: 0 | H52: 0 | I52: 0 | J52: 0 | K52: 0 | L52: 0 | M52: 0 | N52: 0 | O52: 0 | P52: =AVERAGE(D52:O52) -> 0 | R52: 0 | S52: =IFERROR(((P52/R52)-1),0) -> 0
C53: 2.2.8. Manutenção / Segurança | D53: 3 | E53: 3 | F53: 3 | G53: 3 | H53: 3 | I53: 3 | J53: 3 | K53: 3 | L53: 3 | M53: 3 | N53: 3 | O53: 3 | P53: =AVERAGE(D53:O53) -> 3 | R53: 3 | S53: =IFERROR(((P53/R53)-1),0) -> 0
C54: S u b t o t a l ( 3 ) | D54: =D42+D43+D48+D49+D50+D51+D52+D53 -> 32 | E54: =E42+E43+E48+E49+E50+E51+E52+E53 -> 32 | F54: =F42+F43+F48+F49+F50+F51+F52+F53 -> 32 | G54: =G42+G43+G48+G49+G50+G51+G52+G53 -> 32 | H54: =H42+H43+H48+H49+H50+H51+H52+H53 -> 32 | I54: =I42+I43+I48+I49+I50+I51+I52+I53 -> 32 | J54: =J42+J43+J48+J49+J50+J51+J52+J53 -> 32 | K54: =K42+K43+K48+K49+K50+K51+K52+K53 -> 32 | ... P54: =P42+P43+P48+P49+P50+P51+P52+P53 -> 32 | R54: =R42+R43+R48+R49+R50+R51+R52+R53 -> 32 | S54: =IFERROR(((P54/R54)-1),0) -> 0
C55: 2.2.9. Obras | D55: 0 | E55: 0 | F55: 0 | G55: 0 | H55: 0 | I55: 0 | J55: 0 | K55: 0 | L55: 0 | M55: 0 | N55: 0 | O55: 0 | P55: =AVERAGE(D55:O55) -> 0 | R55: 0 | S55: =IFERROR(((P55/R55)-1),0) -> 0
C56: 2.2.10. Médicos | D56: ='P.E. Atual. '!C1543 -> 58 | E56: ='P.E. Atual. '!D1543 -> 51 | F56: ='P.E. Atual. '!E1543 -> 53 | G56: ='P.E. Atual. '!F1543 -> 52 | H56: ='P.E. Atual. '!G1543 -> 49 | I56: ='P.E. Atual. '!H1543 -> 52 | J56: ='P.E. Atual. '!I1543 -> 64 | K56: ='P.E. Atual. '!J1543 -> 55 | ... O56: ='P.E. Atual. '!N1543 -> 53 | P56: =AVERAGE(D56:O56) -> 53.75 | R56: 53 | S56: =IFERROR(((P56/R56)-1),0) -> 0.014150943
C57: 2.2.11. Outros | D57: ='P.E. Atual. '!C1544 -> 0 | E57: ='P.E. Atual. '!D1544 -> 0 | F57: ='P.E. Atual. '!E1544 -> 0 | G57: ='P.E. Atual. '!F1544 -> 0 | H57: ='P.E. Atual. '!G1544 -> 0 | I57: ='P.E. Atual. '!H1544 -> 0 | J57: ='P.E. Atual. '!I1544 -> 0 | K57: ='P.E. Atual. '!J1544 -> 0 | ... O57: ='P.E. Atual. '!N1544 -> 0 | P57: =AVERAGE(D57:O57) -> 0 | R57: =1+2 -> 3 | S57: =IFERROR(((P57/R57)-1),0) -> -1
C58: S u b t o t a l ( 4 ) | D58: =D55+D56+D57 -> 58 | E58: =E55+E56+E57 -> 51 | F58: =F55+F56+F57 -> 53 | G58: =G55+G56+G57 -> 52 | H58: =H55+H56+H57 -> 49 | I58: =I55+I56+I57 -> 52 | J58: =J55+J56+J57 -> 64 | K58: =K55+K56+K57 -> 55 | ... P58: =P55+P56+P57 -> 53.75 | R58: =R55+R56+R57 -> 56 | S58: =IFERROR(((P58/R58)-1),0) -> -0.040178571
C59: T o t a l ( 3 + 4 ) | D59: =D54+D58 -> 90 | E59: =E54+E58 -> 83 | F59: =F54+F58 -> 85 | G59: =G54+G58 -> 84 | H59: =H54+H58 -> 81 | I59: =I54+I58 -> 84 | J59: =J54+J58 -> 96 | K59: =K54+K58 -> 87 | ... P59: =P54+P58 -> 85.75 | R59: =R54+R58 -> 88 | S59: =IFERROR(((P59/R59)-1),0) -> -0.025568182
B60: 2.3. RECURSOS HUMANOS - TOTAL
C61: 2.3.1. Administração | D61: =D4+D23+D42 -> 29 | E61: =E4+E23+E42 -> 30 | F61: =F4+F23+F42 -> 28 | G61: =G4+G23+G42 -> 27 | H61: =H4+H23+H42 -> 27 | I61: =I4+I23+I42 -> 28 | J61: =J4+J23+J42 -> 28 | K61: =K4+K23+K42 -> 27 | ... P61: =P4+P23+P42 -> 28.416667 | R61: =R4+R23+R42 -> 69 | S61: =IFERROR(((P61/R61)-1),0) -> -0.58816425
C62: 2.3.2. Enfermagem - Total | D62: =D5+D24+D43 -> 193 | E62: =E5+E24+E43 -> 193 | F62: =F5+F24+F43 -> 195 | G62: =G5+G24+G43 -> 195 | H62: =H5+H24+H43 -> 191 | I62: =I5+I24+I43 -> 194 | J62: =J5+J24+J43 -> 195 | K62: =K5+K24+K43 -> 193 | ... P62: =P5+P24+P43 -> 193.41667 | R62: =R5+R24+R43 -> 193 | S62: =IFERROR(((P62/R62)-1),0) -> 0.0021588946
C63: 2.3.2.1. Enfermeiros | D63: =D6+D25+D44 -> 36 | E63: =E6+E25+E44 -> 36 | F63: =F6+F25+F44 -> 36 | G63: =G6+G25+G44 -> 36 | H63: =H6+H25+H44 -> 33 | I63: =I6+I25+I44 -> 35 | J63: =J6+J25+J44 -> 36 | K63: =K6+K25+K44 -> 37 | ... P63: =P6+P25+P44 -> 36.333333 | R63: =R6+R25+R44 -> 35.666667 | S63: =IFERROR(((P63/R63)-1),0) -> 0.018691589
C64: 2.3.2.2. Técnicos de Enfermagem | D64: =D7+D26+D45 -> 156 | E64: =E7+E26+E45 -> 156 | F64: =F7+F26+F45 -> 158 | G64: =G7+G26+G45 -> 158 | H64: =H7+H26+H45 -> 157 | I64: =I7+I26+I45 -> 158 | J64: =J7+J26+J45 -> 158 | K64: =K7+K26+K45 -> 155 | ... P64: =P7+P26+P45 -> 156.08333 | R64: =R7+R26+R45 -> 156.33333 | S64: =IFERROR(((P64/R64)-1),0) -> -0.0015991471
C65: 2.3.2.3. Auxiliares de Enfermagem | D65: =D8+D27+D46 -> 0 | E65: =E8+E27+E46 -> 0 | F65: =F8+F27+F46 -> 0 | G65: =G8+G27+G46 -> 0 | H65: =H8+H27+H46 -> 0 | I65: =I8+I27+I46 -> 0 | J65: =J8+J27+J46 -> 0 | K65: =K8+K27+K46 -> 0 | ... P65: =P8+P27+P46 -> 0 | R65: =R8+R27+R46 -> 0 | S65: =IFERROR(((P65/R65)-1),0) -> 0
C66: 2.3.2.4. Pessoal de Apoio | D66: =D9+D28+D47 -> 1 | E66: =E9+E28+E47 -> 1 | F66: =F9+F28+F47 -> 1 | G66: =G9+G28+G47 -> 1 | H66: =H9+H28+H47 -> 1 | I66: =I9+I28+I47 -> 1 | J66: =J9+J28+J47 -> 1 | K66: =K9+K28+K47 -> 1 | ... P66: =P9+P28+P47 -> 1 | R66: =R9+R28+R47 -> 1 | S66: =IFERROR(((P66/R66)-1),0) -> 0
C67: 2.3.3. Serviços de Apoio Assistencial (Fisio, Fono, Nutricionista e etc) | D67: =D10+D29+D48 -> 8 | E67: =E10+E29+E48 -> 8 | F67: =F10+F29+F48 -> 8 | G67: =G10+G29+G48 -> 8 | H67: =H10+H29+H48 -> 8 | I67: =I10+I29+I48 -> 8 | J67: =J10+J29+J48 -> 8 | K67: =K10+K29+K48 -> 8 | ... P67: =P10+P29+P48 -> 8 | R67: =R10+R29+R48 -> 6 | S67: =IFERROR(((P67/R67)-1),0) -> 0.33333333
C68: 2.3.4. S.A.D.T. | D68: =D11+D30+D49 -> 23 | E68: =E11+E30+E49 -> 23 | F68: =F11+F30+F49 -> 25 | G68: =G11+G30+G49 -> 25 | H68: =H11+H30+H49 -> 25 | I68: =I11+I30+I49 -> 25 | J68: =J11+J30+J49 -> 25 | K68: =K11+K30+K49 -> 25 | ... P68: =P11+P30+P49 -> 24.666667 | R68: =R11+R30+R49 -> 30 | S68: =IFERROR(((P68/R68)-1),0) -> -0.17777778
C69: 2.3.5. Nutrição | D69: =D12+D31+D50 -> 26 | E69: =E12+E31+E50 -> 25 | F69: =F12+F31+F50 -> 26 | G69: =G12+G31+G50 -> 26 | H69: =H12+H31+H50 -> 26 | I69: =I12+I31+I50 -> 26 | J69: =J12+J31+J50 -> 26 | K69: =K12+K31+K50 -> 25 | ... P69: =P12+P31+P50 -> 26.083333 | R69: =R12+R31+R50 -> 25.333333 | S69: =IFERROR(((P69/R69)-1),0) -> 0.029605263
C70: 2.3.6. Limpeza e Higienização | D70: =D13+D32+D51 -> 34 | E70: =E13+E32+E51 -> 34 | F70: =F13+F32+F51 -> 34 | G70: =G13+G32+G51 -> 34 | H70: =H13+H32+H51 -> 34 | I70: =I13+I32+I51 -> 34 | J70: =J13+J32+J51 -> 34 | K70: =K13+K32+K51 -> 35 | ... P70: =P13+P32+P51 -> 34.416667 | R70: =R13+R32+R51 -> 36 | S70: =IFERROR(((P70/R70)-1),0) -> -0.043981481
C71: 2.3.7. Processamento da Roupa | D71: =D14+D33+D52 -> 8 | E71: =E14+E33+E52 -> 8 | F71: =F14+F33+F52 -> 8 | G71: =G14+G33+G52 -> 8 | H71: =H14+H33+H52 -> 8 | I71: =I14+I33+I52 -> 8 | J71: =J14+J33+J52 -> 8 | K71: =K14+K33+K52 -> 8 | ... P71: =P14+P33+P52 -> 8 | R71: =R14+R33+R52 -> 8 | S71: =IFERROR(((P71/R71)-1),0) -> 0
C72: 2.3.8. Manutenção / Segurança | D72: =D15+D34+D53 -> 10 | E72: =E15+E34+E53 -> 10 | F72: =F15+F34+F53 -> 10 | G72: =G15+G34+G53 -> 10 | H72: =H15+H34+H53 -> 9 | I72: =I15+I34+I53 -> 9 | J72: =J15+J34+J53 -> 9 | K72: =K15+K34+K53 -> 8 | ... P72: =P15+P34+P53 -> 8.9166667 | R72: =R15+R34+R53 -> 20 | S72: =IFERROR(((P72/R72)-1),0) -> -0.55416667
... C78: TOTAL GERAL (5+6) | D78: =D21+D40+D59 -> 389 | E78: =E21+E40+E59 -> 382 | F78: =F21+F40+F59 -> 387 | G78: =G21+G40+G59 -> 385 | H78: =H21+H40+H59 -> 377 | I78: =I21+I40+I59 -> 384 | J78: =J21+J40+J59 -> 397 | K78: =K21+K40+K59 -> 384 | ... P78: =P21+P40+P59 -> 385.66667 | R78: =R21+R40+R59 -> 443.33333 | S78: =IFERROR(((P78/R78)-1),0) -> -0.13007519
B79: 2.4. ROTATIVIDADE
C80: 2.4.1 Admissões | D80: ='P.E. Atual. '!C1550 -> 1 | E80: ='P.E. Atual. '!D1550 -> 1 | F80: ='P.E. Atual. '!E1550 -> 3 | G80: ='P.E. Atual. '!F1550 -> 0 | H80: ='P.E. Atual. '!G1550 -> 0 | I80: ='P.E. Atual. '!H1550 -> 5 | J80: ='P.E. Atual. '!I1550 -> 3 | K80: ='P.E. Atual. '!J1550 -> 3 | ... O80: ='P.E. Atual. '!N1550 -> 2 | P80: =AVERAGE(D80:O80) -> 2.75 | R80: 4 | S80: =IFERROR(((P80/R80)-1),0) -> -0.3125
C81: 2.4.2 Demissões | D81: ='P.E. Atual. '!C1551 -> 1 | E81: ='P.E. Atual. '!D1551 -> 1 | F81: ='P.E. Atual. '!E1551 -> 1 | G81: ='P.E. Atual. '!F1551 -> 1 | H81: ='P.E. Atual. '!G1551 -> 6 | I81: ='P.E. Atual. '!H1551 -> 1 | J81: ='P.E. Atual. '!I1551 -> 3 | K81: ='P.E. Atual. '!J1551 -> 7 | ... O81: ='P.E. Atual. '!N1551 -> 0 | P81: =AVERAGE(D81:O81) -> 2.5833333 | R81: 4 | S81: =IFERROR(((P81/R81)-1),0) -> -0.35416667
C82: 2.4.3 Funcionários Afastados | D82: ='P.E. Atual. '!C1549 -> 13 | E82: ='P.E. Atual. '!D1549 -> 10 | F82: ='P.E. Atual. '!E1549 -> 9 | G82: ='P.E. Atual. '!F1549 -> 10 | H82: ='P.E. Atual. '!G1549 -> 13 | I82: ='P.E. Atual. '!H1549 -> 9 | J82: ='P.E. Atual. '!I1549 -> 9 | K82: ='P.E. Atual. '!J1549 -> 10 | ... O82: ='P.E. Atual. '!N1549 -> 10 | P82: =AVERAGE(D82:O82) -> 10.583333 | R82: 10 | S82: =IFERROR(((P82/R82)-1),0) -> 0.058333333
B83: 2.5. CORPO CLÍNICO
C84: 2.5.1. Médicos | D84: =D37+D18+D56 -> 58 | E84: =E37+E18+E56 -> 51 | F84: =F37+F18+F56 -> 53 | G84: =G37+G18+G56 -> 52 | H84: =H37+H18+H56 -> 49 | I84: =I37+I18+I56 -> 52 | J84: =J37+J18+J56 -> 64 | K84: =K37+K18+K56 -> 55 | ... O84: =O37+O18+O56 -> 53 | P84: =AVERAGE(D84:O84) -> 53.75 | R84: =R37+R18 -> 0 | S84: =IFERROR(((P84/R84)-1),0) -> 0
C85: 2.5.2. Outros | D85: =D57 -> 0 | E85: =E57 -> 0 | F85: =F57 -> 0 | G85: =G57 -> 0 | H85: =H57 -> 0 | I85: =I57 -> 0 | J85: =J57 -> 0 | K85: =K57 -> 0 | ... O85: =O57 -> 0 | P85: =AVERAGE(D85:O85) -> 0 | R85: 0 | S85: =IFERROR(((P85/R85)-1),0) -> 0
C86: T o t a l | D86: =D84+D85 -> 58 | E86: =E84+E85 -> 51 | F86: =F84+F85 -> 53 | G86: =G84+G85 -> 52 | H86: =H84+H85 -> 49 | I86: =I84+I85 -> 52 | J86: =J84+J85 -> 64 | K86: =K84+K85 -> 55 | ... P86: =P84+P85 -> 53.75 | R86: =R84+R85 -> 0 | S86: =IFERROR(((P86/R86)-1),0) -> 0
B87: 2.5. PORTADORES DE DEFICIÊNCIA
C88: 2.6.1. Portadores de Deficiência Física | D88: 2 | E88: 2 | F88: 2 | G88: 2 | H88: 2 | I88: 2 | J88: 2 | K88: 2 | L88: 2 | M88: 2 | N88: 2 | O88: 2 | P88: =AVERAGE(D88:O88) -> 2 | R88: 2 | S88: =IFERROR(((P88/R88)-1),0) -> 0
B89: 2.7. ABSENTEÍSMO
C90: 2.7.1. Horas Perdidas | D90: =D91+D92+D93 -> 131 | E90: =E91+E92+E93 -> 128 | F90: =F91+F92+F93 -> 134 | G90: =G91+G92+G93 -> 170 | H90: =H91+H92+H93 -> 131 | I90: =I91+I92+I93 -> 48 | J90: =J91+J92+J93 -> 98 | K90: =K91+K92+K93 -> 136 | ... O90: =O91+O92+O93 -> 96.75 | P90: =AVERAGE(D90:O90) -> 110.78819 | R90: =R91+R92+R93 -> 1390 | S90: =IFERROR(((P90/R90)-1),0) -> -0.92029626
C91: 2.7.1.1. Atrasos | D91: ='P.E. Atual. '!C1556 -> 0 | E91: ='P.E. Atual. '!D1556 -> 0 | F91: ='P.E. Atual. '!E1556 -> 0 | G91: ='P.E. Atual. '!F1556 -> 0 | H91: ='P.E. Atual. '!G1556 -> 0 | I91: ='P.E. Atual. '!H1556 -> 0 | J91: ='P.E. Atual. '!I1556 -> 0 | K91: ='P.E. Atual. '!J1556 -> 0 | ... O91: ='P.E. Atual. '!N1556 -> 0.75 | P91: =AVERAGE(D91:O91) -> 0.12152778 | R91: 0 | S91: =IFERROR(((P91/R91)-1),0) -> 0
C92: 2.7.1.2. Faltas ( justificadas ou não ) | D92: ='P.E. Atual. '!C1553 -> 119 | E92: ='P.E. Atual. '!D1553 -> 116 | F92: ='P.E. Atual. '!E1553 -> 122 | G92: ='P.E. Atual. '!F1553 -> 158 | H92: ='P.E. Atual. '!G1553 -> 119 | I92: ='P.E. Atual. '!H1553 -> 36 | J92: ='P.E. Atual. '!I1553 -> 86 | K92: ='P.E. Atual. '!J1553 -> 124 | ... O92: ='P.E. Atual. '!N1553 -> 84 | P92: =AVERAGE(D92:O92) -> 98.666667 | R92: 1378 | S92: =IFERROR(((P92/R92)-1),0) -> -0.92839865
C93: 2.7.1.3. Saídas Antecipadas | D93: 12 | E93: 12 | F93: 12 | G93: 12 | H93: 12 | I93: 12 | J93: 12 | K93: 12 | L93: 12 | M93: 12 | N93: 12 | O93: 12 | P93: =AVERAGE(D93:O93) -> 12 | R93: 12 | S93: =IFERROR(((P93/R93)-1),0) -> 0
C94: 2.7.2. Horas Planejadas | D94: =D95 -> 0 | E94: =E95 -> 0 | F94: =F95 -> 0 | G94: =G95 -> 0 | H94: =H95 -> 0 | I94: =I95 -> 0 | J94: =J95 -> 0 | K94: =K95 -> 0 | ... O94: =O95 -> 0 | P94: =AVERAGE(D94:O94) -> 0 | R94: =R95 -> 58960 | S94: =IFERROR(((P94/R94)-1),0) -> -1
C95: 2.7.2.1. Horas Planejadas ( CLT ) | D95: 0 | E95: 0 | F95: 0 | G95: 0 | H95: 0 | I95: 0 | J95: 0 | K95: 0 | L95: 0 | M95: 0 | N95: 0 | O95: 0 | P95: =AVERAGE(D95:O95) -> 0 | R95: 58960 | S95: =IFERROR(((P95/R95)-1),0) -> -1
B96: 2.8. BASE SALARIAL
C97: 2.8.1. Total de Salários Nominais (Enfermagem) | D97: =[1]Lotacionograma!I90-([1]Lotacionograma!I83+[1]Lotacionograma!I6) -> 364272.77 | E97: =D97 -> 364272.77 | F97: =D97 -> 364272.77 | G97: =D97 -> 364272.77 | H97: =D97*1.08 -> 393414.59 | I97: =H97 -> 393414.59 | J97: =I97 -> 393414.59 | K97: =J97 -> 393414.59 | L97: =K97 -> 393414.59 | M97: =L97 -> 393414.59 | N97: =M97 -> 393414.59 | O97: =N97 -> 393414.59 | P97: =AVERAGE(D97:O97) -> 383700.65 | R97: 371473.83 | S97: =IFERROR(((P97/R97)-1),0) -> 0.032914354
C98: 2.8.2 Total de Salários Nominais (Médicos) | D98: =[1]Lotacionograma!I6 -> 0 | E98: =D98 -> 0 | F98: =D98 -> 0 | G98: =D98 -> 0 | H98: =D98 -> 0 | I98: =D98 -> 0 | J98: =D98 -> 0 | K98: =D98 -> 0 | L98: =D98 -> 0 | M98: =D98 -> 0 | N98: =D98 -> 0 | O98: =D98 -> 0 | P98: =AVERAGE(D98:O98) -> 0 | R98: 0 | S98: =IFERROR(((P98/R98)-1),0) -> 0
C99: 2.8.3. Total de Salários Nominais (Demais Colaboradores) | D99: =[1]Lotacionograma!I241+[1]Lotacionograma!I83 -> 245489.43 | E99: =D99 -> 245489.43 | F99: =D99 -> 245489.43 | G99: =D99 -> 245489.43 | H99: =D99 -> 245489.43 | I99: =D99 -> 245489.43 | J99: =D99 -> 245489.43 | K99: =D99 -> 245489.43 | L99: =D99*1.08 -> 265128.58 | M99: =L99 -> 265128.58 | N99: =M99 -> 265128.58 | O99: =N99 -> 265128.58 | P99: =AVERAGE(D99:O99) -> 252035.81 | R99: 235989.57 | S99: =IFERROR(((P99/R99)-1),0) -> 0.067995568
C100: T o t a l | D100: =D97+D98+D99 -> 609762.2 | E100: =E97+E98+E99 -> 609762.2 | F100: =F97+F98+F99 -> 609762.2 | G100: =G97+G98+G99 -> 609762.2 | H100: =H97+H98+H99 -> 638904.02 | I100: =I97+I98+I99 -> 638904.02 | J100: =J97+J98+J99 -> 638904.02 | K100: =K97+K98+K99 -> 638904.02 | ... P100: =P97+P98+P99 -> 635736.47 | R100: =R97+R98+R99 -> 607463.4 | S100: =IFERROR(((P100/R100)-1),0) -> 0.04654283
A101: 3. ATIVIDADES SOCIAIS
B102: 3.1. PASTORAL DA SAÚDE/SAÚDE COMUNITÁRIA
C103: 3.1.1 Visitas Domiciliares | D103: 0 | E103: 0 | F103: 0 | G103: 0 | H103: 0 | I103: 0 | J103: 0 | K103: 0 | L103: 0 | M103: 0 | N103: 0 | O103: 0 | P103: =AVERAGE(D103:O103) -> 0 | R103: 0 | S103: =IFERROR(((P103/R103)-1),0) -> 0
C104: 3.1.2 Visitas a Pacientes Internados | D104: 0 | E104: 0 | F104: 0 | G104: 0 | H104: 0 | I104: 0 | J104: 0 | K104: 0 | L104: 0 | M104: 0 | N104: 0 | O104: 0 | P104: =AVERAGE(D104:O104) -> 0 | R104: 0 | S104: =IFERROR(((P104/R104)-1),0) -> 0
C105: 3.1.3. Cursos Ministrados | D105: 0 | E105: 0 | F105: 0 | G105: 0 | H105: 0 | I105: 0 | J105: 0 | K105: 0 | L105: 0 | M105: 0 | N105: 0 | O105: 0 | P105: =AVERAGE(D105:O105) -> 0 | R105: 0 | S105: =IFERROR(((P105/R105)-1),0) -> 0
C106: 3.1.3.1. Número de Participantes | D106: 0 | E106: 0 | F106: 0 | G106: 0 | H106: 0 | I106: 0 | J106: 0 | K106: 0 | L106: 0 | M106: 0 | N106: 0 | O106: 0 | P106: =AVERAGE(D106:O106) -> 0 | R106: 0 | S106: =IFERROR(((P106/R106)-1),0) -> 0
...
