Workbook
Name Altasporespecialidade: #REF!
Name Altasporunidade: #REF!
Name Ambulatóriodereferência: #REF!
Name Anestesia: #REF!
Name Atividadessociais: #REF!
Name Centrocirúrgico: #REF!
Name Centroobstétrico: #REF!
Name CME: #REF!
Name DP: #REF!
Name Ecocardiograma: #REF!
Name Eletrocardiograma: #REF!
Name Endoscopiadigestivaalta: #REF!
Name Endoscopiadigestivabaixa: #REF!
Name Examesexternos: #REF!
Name Fisioterapia: #REF!
Name Hemodiálises: #REF!
Name Hemoterapia: #REF!
Name indice: #REF!
Name Índicedegirodeleitosunidade: #REF!
Name Internaçõesporespecialidade: #REF!
Name Internaçõesporfaixaetária: #REF!
Name Internaçõespormunicípio: #REF!
Name Internaçõesporunidade: #REF!
Name Laboratóriodeanálisesclínicas: #REF!
Name Leitosdiaporespecialidade: #REF!
Name Leitosdiaporunidade: #REF!
Name Leitosporunidade: #REF!
Name Manutenção: #REF!
Name Médiadepermanênciaporunidade: #REF!
Name Médiadiáriadepacientesporunidade: #REF!
Name Nutriçãodietética: #REF!
Name Óbitosinstitucionais: #REF!
Name Óbitosnãoinstitucionais: #REF!
Name Óbitosporespecialidade: #REF!
Name Óbitosporfaixaetária: #REF!
Name Óbitosporunidade: #REF!
Name Pacientesdiaporespecialidade: #REF!
Name Pacientesdiaporunidade: #REF!
Name Pacientessaídosespecialidade: #REF!
Name Pacientessaídosporunidade: #REF!
Name Porcentagemdeocupaçãoporunidade: #REF!
Name Processamentoroupa: #REF!
Name Radiologia: #REF!
Name Ressonância: #REF!
Name Resumogeral: #REF!
Name Taxademortalidadeportipo: #REF!
Name Taxademortalidadeporunidade: #REF!
Name Testeergométrico: #REF!
Name Tomografia: #REF!
Name Transferênciainternaporunidadeenviada: #REF!
Name Transferênciainternaporunidaderecebida: #REF!
Name Ultrasonografia: #REF!

Sheet Plano Estatístico Analitic 2020
B1: PLANO ESTATÍSTICO 2020
A2: CENTRO INTEGRADO DE INCLUSÃO E REABILITAÇÃO - CIIR
A4: PLANO ESTATÍSTICO | B4: JAN | C4: FEV | D4: MAR | E4: ABR | F4: MAI | G4: JUN | H4: JUL | I4: AGO | J4: SET | K4: OUT | L4: NOV | M4: DEZ | N4: ACUM | O4: MÉDIA
A5: 1 - Estatística do Ambulatório
A6: 1.1. Nº de Consultórios e Salas
A7: Consultórios | B7: 20 | C7: 20 | D7: 20 | E7: 20 | F7: 20 | G7: 20 | H7: 20 | I7: 20 | J7: 20 | K7: 20 | L7: 20 | M7: 20 | N7: =INDEX(B7:M7,COUNT(B7:M7)) -> 20 | O7: =IF(N7=0,0,AVERAGE(B7:M7)) -> 20
A8: Salas de Triagem | B8: 2 | C8: 2 | D8: 2 | E8: 2 | F8: 2 | G8: 2 | H8: 2 | I8: 2 | J8: 2 | K8: 2 | L8: 2 | M8: 2 | N8: =INDEX(B8:M8,COUNT(B8:M8)) -> 2 | O8: =IF(N8=0,0,AVERAGE(B8:M8)) -> 2
A9: Salas de Terapias | B9: 5 | C9: 5 | D9: 5 | E9: 5 | F9: 5 | G9: 5 | H9: 5 | I9: 5 | J9: 5 | K9: 5 | L9: 5 | M9: 5 | N9: =INDEX(B9:M9,COUNT(B9:M9)) -> 5 | O9: =IF(N9=0,0,AVERAGE(B9:M9)) -> 5
A10: Salas de Reabilitações | B10: 10 | C10: 10 | D10: 10 | E10: 10 | F10: 10 | G10: 10 | H10: 10 | I10: 10 | J10: 10 | K10: 10 | L10: 10 | M10: 10 | N10: =INDEX(B10:M10,COUNT(B10:M10)) -> 10 | O10: =IF(N10=0,0,AVERAGE(B10:M10)) -> 10
A11: Consultórios Odontológicos | B11: 4 | C11: 4 | D11: 4 | E11: 4 | F11: 4 | G11: 4 | H11: 4 | I11: 4 | J11: 4 | K11: 4 | L11: 4 | M11: 4 | N11: =INDEX(B11:M11,COUNT(B11:M11)) -> 4 | O11: =IF(N11=0,0,AVERAGE(B11:M11)) -> 4
A12: Sala de Exames | B12: 17 | C12: 17 | D12: 17 | E12: 17 | F12: 17 | G12: 17 | H12: 17 | I12: 17 | J12: 17 | K12: 17 | L12: 17 | M12: 17 | N12: =INDEX(B12:M12,COUNT(B12:M12)) -> 17 | O12: =IF(N12=0,0,AVERAGE(B12:M12)) -> 17
A13: Total | B13: =SUM(B7:B12) -> 58 | C13: =IF(SUM(C7:C12)=0,"",SUM(C7:C12)) -> 58 | D13: =IF(SUM(D7:D12)=0,"",SUM(D7:D12)) -> 58 | E13: =IF(SUM(E7:E12)=0,"",SUM(E7:E12)) -> 58 | F13: =IF(SUM(F7:F12)=0,"",SUM(F7:F12)) -> 58 | G13: =IF(SUM(G7:G12)=0,"",SUM(G7:G12)) -> 58 | H13: =IF(SUM(H7:H12)=0,"",SUM(H7:H12)) -> 58 | I13: =IF(SUM(I7:I12)=0,"",SUM(I7:I12)) -> 58 | J13: =IF(SUM(J7:J12)=0,"",SUM(J7:J12)) -> 58 | ... M13: =IF(SUM(M7:M12)=0,"",SUM(M7:M12)) -> 58 | N13: =SUM(N7:N12) -> 58 | O13: =SUM(O7:O12) -> 58
A15: 1.2. Nº de Atendimentos Ambulatoriais
A16: Atendimentos Médicos | B16: =SUM(B25:B38,B52:B55) -> 3411 | C16: =SUM(C25:C38,C52:C55) -> 3442 | D16: =SUM(D25:D38,D52:D55) -> 3176 | E16: =SUM(E25:E38,E52:E55) -> 1389 | F16: =SUM(F25:F38,F52:F55) -> 1239 | G16: =SUM(G25:G38,G52:G55) -> 1947 | H16: =SUM(H25:H38,H52:H55) -> 2702 | I16: =SUM(I25:I38,I52:I55) -> 3150 | J16: =SUM(J25:J26, J28:J38,J52:J55) -> 3697 | K16: =SUM(K25:K26, K28:K38,K52:K55) -> 3981 | L16: =SUM(L25:L26, L28:L38,L52:L55,L58:L66) -> 3855 | M16: =SUM(M25:M26, M28:M38,M52:M55,M58:M66) -> 2365 | N16: =SUM(B16:M16) -> 34354 | O16: =IF(N16=0,0,AVERAGE(B16:M16)) -> 2862.8333
A17: Atendimentos Não Médicos (Enfermagem e Nutrição) | B17: =SUM(B47:B48) -> 314 | C17: =SUM(C47:C48) -> 317 | D17: =SUM(D47:D48) -> 386 | E17: =SUM(E47:E48) -> 37 | F17: =SUM(F47:F48) -> 73 | G17: =SUM(G47:G48) -> 165 | H17: =SUM(H47:H48) -> 325 | I17: =SUM(I47:I48) -> 458 | J17: =SUM(J47:J48,J27) -> 384 | K17: =SUM(K47:K48,K27) -> 535 | L17: =SUM(L47:L48,L27) -> 372 | M17: =SUM(M47:M48,M27) -> 356 | N17: =SUM(B17:M17) -> 3722 | O17: =IF(N17=0,0,AVERAGE(B17:M17)) -> 310.16667
A18: Procedimentos Terapêuticos CER IV | B18: =SUM(B44:B46,B49:B51,B56)-B21 -> 10586 | C18: =SUM(C44:C46,C49:C51,C56)-C21 -> 7244 | D18: =SUM(D44:D46,D49:D51,D56)-D21 -> 4553 | E18: =SUM(E44:E46,E49:E51,E56)-E21 -> 171 | F18: =SUM(F44:F46,F49:F51,F56)-F21 -> 51 | G18: =SUM(G44:G46,G49:G51,G56)-G21 -> 10 | H18: =SUM(H44:H46,H49:H51,H56)-H21 -> 1494 | I18: =SUM(I44:I46,I49:I51,I56)-I21 -> 3642 | ... M18: =SUM(M44:M46,M49:M51,M56)-M21 -> 5055 | N18: =SUM(B18:M18) -> 48920 | O18: =IF(N18=0,0,AVERAGE(B18:M18)) -> 4076.6667
A19: Procedimentos Odontológicos CEO 2 | B19: =SUM(B39:B43) -> 2059 | C19: =SUM(C39:C43) -> 1526 | D19: =SUM(D39:D43) -> 1549 | E19: =SUM(E39:E43) -> 25 | F19: =SUM(F39:F43) -> 51 | G19: =SUM(G39:G43) -> 53 | H19: =SUM(H39:H43) -> 110 | I19: =SUM(I39:I43) -> 128 | ... M19: =SUM(M39:M43) -> 805 | N19: =SUM(B19:M19) -> 9265 | O19: =IF(N19=0,0,AVERAGE(B19:M19)) -> 772.08333
A20: Prótese Buco-Maxilo-Facial | B20: =B57 -> 4 | C20: =C57 -> 5 | D20: =D57 -> 1 | E20: =E57 -> 2 | G20: =G57 -> 7 | H20: =H57 -> 34 | I20: =I57 -> 28 | J20: =J57 -> 15 | K20: =K57 -> 22 | L20: =L57 -> 13 | M20: =M57 -> 22 | N20: =SUM(B20:M20) -> 153 | O20: =IF(N20=0,0,AVERAGE(B20:M20)) -> 13.909091
A21: Procedimentos Terapeuticos da Oficina | B21: =SUM(B117:B118) -> 220 | C21: =SUM(C117:C118) -> 209 | D21: =SUM(D117:D118) -> 152 | E21: =SUM(E117:E118) -> 38 | F21: =SUM(F117:F118) -> 45 | G21: =SUM(G117:G118) -> 364 | H21: =SUM(H117:H118) -> 355 | I21: =SUM(I117:I118) -> 181 | ... M21: =SUM(M117:M118) -> 241 | N21: =SUM(B21:M21) -> 2583 | O21: =IF(N21=0,0,AVERAGE(B21:M21)) -> 215.25
A22: Total | B22: =IF(SUM(B16:B21)=0,"",SUM(B16:B21)) -> 16594 | C22: =IF(SUM(C16:C21)=0,"",SUM(C16:C21)) -> 12743 | D22: =IF(SUM(D16:D21)=0,"",SUM(D16:D21)) -> 9817 | E22: =IF(SUM(E16:E21)=0,"",SUM(E16:E21)) -> 1662 | F22: =IF(SUM(F16:F21)=0,"",SUM(F16:F21)) -> 1459 | G22: =IF(SUM(G16:G21)=0,"",SUM(G16:G21)) -> 2546 | H22: =IF(SUM(H16:H21)=0,"",SUM(H16:H21)) -> 5020 | I22: =IF(SUM(I16:I21)=0,"",SUM(I16:I21)) -> 7587 | ... O22: =IF(SUM(O16:O21)=0,"",SUM(O16:O21)) -> 8250.9091
A24: 1.3. Nº de Atendimentos Ambulatoriais - Por Especialidade
A25: Anestesiologia | B25: 87 | C25: 67 | D25: 27 | E25: 15 | F25: 18 | G25: 32 | H25: 54 | I25: 24 | J25: 30 | K25: 56 | L25: 71 | M25: 77 | N25: =SUM(B25:M25) -> 558 | O25: =IF(N25=0,0,AVERAGE(B25:M25)) -> 46.5
A26: Clínica Médica | B26: 168 | C26: 265 | D26: 575 | E26: 222 | F26: 142 | G26: 89 | H26: 148 | I26: 241 | J26: 324 | K26: 304 | L26: 241 | M26: 209 | N26: =SUM(B26:M26) -> 2928 | O26: =IF(N26=0,0,AVERAGE(B26:M26)) -> 244
A27: Farmacologia Clinica | J27: 5 | K27: 1 | L27: 2 | M27: 1 | N27: =SUM(B27:M27) -> 9 | O27: =IF(N27=0,0,AVERAGE(B27:M27)) -> 2.25
A28: Cardiologista | B28: 296 | C28: 282 | D28: 289 | E28: 79 | F28: 143 | G28: 220 | H28: 311 | I28: 281 | J28: 341 | K28: 411 | L28: 403 | M28: 99 | N28: =SUM(B28:M28) -> 3155 | O28: =IF(N28=0,0,AVERAGE(B28:M28)) -> 262.91667
A29: Fisiatra | B29: 135 | C29: 133 | D29: 115 | E29: 31 | F29: 37 | G29: 82 | H29: 158 | I29: 146 | J29: 190 | K29: 153 | L29: 135 | M29: 142 | N29: =SUM(B29:M29) -> 1457 | O29: =IF(N29=0,0,AVERAGE(B29:M29)) -> 121.41667
A30: Geneticista | B30: 97 | C30: 70 | D30: 21 | E30: 15 | F30: 12 | G30: 35 | H30: 23 | I30: 32 | J30: 56 | K30: 75 | L30: 119 | M30: 50 | N30: =SUM(B30:M30) -> 605 | O30: =IF(N30=0,0,AVERAGE(B30:M30)) -> 50.416667
A31: Neurologia Adulto | B31: 249 | C31: 210 | D31: 174 | E31: 73 | F31: 102 | G31: 170 | H31: 198 | I31: 266 | J31: 212 | K31: 291 | L31: 206 | M31: 112 | N31: =SUM(B31:M31) -> 2263 | O31: =IF(N31=0,0,AVERAGE(B31:M31)) -> 188.58333
A32: Neurologia Infantil | B32: 284 | C32: 270 | D32: 223 | E32: 125 | F32: 118 | G32: 136 | H32: 257 | I32: 274 | J32: 306 | K32: 290 | L32: 280 | M32: 276 | N32: =SUM(B32:M32) -> 2839 | O32: =IF(N32=0,0,AVERAGE(B32:M32)) -> 236.58333
A33: Oftalmologista | B33: 417 | C33: 408 | D33: 287 | E33: 179 | F33: 96 | G33: 152 | H33: 193 | I33: 439 | J33: 451 | K33: 454 | L33: 429 | M33: 209 | N33: =SUM(B33:M33) -> 3714 | O33: =IF(N33=0,0,AVERAGE(B33:M33)) -> 309.5
A34: Ortopedista Adulto | B34: 296 | C34: 405 | D34: 297 | E34: 119 | F34: 104 | G34: 213 | H34: 241 | I34: 334 | J34: 336 | K34: 361 | L34: 418 | M34: 120 | N34: =SUM(B34:M34) -> 3244 | O34: =IF(N34=0,0,AVERAGE(B34:M34)) -> 270.33333
A35: Otorrinolaringologista | B35: 499 | C35: 442 | D35: 359 | E35: 177 | F35: 173 | G35: 259 | H35: 292 | I35: 330 | J35: 439 | K35: 421 | L35: 367 | M35: 291 | N35: =SUM(B35:M35) -> 4049 | O35: =IF(N35=0,0,AVERAGE(B35:M35)) -> 337.41667
A36: Urologista | B36: 53 | C36: 131 | D36: 97 | E36: 48 | F36: 23 | G36: 67 | H36: 71 | I36: 104 | J36: 85 | K36: 113 | L36: 114 | M36: 35 | N36: =SUM(B36:M36) -> 941 | O36: =IF(N36=0,0,AVERAGE(B36:M36)) -> 78.416667
A37: Proctogastroenterologia | B37: 64 | C37: 137 | D37: 117 | E37: 53 | F37: 44 | G37: 81 | H37: 171 | I37: 171 | J37: 187 | K37: 190 | L37: 152 | M37: 120 | N37: =SUM(B37:M37) -> 1487 | O37: =IF(N37=0,0,AVERAGE(B37:M37)) -> 123.91667
A38: Psiquiatra | B38: 250 | C38: 128 | D38: 100 | E38: 59 | F38: 81 | G38: 103 | H38: 138 | I38: 96 | J38: 56 | K38: 64 | L38: 149 | M38: 179 | N38: =SUM(B38:M38) -> 1403 | O38: =IF(N38=0,0,AVERAGE(B38:M38)) -> 116.91667
A39: Cirurgião Dentista Esp. Necessidades Especiais | B39: =B109 -> 1095 | C39: =C109 -> 616 | D39: =D109 -> 581 | E39: =E109 -> 7 | F39: =F109 -> 7 | G39: =G109 -> 12 | H39: =H109 -> 17 | I39: =I109 -> 61 | ... M39: =M109 -> 443 | N39: =SUM(B39:M39) -> 4492 | O39: =IF(N39=0,0,AVERAGE(B39:M39)) -> 374.33333
A40: Cirurgião Dentista Esp. Endodontia | B40: =B111 -> 140 | C40: =C111 -> 235 | D40: =D111 -> 193 | E40: =E111 -> 5 | F40: =F111 -> 8 | G40: =G111 -> 6 | H40: =H111 -> 19 | I40: =I111 -> 20 | ... M40: =M111 -> 56 | N40: =SUM(B40:M40) -> 851 | O40: =IF(N40=0,0,AVERAGE(B40:M40)) -> 70.916667
A41: Cirurgião Dentista Esp. Periodontia | B41: 558 | C41: 358 | D41: =D110 -> 310 | E41: =E110 -> 12 | F41: =F110 -> 27 | G41: =G110 -> 19 | H41: =H110 -> 9 | I41: =I110 -> 17 | J41: =J110 -> 213 | K41: =K110 -> 298 | ... M41: =M110 -> 224 | N41: =SUM(B41:M41) -> 2315 | O41: =IF(N41=0,0,AVERAGE(B41:M41)) -> 192.91667
A42: Cirurgião Dentista Esp. Buco Maxilo Facial | B42: =B112 -> 248 | C42: =C112 -> 308 | D42: =D112 -> 424 | E42: =E112 -> 1 | F42: =F112 -> 9 | G42: =G112 -> 16 | H42: =H112 -> 60 | I42: =I112 -> 26 | ... K42: =K112 -> 165 | L42: 84 | M42: 82 | N42: =SUM(B42:M42) -> 1493 | O42: =IF(N42=0,0,AVERAGE(B42:M42)) -> 124.41667
A43: Cirurgião Dentista Esp. Estomatologia | B43: =B113 -> 18 | C43: =C113 -> 9 | D43: =D113 -> 41 | H43: =H113 -> 5 | I43: =I113 -> 4 | J43: =J113 -> 12 | K43: =K113 -> 13 | L43: =L113 -> 12 | N43: =SUM(B43:M43) -> 114 | O43: =IF(N43=0,0,AVERAGE(B43:M43)) -> 14.25
...

Sheet Planilha2
A1: 1.16. Absenteísmo por Município
A2: Acara | B2: 1 | C2: 1 | D2: 1 | E2: 1 | N2: =SUM(B2:M2) -> 4 | O2: =IF(N2=0,0,AVERAGE(B2:M2)) -> 1
A3: Ananindeua | B3: 287 | C3: 301 | D3: 650 | E3: 9 | N3: =SUM(B3:M3) -> 1247 | O3: =IF(N3=0,0,AVERAGE(B3:M3)) -> 311.75
A4: Anajas | B4: 2 | C4: 8 | D4: 5 | E4: 3 | N4: =SUM(B4:M4) -> 18 | O4: =IF(N4=0,0,AVERAGE(B4:M4)) -> 4.5
A5: Bagre | B5: 2 | C5: 2 | D5: 7 | E5: 2 | N5: =SUM(B5:M5) -> 13 | O5: =IF(N5=0,0,AVERAGE(B5:M5)) -> 3.25
A6: Belém | B6: 585 | C6: 800 | D6: 465 | E6: 294 | N6: =SUM(B6:M6) -> 2144 | O6: =IF(N6=0,0,AVERAGE(B6:M6)) -> 536
A7: Benevides | B7: 40 | C7: 35 | D7: 45 | E7: 10 | N7: =SUM(B7:M7) -> 130 | O7: =IF(N7=0,0,AVERAGE(B7:M7)) -> 32.5
A8: Barcarena | B8: 6 | C8: 10 | D8: 15 | E8: 28 | N8: =SUM(B8:M8) -> 59 | O8: =IF(N8=0,0,AVERAGE(B8:M8)) -> 14.75
A9: Bujaru | B9: 1 | C9: 1 | D9: 13 | N9: =SUM(B9:M9) -> 15 | O9: =IF(N9=0,0,AVERAGE(B9:M9)) -> 5
A10: Bom Jesus do Tocantis | B10: 1 | C10: 1 | D10: 3 | E10: 2 | N10: =SUM(B10:M10) -> 7 | O10: =IF(N10=0,0,AVERAGE(B10:M10)) -> 1.75
A11: Cametá | B11: 9 | C11: 25 | D11: 12 | E11: 5 | N11: =SUM(B11:M11) -> 51 | O11: =IF(N11=0,0,AVERAGE(B11:M11)) -> 12.75
A12: Capanema | B12: 4 | C12: 3 | D12: 2 | E12: 2 | N12: =SUM(B12:M12) -> 11 | O12: =IF(N12=0,0,AVERAGE(B12:M12)) -> 2.75
A13: Castanhal | B13: 8 | C13: 6 | D13: 14 | E13: 9 | N13: =SUM(B13:M13) -> 37 | O13: =IF(N13=0,0,AVERAGE(B13:M13)) -> 9.25
A14: Colares | B14: 25 | C14: 14 | D14: 30 | E14: 40 | N14: =SUM(B14:M14) -> 109 | O14: =IF(N14=0,0,AVERAGE(B14:M14)) -> 27.25
A15: Curralinho | B15: 2 | C15: 3 | D15: 2 | E15: 2 | N15: =SUM(B15:M15) -> 9 | O15: =IF(N15=0,0,AVERAGE(B15:M15)) -> 2.25
A16: Igarapé Açu | B16: 2 | C16: 5 | D16: 7 | E16: 8 | N16: =SUM(B16:M16) -> 22 | O16: =IF(N16=0,0,AVERAGE(B16:M16)) -> 5.5
A17: Igarapé Mirim | B17: 2 | C17: 5 | D17: 13 | E17: 8 | N17: =SUM(B17:M17) -> 28 | O17: =IF(N17=0,0,AVERAGE(B17:M17)) -> 7
A18: Inhangapi | B18: 4 | C18: 2 | D18: 6 | E18: 5 | N18: =SUM(B18:M18) -> 17 | O18: =IF(N18=0,0,AVERAGE(B18:M18)) -> 4.25
A19: Irituia | B19: 3 | C19: 3 | D19: 5 | E19: 4 | N19: =SUM(B19:M19) -> 15 | O19: =IF(N19=0,0,AVERAGE(B19:M19)) -> 3.75
A20: Limoeiro do Ajuru | B20: 2 | C20: 2 | D20: 7 | E20: 9 | N20: =SUM(B20:M20) -> 20 | O20: =IF(N20=0,0,AVERAGE(B20:M20)) -> 5
A21: Medicilândia | B21: 2 | C21: 1 | D21: 1 | N21: =SUM(B21:M21) -> 4 | O21: =IF(N21=0,0,AVERAGE(B21:M21)) -> 1.3333333
A22: Marituba | B22: 5 | C22: 5 | D22: 8 | E22: 2 | N22: =SUM(B22:M22) -> 20 | O22: =IF(N22=0,0,AVERAGE(B22:M22)) -> 5
A23: Maracanã | B23: 6 | C23: 5 | D23: 3 | E23: 4 | N23: =SUM(B23:M23) -> 18 | O23: =IF(N23=0,0,AVERAGE(B23:M23)) -> 4.5
A24: Mãe do Rio | B24: 2 | C24: 5 | D24: 3 | E24: 3 | N24: =SUM(B24:M24) -> 13 | O24: =IF(N24=0,0,AVERAGE(B24:M24)) -> 3.25
A25: Muaná | B25: 1 | C25: 2 | D25: 4 | N25: =SUM(B25:M25) -> 7 | O25: =IF(N25=0,0,AVERAGE(B25:M25)) -> 2.3333333
A26: Nova Esperança Piria | B26: 1 | C26: 2 | D26: 5 | E26: 4 | N26: =SUM(B26:M26) -> 12 | O26: =IF(N26=0,0,AVERAGE(B26:M26)) -> 3
A27: Novo Repartimento | B27: 5 | C27: 2 | D27: 2 | E27: 1 | N27: =SUM(B27:M27) -> 10 | O27: =IF(N27=0,0,AVERAGE(B27:M27)) -> 2.5
A28: Nova Timboteua | B28: 1 | C28: 2 | D28: 5 | E28: 1 | N28: =SUM(B28:M28) -> 9 | O28: =IF(N28=0,0,AVERAGE(B28:M28)) -> 2.25
A29: Ponta de Pedras | B29: 3 | C29: 2 | D29: 6 | E29: 6 | N29: =SUM(B29:M29) -> 17 | O29: =IF(N29=0,0,AVERAGE(B29:M29)) -> 4.25
A30: Paraupebas | B30: 1 | C30: 3 | D30: 5 | E30: 8 | N30: =SUM(B30:M30) -> 17 | O30: =IF(N30=0,0,AVERAGE(B30:M30)) -> 4.25
A31: Peixe Boi | B31: 2 | C31: 1 | D31: 3 | E31: 1 | N31: =SUM(B31:M31) -> 7 | O31: =IF(N31=0,0,AVERAGE(B31:M31)) -> 1.75
A32: Quatipuru | B32: 1 | C32: 1 | D32: 4 | E32: 1 | N32: =SUM(B32:M32) -> 7 | O32: =IF(N32=0,0,AVERAGE(B32:M32)) -> 1.75
A33: Redenção | B33: 1 | C33: 2 | D33: 4 | N33: =SUM(B33:M33) -> 7 | O33: =IF(N33=0,0,AVERAGE(B33:M33)) -> 2.3333333
A34: Santa Luzia do Para | B34: 4 | C34: 10 | D34: 3 | E34: 6 | N34: =SUM(B34:M34) -> 23 | O34: =IF(N34=0,0,AVERAGE(B34:M34)) -> 5.75
A35: Santa Maria do Para | B35: 5 | C35: 10 | D35: 17 | E35: 9 | N35: =SUM(B35:M35) -> 41 | O35: =IF(N35=0,0,AVERAGE(B35:M35)) -> 10.25
A36: São Miguel do Guamá | B36: 5 | C36: 6 | D36: 10 | E36: 13 | N36: =SUM(B36:M36) -> 34 | O36: =IF(N36=0,0,AVERAGE(B36:M36)) -> 8.5
A37: São Sebastião da Boa Vista | B37: 15 | C37: 20 | D37: 16 | E37: 18 | N37: =SUM(B37:M37) -> 69 | O37: =IF(N37=0,0,AVERAGE(B37:M37)) -> 17.25
A38: Santa Cruz do Arari | B38: 1 | C38: 2 | D38: 2 | N38: =SUM(B38:M38) -> 5 | O38: =IF(N38=0,0,AVERAGE(B38:M38)) -> 1.6666667
A39: Santa Izabel | B39: 2 | C39: 7 | D39: 3 | E39: 10 | N39: =SUM(B39:M39) -> 22 | O39: =IF(N39=0,0,AVERAGE(B39:M39)) -> 5.5
A40: Santo Antônio do taua | B40: 2 | C40: 6 | D40: 9 | E40: 6 | N40: =SUM(B40:M40) -> 23 | O40: =IF(N40=0,0,AVERAGE(B40:M40)) -> 5.75
...

Sheet Planilha1
A2: Centro de Custos | B2: Grupo
A3: Ambulatório Anestesiologia | B3: Ambulatório
A4: Ambulatório Clínica Médica | B4: Ambulatório
A5: Ambulatório Cardiologia | B5: Ambulatório
A6: Ambulatório Fisiatria | B6: Ambulatório
A7: Ambulatório Genética Médica | B7: Ambulatório
A8: Ambulatório Neurologia Adulto | B8: Ambulatório
A9: Ambulatório Neurologia Infantil | B9: Ambulatório
A10: Ambulatório Oftalmologia | B10: Ambulatório
A11: Ambulatório Ortopedia | B11: Ambulatório
A12: Ambulatório Otorrinolaringologia | B12: Ambulatório
A13: Ambulatório Urologia | B13: Ambulatório
... A121: Atividades Manuais | B121: Arte e Cultura

Sheet Mapa de produção sintético-2020
B1: PLANO ESTATÍSTICO 2020
A2: CENTRO INTEGRADO DE INCLUSÃO E REABILITAÇÃO - CIIR
A3: Principais dados estatísticos de 2020
A5: Itens de Avaliação | B5: 43831 | C5: 43862 | D5: 43891 | E5: 43922 | F5: 43952 | G5: 43983 | H5: 44013 | I5: 44044 | J5: 44075 | K5: 44105 | L5: 44136 | M5: 44166 | N5: Acumulado | O5: Média
A6: Nº de Consultórios e Salas | B6: ='Plano Estatístico Analitic 2020'!B13 -> 58 | C6: ='Plano Estatístico Analitic 2020'!C13 -> 58 | D6: ='Plano Estatístico Analitic 2020'!D13 -> 58 | E6: ='Plano Estatístico Analitic 2020'!E13 -> 58 | F6: ='Plano Estatístico Analitic 2020'!F13 -> 58 | G6: ='Plano Estatístico Analitic 2020'!G13 -> 58 | H6: ='Plano Estatístico Analitic 2020'!H13 -> 58 | I6: ='Plano Estatístico Analitic 2020'!I13 -> 58 | ... O6: ='Plano Estatístico Analitic 2020'!O13 -> 58
A7: Nº de Atendimentos Ambulatoriais | B7: ='Plano Estatístico Analitic 2020'!B22 -> 16594 | C7: ='Plano Estatístico Analitic 2020'!C22 -> 12743 | D7: ='Plano Estatístico Analitic 2020'!D22 -> 9817 | E7: ='Plano Estatístico Analitic 2020'!E22 -> 1662 | F7: ='Plano Estatístico Analitic 2020'!F22 -> 1459 | G7: ='Plano Estatístico Analitic 2020'!G22 -> 2546 | H7: ='Plano Estatístico Analitic 2020'!H22 -> 5020 | I7: ='Plano Estatístico Analitic 2020'!I22 -> 7587 | ... O7: ='Plano Estatístico Analitic 2020'!O22 -> 8250.9091
A8: Nº de Avaliação Global | B8: ='Plano Estatístico Analitic 2020'!B74 -> 19 | C8: ='Plano Estatístico Analitic 2020'!C74 -> 26 | D8: ='Plano Estatístico Analitic 2020'!D74 -> 20 | E8: ='Plano Estatístico Analitic 2020'!E74 -> 6 | F8: ='Plano Estatístico Analitic 2020'!F74 -> 5 | G8: ='Plano Estatístico Analitic 2020'!G74 -> 8 | H8: ='Plano Estatístico Analitic 2020'!H74 -> 17 | I8: ='Plano Estatístico Analitic 2020'!I74 -> 11 | ... O8: ='Plano Estatístico Analitic 2020'!O74 -> 23.583333
A9: N° de Usuários em Reabilitação | B9: ='Plano Estatístico Analitic 2020'!B82 -> 709 | C9: ='Plano Estatístico Analitic 2020'!C82 -> 726 | D9: ='Plano Estatístico Analitic 2020'!D82 -> 741 | E9: ='Plano Estatístico Analitic 2020'!E82 -> 747 | F9: ='Plano Estatístico Analitic 2020'!F82 -> 752 | G9: ='Plano Estatístico Analitic 2020'!G82 -> 755 | H9: ='Plano Estatístico Analitic 2020'!H82 -> 762 | I9: ='Plano Estatístico Analitic 2020'!I82 -> 773 | ... O9: ='Plano Estatístico Analitic 2020'!O82 -> 768.25
A10: N° de Novos Usuários em Reabilitação | B10: ='Plano Estatístico Analitic 2020'!B90 -> 92 | C10: ='Plano Estatístico Analitic 2020'!C90 -> 18 | D10: ='Plano Estatístico Analitic 2020'!D90 -> 16 | E10: ='Plano Estatístico Analitic 2020'!E90 -> 6 | F10: ='Plano Estatístico Analitic 2020'!F90 -> 5 | G10: ='Plano Estatístico Analitic 2020'!G90 -> 3 | H10: ='Plano Estatístico Analitic 2020'!H90 -> 7 | I10: ='Plano Estatístico Analitic 2020'!I90 -> 11 | ... O10: ='Plano Estatístico Analitic 2020'!O90 -> 30.833333
A11: Nº de Usuários com Alta na Reabilitação | B11: ='Plano Estatístico Analitic 2020'!B98 | C11: ='Plano Estatístico Analitic 2020'!C98 -> 1 | D11: ='Plano Estatístico Analitic 2020'!D98 -> 1 | E11: ='Plano Estatístico Analitic 2020'!E98 | F11: ='Plano Estatístico Analitic 2020'!F98 | G11: ='Plano Estatístico Analitic 2020'!G98 | H11: ='Plano Estatístico Analitic 2020'!H98 | I11: ='Plano Estatístico Analitic 2020'!I98 -> 1 | ... O11: ='Plano Estatístico Analitic 2020'!O98 -> 4.1666667
A12: Nº de Usuários em Atendimento Odontológico | B12: ='Plano Estatístico Analitic 2020'!B106 -> 347 | C12: ='Plano Estatístico Analitic 2020'!C106 -> 313 | D12: ='Plano Estatístico Analitic 2020'!D106 -> 259 | E12: ='Plano Estatístico Analitic 2020'!E106 -> 14 | F12: ='Plano Estatístico Analitic 2020'!F106 -> 14 | G12: ='Plano Estatístico Analitic 2020'!G106 -> 19 | H12: ='Plano Estatístico Analitic 2020'!H106 -> 47 | I12: ='Plano Estatístico Analitic 2020'!I106 -> 44 | ... O12: ='Plano Estatístico Analitic 2020'!O106 -> 128.58333
A13: Nº de Procedimentos Odontologia (CEO II) | B13: ='Plano Estatístico Analitic 2020'!B114 -> 2059 | C13: ='Plano Estatístico Analitic 2020'!C114 -> 1526 | D13: ='Plano Estatístico Analitic 2020'!D114 -> 1549 | E13: ='Plano Estatístico Analitic 2020'!E114 -> 25 | F13: ='Plano Estatístico Analitic 2020'!F114 -> 51 | G13: ='Plano Estatístico Analitic 2020'!G114 -> 53 | H13: ='Plano Estatístico Analitic 2020'!H114 -> 110 | I13: ='Plano Estatístico Analitic 2020'!I114 -> 128 | ... O13: ='Plano Estatístico Analitic 2020'!O114 -> 776.83333
A14: Estatística da Oficina | B14: ='Plano Estatístico Analitic 2020'!B120 -> 547 | C14: ='Plano Estatístico Analitic 2020'!C120 -> 453 | D14: ='Plano Estatístico Analitic 2020'!D120 -> 276 | E14: ='Plano Estatístico Analitic 2020'!E120 -> 138 | F14: ='Plano Estatístico Analitic 2020'!F120 -> 192 | G14: ='Plano Estatístico Analitic 2020'!G120 -> 807 | H14: ='Plano Estatístico Analitic 2020'!H120 -> 633 | I14: ='Plano Estatístico Analitic 2020'!I120 -> 426 | ... O14: ='Plano Estatístico Analitic 2020'!O120 -> 452.58333
A15: Nº de Absenteísmo de Usuário | B15: ='Plano Estatístico Analitic 2020'!B189 -> 3302 | C15: ='Plano Estatístico Analitic 2020'!C189 -> 4271 | D15: ='Plano Estatístico Analitic 2020'!D189 -> 5290 | E15: ='Plano Estatístico Analitic 2020'!E189 -> 6441 | F15: ='Plano Estatístico Analitic 2020'!F189 -> 7534 | G15: ='Plano Estatístico Analitic 2020'!G189 -> 6844 | H15: ='Plano Estatístico Analitic 2020'!H189 -> 8538 | I15: ='Plano Estatístico Analitic 2020'!I189 -> 7241 | ... O15: ='Plano Estatístico Analitic 2020'!O189 -> 5907.4167
A16: Nº Atendimentos Time de Resposta Rápida (TRR) | B16: ='Plano Estatístico Analitic 2020'!B193 -> 7 | C16: ='Plano Estatístico Analitic 2020'!C193 -> 11 | D16: ='Plano Estatístico Analitic 2020'!D192 -> 14 | E16: ='Plano Estatístico Analitic 2020'!E193 -> 1 | F16: ='Plano Estatístico Analitic 2020'!F193 -> 4 | G16: ='Plano Estatístico Analitic 2020'!G193 -> 11 | H16: ='Plano Estatístico Analitic 2020'!H193 -> 8 | I16: ='Plano Estatístico Analitic 2020'!I193 -> 17 | J16: ='Plano Estatístico Analitic 2020'!J193 -> 18 | K16: ='Plano Estatístico Analitic 2020'!K193 -> 8 | L16: ='Plano Estatístico Analitic 2020'!L193 -> 16 | ... O16: ='Plano Estatístico Analitic 2020'!O193 -> 10
A17: Nº Procedimentos Enfermagem | B17: ='Plano Estatístico Analitic 2020'!B197 -> 8 | C17: ='Plano Estatístico Analitic 2020'!C197 -> 18 | D17: ='Plano Estatístico Analitic 2020'!D196 -> 9 | E17: ='Plano Estatístico Analitic 2020'!E196 -> 3 | F17: ='Plano Estatístico Analitic 2020'!F196 -> 0 | G17: ='Plano Estatístico Analitic 2020'!G196 -> 16 | H17: ='Plano Estatístico Analitic 2020'!H196 -> 26 | I17: ='Plano Estatístico Analitic 2020'!I196 -> 18 | J17: ='Plano Estatístico Analitic 2020'!J196 -> 36 | K17: ='Plano Estatístico Analitic 2020'!K196 -> 24 | ... M17: ='Plano Estatístico Analitic 2020'!M196 -> 13 | N17: ='Plano Estatístico Analitic 2020'!N197 -> 184 | O17: ='Plano Estatístico Analitic 2020'!O197 -> 16.727273
A18: Total de Exames de Imagens e Métodos Gráficos | B18: ='Plano Estatístico Analitic 2020'!B228 -> 3070 | C18: ='Plano Estatístico Analitic 2020'!C228 -> 3347 | D18: ='Plano Estatístico Analitic 2020'!D228 -> 2214 | E18: ='Plano Estatístico Analitic 2020'!E228 -> 1208 | F18: ='Plano Estatístico Analitic 2020'!F228 -> 910 | G18: ='Plano Estatístico Analitic 2020'!G228 -> 2485 | H18: ='Plano Estatístico Analitic 2020'!H228 -> 2831 | I18: ='Plano Estatístico Analitic 2020'!I228 -> 3263 | ... O18: ='Plano Estatístico Analitic 2020'!O228 -> 2679.3333
A19: Índice de Satisfação do Usuário | B19: ='Plano Estatístico Analitic 2020'!B249 -> 0.91961667 | C19: ='Plano Estatístico Analitic 2020'!C249 -> 0.94028333 | D19: ='Plano Estatístico Analitic 2020'!D249 -> 0.92888333 | E19: ='Plano Estatístico Analitic 2020'!E249 -> 0.97542 | F19: ='Plano Estatístico Analitic 2020'!F249 -> 0.96226 | G19: ='Plano Estatístico Analitic 2020'!G249 -> 0.9627 | H19: ='Plano Estatístico Analitic 2020'!H249 -> 0.96076 | I19: ='Plano Estatístico Analitic 2020'!I249 -> 0.9484 | ... O19: ='Plano Estatístico Analitic 2020'!O249 -> 0.95285111
A20: Número de Atendimentos no Serviço Social | B20: ='Plano Estatístico Analitic 2020'!B256 -> 896 | C20: ='Plano Estatístico Analitic 2020'!C256 -> 675 | D20: ='Plano Estatístico Analitic 2020'!D256 -> 554 | E20: ='Plano Estatístico Analitic 2020'!E256 -> 43 | F20: ='Plano Estatístico Analitic 2020'!F256 -> 67 | G20: ='Plano Estatístico Analitic 2020'!G256 -> 149 | H20: ='Plano Estatístico Analitic 2020'!H256 -> 228 | I20: ='Plano Estatístico Analitic 2020'!I256 -> 257 | ... O20: ='Plano Estatístico Analitic 2020'!O256 -> 351.16667
A21: Treinamento Hora/Homem | B21: ='Plano Estatístico Analitic 2020'!B266 -> 0.13798611 | C21: ='Plano Estatístico Analitic 2020'!C266 -> 0.12732639 | D21: ='Plano Estatístico Analitic 2020'!D266 -> 0.31275463 | E21: ='Plano Estatístico Analitic 2020'!E266 -> 0.092962963 | F21: ='Plano Estatístico Analitic 2020'!F266 -> 0.054479167 | G21: ='Plano Estatístico Analitic 2020'!G266 -> 0.089247685 | H21: ='Plano Estatístico Analitic 2020'!H266 -> 0.18895833 | I21: ='Plano Estatístico Analitic 2020'!I266 -> 0.13693287 | ... N21: ='Plano Estatístico Analitic 2020'!N266 -> 2.0033565 | O21: =N21 -> 2.0033565
A22: CME - Pacotes/Caixas preparados | B22: ='Plano Estatístico Analitic 2020'!B275 -> 2824 | C22: ='Plano Estatístico Analitic 2020'!C275 -> 2486 | D22: ='Plano Estatístico Analitic 2020'!D275 -> 1784 | E22: ='Plano Estatístico Analitic 2020'!E275 -> 132 | F22: ='Plano Estatístico Analitic 2020'!F275 -> 147 | G22: ='Plano Estatístico Analitic 2020'!G275 -> 258 | H22: ='Plano Estatístico Analitic 2020'!H275 -> 394 | I22: ='Plano Estatístico Analitic 2020'!I275 -> 648 | ... O22: ='Plano Estatístico Analitic 2020'!O275 -> 1238.7778
A23: Número de Manutenções Corretivas | B23: ='Plano Estatístico Analitic 2020'!B281 -> 19 | C23: ='Plano Estatístico Analitic 2020'!C281 -> 1 | D23: ='Plano Estatístico Analitic 2020'!D281 -> 6 | E23: ='Plano Estatístico Analitic 2020'!F281 -> 0 | F23: ='Plano Estatístico Analitic 2020'!G281 -> 3 | G23: ='Plano Estatístico Analitic 2020'!H281 -> 5 | H23: ='Plano Estatístico Analitic 2020'!I281 -> 2 | I23: ='Plano Estatístico Analitic 2020'!J281 -> 4 | J23: ='Plano Estatístico Analitic 2020'!K281 -> 15 | K23: ='Plano Estatístico Analitic 2020'!L281 -> 3 | L23: ='Plano Estatístico Analitic 2020'!M281 -> 1 | M23: ='Plano Estatístico Analitic 2020'!N281 -> 60 | N23: ='Plano Estatístico Analitic 2020'!N281 -> 60 | O23: ='Plano Estatístico Analitic 2020'!O281 -> 5.4545455
A24: Número de Manutenções Preventivas | B24: ='Plano Estatístico Analitic 2020'!B282 -> 112 | C24: ='Plano Estatístico Analitic 2020'!C282 -> 75 | D24: 0 | E24: 0 | F24: 0 | G24: 0 | H24: 0 | I24: 0 | J24: 0 | K24: 0 | L24: 0 | M24: 0 | N24: ='Plano Estatístico Analitic 2020'!N282 -> 765 | O24: ='Plano Estatístico Analitic 2020'!O282 -> 63.75
A25: Total de Reparos da Manutenção | B25: ='Plano Estatístico Analitic 2020'!B312 -> 86 | C25: ='Plano Estatístico Analitic 2020'!C312 -> 55 | D25: ='Plano Estatístico Analitic 2020'!D312 -> 63 | E25: ='Plano Estatístico Analitic 2020'!E312 -> 52 | F25: ='Plano Estatístico Analitic 2020'!F312 -> 55 | G25: ='Plano Estatístico Analitic 2020'!G312 -> 59 | H25: ='Plano Estatístico Analitic 2020'!H312 -> 96 | I25: ='Plano Estatístico Analitic 2020'!I312 -> 35 | ... O25: ='Plano Estatístico Analitic 2020'!O312 -> 60.333333
A26: Total de Funcionários | B26: ='Plano Estatístico Analitic 2020'!B322 -> 225 | C26: ='Plano Estatístico Analitic 2020'!C322 -> 222 | D26: ='Plano Estatístico Analitic 2020'!D322 -> 223 | E26: ='Plano Estatístico Analitic 2020'!E322 -> 222 | F26: ='Plano Estatístico Analitic 2020'!F322 -> 221 | G26: ='Plano Estatístico Analitic 2020'!G322 -> 220 | H26: ='Plano Estatístico Analitic 2020'!H322 -> 223 | I26: ='Plano Estatístico Analitic 2020'!I322 -> 220 | ... O26: ='Plano Estatístico Analitic 2020'!O322 -> 221.5
A27: Total de Médicos | B27: ='Plano Estatístico Analitic 2020'!B329 -> 43 | C27: ='Plano Estatístico Analitic 2020'!C329 -> 46 | D27: ='Plano Estatístico Analitic 2020'!D329 -> 58 | E27: ='Plano Estatístico Analitic 2020'!E329 -> 60 | F27: ='Plano Estatístico Analitic 2020'!F329 -> 61 | G27: ='Plano Estatístico Analitic 2020'!G329 -> 62 | H27: ='Plano Estatístico Analitic 2020'!H329 -> 62 | I27: ='Plano Estatístico Analitic 2020'!I329 -> 62 | ... O27: ='Plano Estatístico Analitic 2020'!O329 -> 57.583333
A28: Total de Odontologia | B28: ='Plano Estatístico Analitic 2020'!B330 -> 8 | C28: ='Plano Estatístico Analitic 2020'!C330 -> 8 | D28: ='Plano Estatístico Analitic 2020'!D330 -> 8 | E28: ='Plano Estatístico Analitic 2020'!E330 -> 8 | F28: ='Plano Estatístico Analitic 2020'!F330 -> 8 | G28: ='Plano Estatístico Analitic 2020'!G330 -> 8 | H28: ='Plano Estatístico Analitic 2020'!H330 -> 8 | I28: ='Plano Estatístico Analitic 2020'!I330 -> 8 | ... O28: ='Plano Estatístico Analitic 2020'!O330 -> 8
A29: Total de Radiologia | B29: ='Plano Estatístico Analitic 2020'!B331 -> 3 | C29: ='Plano Estatístico Analitic 2020'!C331 -> 3 | D29: ='Plano Estatístico Analitic 2020'!D331 -> 3 | E29: ='Plano Estatístico Analitic 2020'!E331 -> 3 | F29: ='Plano Estatístico Analitic 2020'!F331 -> 3 | G29: ='Plano Estatístico Analitic 2020'!G331 -> 3 | H29: ='Plano Estatístico Analitic 2020'!H331 -> 3 | I29: ='Plano Estatístico Analitic 2020'!I331 -> 3 | ... O29: ='Plano Estatístico Analitic 2020'!O331 -> 2.8333333
A30: Total Fisioterapeuta | B30: ='Plano Estatístico Analitic 2020'!B332 -> 12 | C30: ='Plano Estatístico Analitic 2020'!C332 -> 13 | D30: ='Plano Estatístico Analitic 2020'!D332 -> 13 | E30: ='Plano Estatístico Analitic 2020'!E332 -> 13 | F30: ='Plano Estatístico Analitic 2020'!F332 -> 13 | G30: ='Plano Estatístico Analitic 2020'!G332 -> 13 | H30: ='Plano Estatístico Analitic 2020'!H332 -> 13 | I30: ='Plano Estatístico Analitic 2020'!I332 -> 13 | ... O30: ='Plano Estatístico Analitic 2020'!O332 -> 11.833333
A31: Total de Terapeuta Ocupacional | B31: ='Plano Estatístico Analitic 2020'!B333 -> 16 | C31: ='Plano Estatístico Analitic 2020'!C333 -> 16 | D31: ='Plano Estatístico Analitic 2020'!D333 -> 16 | E31: ='Plano Estatístico Analitic 2020'!E333 -> 16 | F31: ='Plano Estatístico Analitic 2020'!F333 -> 16 | G31: ='Plano Estatístico Analitic 2020'!G333 -> 16 | H31: ='Plano Estatístico Analitic 2020'!H333 -> 16 | I31: ='Plano Estatístico Analitic 2020'!I333 -> 17 | ... O31: ='Plano Estatístico Analitic 2020'!O333 -> 15.666667
A32: Total de Fonoaudiologista | B32: ='Plano Estatístico Analitic 2020'!B334 -> 12 | C32: ='Plano Estatístico Analitic 2020'!C334 -> 12 | D32: ='Plano Estatístico Analitic 2020'!D334 -> 12 | E32: ='Plano Estatístico Analitic 2020'!E334 -> 12 | F32: ='Plano Estatístico Analitic 2020'!F334 -> 12 | G32: ='Plano Estatístico Analitic 2020'!G334 -> 12 | H32: ='Plano Estatístico Analitic 2020'!H334 -> 12 | I32: ='Plano Estatístico Analitic 2020'!I334 -> 13 | ... O32: ='Plano Estatístico Analitic 2020'!O334 -> 12.166667
A33: Total de Educador Físico | B33: ='Plano Estatístico Analitic 2020'!B335 -> 4 | C33: ='Plano Estatístico Analitic 2020'!C335 -> 4 | D33: ='Plano Estatístico Analitic 2020'!D335 -> 4 | E33: ='Plano Estatístico Analitic 2020'!E335 -> 4 | F33: ='Plano Estatístico Analitic 2020'!F335 -> 4 | G33: ='Plano Estatístico Analitic 2020'!G335 -> 4 | H33: ='Plano Estatístico Analitic 2020'!H335 -> 4 | I33: ='Plano Estatístico Analitic 2020'!I335 -> 4 | ... O33: ='Plano Estatístico Analitic 2020'!O335 -> 4.4166667
A34: Total de Terceiros | B34: ='Plano Estatístico Analitic 2020'!B368 -> 0 | C34: ='Plano Estatístico Analitic 2020'!C368 -> 16 | D34: ='Plano Estatístico Analitic 2020'!D324 -> 16 | E34: ='Plano Estatístico Analitic 2020'!E324 -> 16 | F34: ='Plano Estatístico Analitic 2020'!F324 -> 16 | G34: ='Plano Estatístico Analitic 2020'!G324 -> 16 | H34: ='Plano Estatístico Analitic 2020'!H324 -> 15 | I34: ='Plano Estatístico Analitic 2020'!I324 -> 15 | J34: ='Plano Estatístico Analitic 2020'!J324 -> 17 | K34: ='Plano Estatístico Analitic 2020'!K324 -> 16 | ... M34: ='Plano Estatístico Analitic 2020'!M324 -> 16 | N34: ='Plano Estatístico Analitic 2020'!N368 -> 16 | O34: ='Plano Estatístico Analitic 2020'!O368 -> 16.090909
A35: Funcionários em Férias | B35: ='Plano Estatístico Analitic 2020'!B351 -> 11 | C35: ='Plano Estatístico Analitic 2020'!C351 -> 12 | D35: ='Plano Estatístico Analitic 2020'!D351 -> 11 | E35: ='Plano Estatístico Analitic 2020'!E351 -> 22 | F35: ='Plano Estatístico Analitic 2020'!F351 -> 24 | G35: ='Plano Estatístico Analitic 2020'!G351 -> 24 | H35: ='Plano Estatístico Analitic 2020'!H351 -> 27 | I35: ='Plano Estatístico Analitic 2020'!I351 -> 25 | ... O35: ='Plano Estatístico Analitic 2020'!O351 -> 21.5
A36: Funcionários de Licenças | B36: ='Plano Estatístico Analitic 2020'!B352 -> 8 | C36: ='Plano Estatístico Analitic 2020'!C352 -> 9 | D36: ='Plano Estatístico Analitic 2020'!D352 -> 8 | E36: ='Plano Estatístico Analitic 2020'!E352 -> 8 | F36: ='Plano Estatístico Analitic 2020'!F352 -> 12 | G36: ='Plano Estatístico Analitic 2020'!G352 -> 13 | H36: ='Plano Estatístico Analitic 2020'!H352 -> 7 | I36: ='Plano Estatístico Analitic 2020'!I352 -> 7 | ... O36: ='Plano Estatístico Analitic 2020'!O352 -> 10
A37: Admissões | B37: ='Plano Estatístico Analitic 2020'!B353 -> 5 | C37: ='Plano Estatístico Analitic 2020'!C353 -> 2 | D37: ='Plano Estatístico Analitic 2020'!D353 -> 2 | E37: ='Plano Estatístico Analitic 2020'!E353 -> 2 | F37: ='Plano Estatístico Analitic 2020'!F353 -> 1 | G37: ='Plano Estatístico Analitic 2020'!G353 -> 1 | H37: ='Plano Estatístico Analitic 2020'!H353 -> 0 | I37: ='Plano Estatístico Analitic 2020'!I353 -> 2 | ... O37: ='Plano Estatístico Analitic 2020'!O353 -> 6.3636364
A38: Demissões | B38: ='Plano Estatístico Analitic 2020'!B354 -> 2 | C38: ='Plano Estatístico Analitic 2020'!C354 -> 5 | D38: ='Plano Estatístico Analitic 2020'!D354 -> 2 | E38: ='Plano Estatístico Analitic 2020'!E354 -> 3 | F38: ='Plano Estatístico Analitic 2020'!F354 -> 1 | G38: ='Plano Estatístico Analitic 2020'!G354 -> 2 | H38: ='Plano Estatístico Analitic 2020'!H354 -> 1 | I38: ='Plano Estatístico Analitic 2020'!I354 -> 5 | ... O38: ='Plano Estatístico Analitic 2020'!O354 -> 4.4166667
A39: % do Pessoal - Serviços Adm | B39: ='Plano Estatístico Analitic 2020'!B361 -> 0.41333333 | C39: ='Plano Estatístico Analitic 2020'!C361 -> 0.41441441 | D39: ='Plano Estatístico Analitic 2020'!D361 -> 0.42600897 | E39: ='Plano Estatístico Analitic 2020'!E361 -> 0.41891892 | F39: ='Plano Estatístico Analitic 2020'!F361 -> 0.41628959 | G39: ='Plano Estatístico Analitic 2020'!G361 -> 0.42272727 | H39: ='Plano Estatístico Analitic 2020'!H361 -> 0.43497758 | I39: ='Plano Estatístico Analitic 2020'!I361 -> 0.44545455 | ... O39: ='Plano Estatístico Analitic 2020'!O361 -> 0.42727318
A40: % do Pessoal de Assistência | B40: ='Plano Estatístico Analitic 2020'!B362 -> 0.34222222 | C40: ='Plano Estatístico Analitic 2020'!C362 -> 0.34684685 | D40: ='Plano Estatístico Analitic 2020'!D362 -> 0.33632287 | E40: ='Plano Estatístico Analitic 2020'!E362 -> 0.34234234 | F40: ='Plano Estatístico Analitic 2020'!F362 -> 0.3438914 | G40: ='Plano Estatístico Analitic 2020'!G362 -> 0.35 | H40: ='Plano Estatístico Analitic 2020'!H362 -> 0.32735426 | I40: ='Plano Estatístico Analitic 2020'!I362 -> 0.31818182 | ... O40: ='Plano Estatístico Analitic 2020'!O362 -> 0.33783944
A41: % do Pessoal Serviços de Apoio | B41: ='Plano Estatístico Analitic 2020'!B363 -> 0.17333333 | C41: ='Plano Estatístico Analitic 2020'!C363 -> 0.17117117 | D41: ='Plano Estatístico Analitic 2020'!D363 -> 0.17040359 | E41: ='Plano Estatístico Analitic 2020'!E363 -> 0.17117117 | F41: ='Plano Estatístico Analitic 2020'!F363 -> 0.1719457 | G41: ='Plano Estatístico Analitic 2020'!G363 -> 0.15909091 | H41: ='Plano Estatístico Analitic 2020'!H363 -> 0.17040359 | I41: ='Plano Estatístico Analitic 2020'!I363 -> 0.17272727 | ... O41: ='Plano Estatístico Analitic 2020'!O363 -> 0.16974517
...
