Workbook
Name Altasporespecialidade: #REF!
Name Altasporunidade: #REF!
Name Ambulatóriodereferência: #REF!
Name Anestesia: #REF!
Name Atividadessociais: #REF!
Name Centrocirúrgico: #REF!
Name Centroobstétrico: #REF!
Name CME: #REF!
Name DP: #REF!
Name Ecocardiograma: #REF!
Name Eletrocardiograma: #REF!
Name Endoscopiadigestivaalta: #REF!
Name Endoscopiadigestivabaixa: #REF!
Name Examesexternos: #REF!
Name Fisioterapia: #REF!
Name Hemodiálises: #REF!
Name Hemoterapia: #REF!
Name indice: #REF!
Name Índicedegirodeleitosunidade: #REF!
Name Internaçõesporespecialidade: #REF!
Name Internaçõesporfaixaetária: #REF!
Name Internaçõespormunicípio: #REF!
Name Internaçõesporunidade: #REF!
Name Laboratóriodeanálisesclínicas: #REF!
Name Leitosdiaporespecialidade: #REF!
Name Leitosdiaporunidade: #REF!
Name Leitosporunidade: #REF!
Name Manutenção: #REF!
Name Médiadepermanênciaporunidade: #REF!
Name Médiadiáriadepacientesporunidade: #REF!
Name Nutriçãodietética: #REF!
Name Óbitosinstitucionais: #REF!
Name Óbitosnãoinstitucionais: #REF!
Name Óbitosporespecialidade: #REF!
Name Óbitosporfaixaetária: #REF!
Name Óbitosporunidade: #REF!
Name Pacientesdiaporespecialidade: #REF!
Name Pacientesdiaporunidade: #REF!
Name Pacientessaídosespecialidade: #REF!
Name Pacientessaídosporunidade: #REF!
Name Porcentagemdeocupaçãoporunidade: #REF!
Name Processamentoroupa: #REF!
Name Radiologia: #REF!
Name Ressonância: #REF!
Name Resumogeral: #REF!
Name Taxademortalidadeportipo: #REF!
Name Taxademortalidadeporunidade: #REF!
Name Testeergométrico: #REF!
Name Tomografia: #REF!
Name Transferênciainternaporunidadeenviada: #REF!
Name Transferênciainternaporunidaderecebida: #REF!
Name Ultrasonografia: #REF!

Sheet Plano Estatístico Analitic 2021
B1: PLANO ESTATÍSTICO 2021
A2: CENTRO INTEGRADO DE INCLUSÃO E REABILITAÇÃO - CIIR
A4: PLANO ESTATÍSTICO | B4: JAN | C4: FEV | D4: MAR | E4: ABR | F4: MAI | G4: JUN | H4: JUL | I4: AGO | J4: SET | K4: OUT | L4: NOV | M4: DEZ | N4: ACUM | O4: MÉDIA
A5: 1 - Estatística do Ambulatório
A6: 1.1. Nº de Consultórios e Salas
A7: Consultórios | B7: 20 | C7: 20 | D7: 20 | E7: 20 | F7: 20 | G7: 20 | H7: 20 | I7: 20 | J7: 20 | K7: 20 | L7: 20 | M7: 20 | N7: =INDEX(B7:M7,COUNT(B7:M7)) -> 20 | O7: =IF(N7=0,0,AVERAGE(B7:M7)) -> 20
A8: Salas de Triagem | B8: 2 | C8: 2 | D8: 2 | E8: 2 | F8: 2 | G8: 2 | H8: 2 | I8: 2 | J8: 2 | K8: 2 | L8: 2 | M8: 2 | N8: =INDEX(B8:M8,COUNT(B8:M8)) -> 2 | O8: =IF(N8=0,0,AVERAGE(B8:M8)) -> 2
A9: Salas de Terapias | B9: 5 | C9: 5 | D9: 5 | E9: 5 | F9: 5 | G9: 5 | H9: 5 | I9: 5 | J9: 5 | K9: 5 | L9: 5 | M9: 5 | N9: =INDEX(B9:M9,COUNT(B9:M9)) -> 5 | O9: =IF(N9=0,0,AVERAGE(B9:M9)) -> 5
A10: Salas de Reabilitações | B10: 10 | C10: 10 | D10: 10 | E10: 10 | F10: 10 | G10: 10 | H10: 10 | I10: 10 | J10: 10 | K10: 10 | L10: 10 | M10: 10 | N10: =INDEX(B10:M10,COUNT(B10:M10)) -> 10 | O10: =IF(N10=0,0,AVERAGE(B10:M10)) -> 10
A11: Consultórios Odontológicos | B11: 4 | C11: 4 | D11: 4 | E11: 4 | F11: 4 | G11: 4 | H11: 4 | I11: 4 | J11: 4 | K11: 4 | L11: 4 | M11: 4 | N11: =INDEX(B11:M11,COUNT(B11:M11)) -> 4 | O11: =IF(N11=0,0,AVERAGE(B11:M11)) -> 4
A12: Salas de Exames | B12: 17 | C12: 17 | D12: 17 | E12: 17 | F12: 17 | G12: 17 | H12: 17 | I12: 17 | J12: 17 | K12: 17 | L12: 17 | M12: 17 | N12: =INDEX(B12:M12,COUNT(B12:M12)) -> 17 | O12: =IF(N12=0,0,AVERAGE(B12:M12)) -> 17
A13: Salas de Terapias - NATEA | B13: 23 | C13: 23 | D13: 23 | E13: 23 | F13: 23 | G13: 23 | H13: 23 | I13: 23 | J13: 23 | K13: 23 | L13: 23 | M13: 23 | N13: =INDEX(B13:M13,COUNT(B13:M13)) -> 23 | O13: =IF(N13=0,0,AVERAGE(B13:M13)) -> 23
A14: Total | B14: =SUM(B7:B13) -> 81 | C14: =SUM(C7:C13) -> 81 | D14: =SUM(D7:D13) -> 81 | E14: =SUM(E7:E13) -> 81 | F14: =SUM(F7:F13) -> 81 | G14: =SUM(G7:G13) -> 81 | H14: =SUM(H7:H13) -> 81 | I14: =SUM(I7:I13) -> 81 | ... O14: =SUM(O7:O13) -> 81
A16: 1.2. Nº de Atendimentos Ambulatoriais
A17: Atendimentos Médicos | B17: =SUM(B26:B27,B29:B39,B52:B54,B57:B65) -> 3048 | C17: =SUM(C26:C27,C29:C39,C52:C54,C57:C65) -> 3044 | D17: =SUM(D26:D27,D29:D39,D52:D54,D57:D65) -> 3463 | E17: =SUM(E26:E27,E29:E39,E52:E54,E57:E65) -> 3289 | F17: =SUM(F26:F27,F29:F39,F52:F54,F57:F65) -> 3832 | G17: =SUM(G26:G27,G29:G39,G52:G54,G57:G65) -> 4087 | H17: =SUM(H26:H27,H29:H39,H52:H54,H57:H65) -> 4151 | I17: =SUM(I26:I27,I29:I39,I52:I54,I57:I65) -> 4323 | ... M17: =SUM(M26:M27,M29:M39,M52:M54,M57:M65) -> 3918 | N17: =SUM(B17:M17) -> 45494 | O17: =IF(N17=0,0,AVERAGE(B17:M17)) -> 3791.1667
A18: Atendimentos Não Médicos (Enfermagem e Nutrição) | B18: =SUM(B47:B48,B28) -> 509 | C18: =SUM(C47:C48,C28) -> 346 | D18: =SUM(D47:D48,D28) -> 440 | E18: =SUM(E47:E48,E28) -> 463 | F18: =SUM(F47:F48,F28) -> 668 | G18: =SUM(G47:G48,G28) -> 481 | H18: =SUM(H47:H48,H28) -> 468 | I18: =SUM(I47:I48,I28) -> 412 | ... M18: =SUM(M47:M48,M28) -> 411 | N18: =SUM(B18:M18) -> 5804 | O18: =IF(N18=0,0,AVERAGE(B18:M18)) -> 483.66667
A19: Procedimentos Terapêuticos CER IV e NATEA | B19: =SUM(B44:B46,B49:B51,B55)-B22 -> 7526 | C19: =SUM(C44:C46,C49:C51,C55)-C22 -> 7001 | D19: =SUM(D44:D46,D49:D51,D55)-D22 -> 5518 | E19: =SUM(E44:E46,E49:E51,E55)-E22 -> 9387 | F19: =SUM(F44:F46,F49:F51,F55)-F22 -> 12109 | G19: =SUM(G44:G46,G49:G51,G55)-G22 -> 11449 | H19: =SUM(H44:H46,H49:H51,H55)-H22 -> 14980 | I19: =SUM(I44:I46,I49:I51,I55)-I22 -> 11465 | ... M19: =SUM(M44:M46,M49:M51,M55)-M22 -> 9591 | N19: =SUM(B19:M19) -> 122085 | O19: =IF(N19=0,0,AVERAGE(B19:M19)) -> 10173.75
A20: Procedimentos Odontológicos CEO 2 | B20: =SUM(B40:B43) -> 1213 | C20: =SUM(C40:C43) -> 1208 | D20: =SUM(D40:D43) -> 1131 | E20: =SUM(E40:E43) -> 1132 | F20: =SUM(F40:F43) -> 1456 | G20: =SUM(G40:G43) -> 1480 | H20: =SUM(H40:H43) -> 1763 | I20: =SUM(I40:I43) -> 1566 | ... M20: =SUM(M40:M43) -> 1268 | N20: =SUM(B20:M20) -> 17098 | O20: =IF(N20=0,0,AVERAGE(B20:M20)) -> 1424.8333
A21: Prótese Buco-Maxilo-Facial | B21: =B56 -> 21 | C21: =C56 -> 18 | D21: =D56 -> 5 | E21: =E56 -> 16 | F21: =F56 -> 11 | G21: =G56 -> 23 | H21: =H56 -> 13 | I21: =I56 -> 37 | ... M21: =M56 -> 30 | N21: =SUM(B21:M21) -> 240 | O21: =IF(N21=0,0,AVERAGE(B21:M21)) -> 20
A22: Procedimentos Terapeuticos da Oficina | B22: =SUM(B131:B132) -> 278 | C22: =SUM(C131:C132) -> 228 | D22: =SUM(D131:D132) -> 259 | E22: =SUM(E131:E132) -> 188 | F22: =SUM(F131:F132) -> 247 | G22: =SUM(G131:G132) -> 279 | H22: =SUM(H131:H132) -> 389 | I22: =SUM(I131:I132) -> 392 | ... M22: =SUM(M131:M132) -> 315 | N22: =SUM(B22:M22) -> 3696 | O22: =IF(N22=0,0,AVERAGE(B22:M22)) -> 308
A23: Total | B23: =IF(SUM(B17:B22)=0,"",SUM(B17:B22)) -> 12595 | C23: =IF(SUM(C17:C22)=0,"",SUM(C17:C22)) -> 11845 | D23: =IF(SUM(D17:D22)=0,"",SUM(D17:D22)) -> 10816 | E23: =IF(SUM(E17:E22)=0,"",SUM(E17:E22)) -> 14475 | F23: =IF(SUM(F17:F22)=0,"",SUM(F17:F22)) -> 18323 | G23: =IF(SUM(G17:G22)=0,"",SUM(G17:G22)) -> 17799 | H23: =IF(SUM(H17:H22)=0,"",SUM(H17:H22)) -> 21764 | I23: =IF(SUM(I17:I22)=0,"",SUM(I17:I22)) -> 18195 | ... O23: =IF(SUM(O17:O22)=0,"",SUM(O17:O22)) -> 16201.417
A25: 1.3. Nº de Atendimentos Ambulatoriais - Por Especialidade
A26: Anestesiologia | B26: 111 | C26: 64 | D26: 105 | E26: 80 | F26: 85 | G26: 77 | H26: 98 | I26: 134 | J26: 100 | K26: 100 | L26: 115 | M26: 94 | N26: =SUM(B26:M26) -> 1163 | O26: =IF(N26=0,0,AVERAGE(B26:M26)) -> 96.916667
A27: Clínica Médica | B27: 256 | C27: 250 | D27: 291 | E27: 326 | F27: 332 | G27: 379 | H27: 328 | I27: 432 | J27: 404 | K27: 408 | L27: 321 | M27: 385 | N27: =SUM(B27:M27) -> 4112 | O27: =IF(N27=0,0,AVERAGE(B27:M27)) -> 342.66667
A28: Farmacologia Clinica | B28: 2 | C28: 1 | D28: 2 | F28: 1 | H28: 2 | N28: =SUM(B28:M28) -> 8 | O28: =IF(N28=0,0,AVERAGE(B28:M28)) -> 1.6
A29: Cardiologista | B29: 97 | C29: 90 | D29: 96 | E29: 106 | F29: 105 | G29: 105 | H29: 68 | I29: 101 | J29: 93 | K29: 97 | L29: 101 | M29: 92 | N29: =SUM(B29:M29) -> 1151 | O29: =IF(N29=0,0,AVERAGE(B29:M29)) -> 95.916667
A30: Fisiatra | B30: 148 | C30: 153 | D30: 202 | E30: 150 | F30: 164 | G30: 220 | H30: 205 | I30: 266 | J30: 241 | K30: 242 | L30: 274 | M30: 186 | N30: =SUM(B30:M30) -> 2451 | O30: =IF(N30=0,0,AVERAGE(B30:M30)) -> 204.25
A31: Geneticista | B31: 80 | C31: 77 | D31: 70 | E31: 54 | F31: 82 | G31: 63 | H31: 59 | I31: 57 | J31: 87 | K31: 84 | L31: 85 | M31: 51 | N31: =SUM(B31:M31) -> 849 | O31: =IF(N31=0,0,AVERAGE(B31:M31)) -> 70.75
A32: Neurologia Adulto | B32: 149 | C32: 141 | D32: 169 | E32: 156 | F32: 164 | G32: 180 | H32: 164 | I32: 167 | J32: 155 | K32: 176 | L32: 193 | M32: 158 | N32: =SUM(B32:M32) -> 1972 | O32: =IF(N32=0,0,AVERAGE(B32:M32)) -> 164.33333
A33: Neurologia Infantil | B33: 346 | C33: 310 | D33: 248 | E33: 300 | F33: 267 | G33: 331 | H33: 350 | I33: 381 | J33: 322 | K33: 380 | L33: 336 | M33: 325 | N33: =SUM(B33:M33) -> 3896 | O33: =IF(N33=0,0,AVERAGE(B33:M33)) -> 324.66667
A34: Oftalmologista | B34: 184 | C34: 239 | D34: 266 | E34: 286 | F34: 291 | G34: 300 | H34: =287+1 -> 288 | I34: 295 | J34: 283 | K34: 301 | L34: 286 | M34: 282 | N34: =SUM(B34:M34) -> 3301 | O34: =IF(N34=0,0,AVERAGE(B34:M34)) -> 275.08333
A35: Ortopedista Adulto | B35: 102 | C35: 107 | D35: 139 | E35: 88 | F35: 113 | G35: 149 | H35: 99 | I35: 120 | J35: 85 | K35: 90 | L35: 105 | M35: 95 | N35: =SUM(B35:M35) -> 1292 | O35: =IF(N35=0,0,AVERAGE(B35:M35)) -> 107.66667
A36: Otorrinolaringologista | B36: 321 | C36: 308 | D36: 363 | E36: 355 | F36: 385 | G36: 411 | H36: 513 | I36: 348 | J36: 384 | K36: 352 | L36: 355 | M36: 326 | N36: =SUM(B36:M36) -> 4421 | O36: =IF(N36=0,0,AVERAGE(B36:M36)) -> 368.41667
A37: Urologista | B37: 37 | C37: 52 | D37: 66 | E37: 55 | F37: 53 | G37: 45 | H37: 50 | I37: 53 | J37: 51 | K37: 43 | L37: 55 | M37: 45 | N37: =SUM(B37:M37) -> 605 | O37: =IF(N37=0,0,AVERAGE(B37:M37)) -> 50.416667
A38: Proctogastroenterologia | B38: 94 | C38: 77 | D38: 92 | E38: 104 | F38: 89 | G38: 97 | H38: 99 | I38: 85 | J38: 83 | K38: 87 | L38: 89 | M38: 88 | N38: =SUM(B38:M38) -> 1084 | O38: =IF(N38=0,0,AVERAGE(B38:M38)) -> 90.333333
A39: Psiquiatra | B39: 266 | C39: 238 | D39: 370 | E39: 306 | F39: 513 | G39: 426 | H39: 471 | I39: 429 | J39: 438 | K39: 411 | L39: 485 | M39: 476 | N39: =SUM(B39:M39) -> 4829 | O39: =IF(N39=0,0,AVERAGE(B39:M39)) -> 402.41667
A40: Cirurgião Dentista Esp. Necessidades Especiais | B40: =B124 -> 731 | C40: 593 | D40: 455 | E40: 522 | F40: 670 | G40: 642 | H40: 780 | I40: 692 | J40: 674 | K40: 780 | L40: 724 | M40: 562 | N40: =SUM(B40:M40) -> 7825 | O40: =IF(N40=0,0,AVERAGE(B40:M40)) -> 652.08333
A41: Cirurgião Dentista Esp. Endodontia | B41: =B125 -> 273 | C41: 64 | D41: 89 | E41: 68 | F41: 99 | G41: 110 | H41: =180+1 -> 181 | I41: 105 | J41: 94 | K41: 113 | L41: 90 | M41: 80 | N41: =SUM(B41:M41) -> 1366 | O41: =IF(N41=0,0,AVERAGE(B41:M41)) -> 113.83333
A42: Cirurgião Dentista Esp. Periodontia | B42: =B126 -> 72 | C42: 366 | D42: 391 | E42: 387 | F42: 515 | G42: 471 | H42: 551 | I42: 492 | J42: 497 | K42: 513 | L42: 574 | M42: 500 | N42: =SUM(B42:M42) -> 5329 | O42: =IF(N42=0,0,AVERAGE(B42:M42)) -> 444.08333
A43: Cirurgião Dentista Esp. Buco Maxilo Facial | B43: 137 | C43: 185 | D43: 196 | E43: 155 | F43: 172 | G43: 257 | H43: 251 | I43: 277 | J43: 239 | K43: 261 | L43: 322 | M43: 126 | N43: =SUM(B43:M43) -> 2578 | O43: =IF(N43=0,0,AVERAGE(B43:M43)) -> 214.83333
...

Sheet Planilha2
A1: 1.16. Absenteísmo por Município
A2: Acara | B2: 1 | C2: 1 | D2: 1 | E2: 1 | N2: =SUM(B2:M2) -> 4 | O2: =IF(N2=0,0,AVERAGE(B2:M2)) -> 1
A3: Ananindeua | B3: 287 | C3: 301 | D3: 650 | E3: 9 | N3: =SUM(B3:M3) -> 1247 | O3: =IF(N3=0,0,AVERAGE(B3:M3)) -> 311.75
A4: Anajas | B4: 2 | C4: 8 | D4: 5 | E4: 3 | N4: =SUM(B4:M4) -> 18 | O4: =IF(N4=0,0,AVERAGE(B4:M4)) -> 4.5
A5: Bagre | B5: 2 | C5: 2 | D5: 7 | E5: 2 | N5: =SUM(B5:M5) -> 13 | O5: =IF(N5=0,0,AVERAGE(B5:M5)) -> 3.25
A6: Belém | B6: 585 | C6: 800 | D6: 465 | E6: 294 | N6: =SUM(B6:M6) -> 2144 | O6: =IF(N6=0,0,AVERAGE(B6:M6)) -> 536
A7: Benevides | B7: 40 | C7: 35 | D7: 45 | E7: 10 | N7: =SUM(B7:M7) -> 130 | O7: =IF(N7=0,0,AVERAGE(B7:M7)) -> 32.5
A8: Barcarena | B8: 6 | C8: 10 | D8: 15 | E8: 28 | N8: =SUM(B8:M8) -> 59 | O8: =IF(N8=0,0,AVERAGE(B8:M8)) -> 14.75
A9: Bujaru | B9: 1 | C9: 1 | D9: 13 | N9: =SUM(B9:M9) -> 15 | O9: =IF(N9=0,0,AVERAGE(B9:M9)) -> 5
A10: Bom Jesus do Tocantis | B10: 1 | C10: 1 | D10: 3 | E10: 2 | N10: =SUM(B10:M10) -> 7 | O10: =IF(N10=0,0,AVERAGE(B10:M10)) -> 1.75
A11: Cametá | B11: 9 | C11: 25 | D11: 12 | E11: 5 | N11: =SUM(B11:M11) -> 51 | O11: =IF(N11=0,0,AVERAGE(B11:M11)) -> 12.75
A12: Capanema | B12: 4 | C12: 3 | D12: 2 | E12: 2 | N12: =SUM(B12:M12) -> 11 | O12: =IF(N12=0,0,AVERAGE(B12:M12)) -> 2.75
A13: Castanhal | B13: 8 | C13: 6 | D13: 14 | E13: 9 | N13: =SUM(B13:M13) -> 37 | O13: =IF(N13=0,0,AVERAGE(B13:M13)) -> 9.25
A14: Colares | B14: 25 | C14: 14 | D14: 30 | E14: 40 | N14: =SUM(B14:M14) -> 109 | O14: =IF(N14=0,0,AVERAGE(B14:M14)) -> 27.25
A15: Curralinho | B15: 2 | C15: 3 | D15: 2 | E15: 2 | N15: =SUM(B15:M15) -> 9 | O15: =IF(N15=0,0,AVERAGE(B15:M15)) -> 2.25
A16: Igarapé Açu | B16: 2 | C16: 5 | D16: 7 | E16: 8 | N16: =SUM(B16:M16) -> 22 | O16: =IF(N16=0,0,AVERAGE(B16:M16)) -> 5.5
A17: Igarapé Mirim | B17: 2 | C17: 5 | D17: 13 | E17: 8 | N17: =SUM(B17:M17) -> 28 | O17: =IF(N17=0,0,AVERAGE(B17:M17)) -> 7
A18: Inhangapi | B18: 4 | C18: 2 | D18: 6 | E18: 5 | N18: =SUM(B18:M18) -> 17 | O18: =IF(N18=0,0,AVERAGE(B18:M18)) -> 4.25
A19: Irituia | B19: 3 | C19: 3 | D19: 5 | E19: 4 | N19: =SUM(B19:M19) -> 15 | O19: =IF(N19=0,0,AVERAGE(B19:M19)) -> 3.75
A20: Limoeiro do Ajuru | B20: 2 | C20: 2 | D20: 7 | E20: 9 | N20: =SUM(B20:M20) -> 20 | O20: =IF(N20=0,0,AVERAGE(B20:M20)) -> 5
A21: Medicilândia | B21: 2 | C21: 1 | D21: 1 | N21: =SUM(B21:M21) -> 4 | O21: =IF(N21=0,0,AVERAGE(B21:M21)) -> 1.3333333
A22: Marituba | B22: 5 | C22: 5 | D22: 8 | E22: 2 | N22: =SUM(B22:M22) -> 20 | O22: =IF(N22=0,0,AVERAGE(B22:M22)) -> 5
A23: Maracanã | B23: 6 | C23: 5 | D23: 3 | E23: 4 | N23: =SUM(B23:M23) -> 18 | O23: =IF(N23=0,0,AVERAGE(B23:M23)) -> 4.5
A24: Mãe do Rio | B24: 2 | C24: 5 | D24: 3 | E24: 3 | N24: =SUM(B24:M24) -> 13 | O24: =IF(N24=0,0,AVERAGE(B24:M24)) -> 3.25
A25: Muaná | B25: 1 | C25: 2 | D25: 4 | N25: =SUM(B25:M25) -> 7 | O25: =IF(N25=0,0,AVERAGE(B25:M25)) -> 2.3333333
A26: Nova Esperança Piria | B26: 1 | C26: 2 | D26: 5 | E26: 4 | N26: =SUM(B26:M26) -> 12 | O26: =IF(N26=0,0,AVERAGE(B26:M26)) -> 3
A27: Novo Repartimento | B27: 5 | C27: 2 | D27: 2 | E27: 1 | N27: =SUM(B27:M27) -> 10 | O27: =IF(N27=0,0,AVERAGE(B27:M27)) -> 2.5
A28: Nova Timboteua | B28: 1 | C28: 2 | D28: 5 | E28: 1 | N28: =SUM(B28:M28) -> 9 | O28: =IF(N28=0,0,AVERAGE(B28:M28)) -> 2.25
A29: Ponta de Pedras | B29: 3 | C29: 2 | D29: 6 | E29: 6 | N29: =SUM(B29:M29) -> 17 | O29: =IF(N29=0,0,AVERAGE(B29:M29)) -> 4.25
A30: Paraupebas | B30: 1 | C30: 3 | D30: 5 | E30: 8 | N30: =SUM(B30:M30) -> 17 | O30: =IF(N30=0,0,AVERAGE(B30:M30)) -> 4.25
A31: Peixe Boi | B31: 2 | C31: 1 | D31: 3 | E31: 1 | N31: =SUM(B31:M31) -> 7 | O31: =IF(N31=0,0,AVERAGE(B31:M31)) -> 1.75
A32: Quatipuru | B32: 1 | C32: 1 | D32: 4 | E32: 1 | N32: =SUM(B32:M32) -> 7 | O32: =IF(N32=0,0,AVERAGE(B32:M32)) -> 1.75
A33: Redenção | B33: 1 | C33: 2 | D33: 4 | N33: =SUM(B33:M33) -> 7 | O33: =IF(N33=0,0,AVERAGE(B33:M33)) -> 2.3333333
A34: Santa Luzia do Para | B34: 4 | C34: 10 | D34: 3 | E34: 6 | N34: =SUM(B34:M34) -> 23 | O34: =IF(N34=0,0,AVERAGE(B34:M34)) -> 5.75
A35: Santa Maria do Para | B35: 5 | C35: 10 | D35: 17 | E35: 9 | N35: =SUM(B35:M35) -> 41 | O35: =IF(N35=0,0,AVERAGE(B35:M35)) -> 10.25
A36: São Miguel do Guamá | B36: 5 | C36: 6 | D36: 10 | E36: 13 | N36: =SUM(B36:M36) -> 34 | O36: =IF(N36=0,0,AVERAGE(B36:M36)) -> 8.5
A37: São Sebastião da Boa Vista | B37: 15 | C37: 20 | D37: 16 | E37: 18 | N37: =SUM(B37:M37) -> 69 | O37: =IF(N37=0,0,AVERAGE(B37:M37)) -> 17.25
A38: Santa Cruz do Arari | B38: 1 | C38: 2 | D38: 2 | N38: =SUM(B38:M38) -> 5 | O38: =IF(N38=0,0,AVERAGE(B38:M38)) -> 1.6666667
A39: Santa Izabel | B39: 2 | C39: 7 | D39: 3 | E39: 10 | N39: =SUM(B39:M39) -> 22 | O39: =IF(N39=0,0,AVERAGE(B39:M39)) -> 5.5
A40: Santo Antônio do taua | B40: 2 | C40: 6 | D40: 9 | E40: 6 | N40: =SUM(B40:M40) -> 23 | O40: =IF(N40=0,0,AVERAGE(B40:M40)) -> 5.75
...

Sheet Planilha1
A2: Centro de Custos | B2: Grupo
A3: Ambulatório Anestesiologia | B3: Ambulatório
A4: Ambulatório Clínica Médica | B4: Ambulatório
A5: Ambulatório Cardiologia | B5: Ambulatório
A6: Ambulatório Fisiatria | B6: Ambulatório
A7: Ambulatório Genética Médica | B7: Ambulatório
A8: Ambulatório Neurologia Adulto | B8: Ambulatório
A9: Ambulatório Neurologia Infantil | B9: Ambulatório
A10: Ambulatório Oftalmologia | B10: Ambulatório
A11: Ambulatório Ortopedia | B11: Ambulatório
A12: Ambulatório Otorrinolaringologia | B12: Ambulatório
A13: Ambulatório Urologia | B13: Ambulatório
... A121: Atividades Manuais | B121: Arte e Cultura

Sheet Mapa de produção sintético-2021
B1: PLANO ESTATÍSTICO 2021
A2: CENTRO INTEGRADO DE INCLUSÃO E REABILITAÇÃO - CIIR
A3: Principais dados estatísticos de 2021
A5: Itens de Avaliação | B5: 44197 | C5: 44228 | D5: 44256 | E5: 44287 | F5: 44317 | G5: 44348 | H5: 44378 | I5: 44409 | J5: 44440 | K5: 44470 | L5: 44501 | M5: 44531 | N5: Acumulado | O5: Média
A6: Nº de Consultórios e Salas | B6: ='Plano Estatístico Analitic 2021'!B14 -> 81 | C6: ='Plano Estatístico Analitic 2021'!C14 -> 81 | D6: ='Plano Estatístico Analitic 2021'!D14 -> 81 | E6: ='Plano Estatístico Analitic 2021'!E14 -> 81 | F6: ='Plano Estatístico Analitic 2021'!F14 -> 81 | G6: ='Plano Estatístico Analitic 2021'!G14 -> 81 | H6: ='Plano Estatístico Analitic 2021'!H14 -> 81 | I6: ='Plano Estatístico Analitic 2021'!I14 -> 81 | ... O6: ='Plano Estatístico Analitic 2021'!O14 -> 81
A7: Nº de Atendimentos Ambulatoriais | B7: ='Plano Estatístico Analitic 2021'!B23 -> 12595 | C7: ='Plano Estatístico Analitic 2021'!C23 -> 11845 | D7: ='Plano Estatístico Analitic 2021'!D23 -> 10816 | E7: ='Plano Estatístico Analitic 2021'!E23 -> 14475 | F7: ='Plano Estatístico Analitic 2021'!F23 -> 18323 | G7: ='Plano Estatístico Analitic 2021'!G23 -> 17799 | H7: ='Plano Estatístico Analitic 2021'!H23 -> 21764 | I7: ='Plano Estatístico Analitic 2021'!I23 -> 18195 | ... O7: ='Plano Estatístico Analitic 2021'!O23 -> 16201.417
A8: Nº de Avaliação Global | B8: ='Plano Estatístico Analitic 2021'!B74 -> 47 | C8: ='Plano Estatístico Analitic 2021'!C74 -> 18 | D8: ='Plano Estatístico Analitic 2021'!D74 -> 59 | E8: ='Plano Estatístico Analitic 2021'!E74 -> 46 | F8: ='Plano Estatístico Analitic 2021'!F74 -> 70 | G8: ='Plano Estatístico Analitic 2021'!G74 -> 47 | H8: ='Plano Estatístico Analitic 2021'!H74 -> 41 | I8: ='Plano Estatístico Analitic 2021'!I74 -> 23 | ... O8: ='Plano Estatístico Analitic 2021'!O74 -> 43.828283
A9: N° de Usuários Ativos em Reabilitação | B9: ='Plano Estatístico Analitic 2021'!B82 -> 821 | C9: ='Plano Estatístico Analitic 2021'!C82 -> 829 | D9: ='Plano Estatístico Analitic 2021'!D82 -> 850 | E9: ='Plano Estatístico Analitic 2021'!E82 -> 875 | F9: ='Plano Estatístico Analitic 2021'!F82 -> 894 | G9: ='Plano Estatístico Analitic 2021'!G82 -> 941 | H9: ='Plano Estatístico Analitic 2021'!H82 -> 958 | I9: ='Plano Estatístico Analitic 2021'!I82 -> 961 | ... O9: ='Plano Estatístico Analitic 2021'!O82 -> 837.66667
A10: N° de Usuários Inativos em Reabilitação | B10: ='Plano Estatístico Analitic 2021'!B90 | C10: ='Plano Estatístico Analitic 2021'!C90 | D10: ='Plano Estatístico Analitic 2021'!D90 | E10: ='Plano Estatístico Analitic 2021'!E90 | F10: ='Plano Estatístico Analitic 2021'!F90 | G10: ='Plano Estatístico Analitic 2021'!G90 | H10: ='Plano Estatístico Analitic 2021'!H90 -> 3 | I10: ='Plano Estatístico Analitic 2021'!I90 -> 3 | ... O10: ='Plano Estatístico Analitic 2021'!O90 -> 8.6
A11: N° de Novos Usuários em Reabilitação | B11: ='Plano Estatístico Analitic 2021'!B98 -> 26 | C11: ='Plano Estatístico Analitic 2021'!C98 -> 28 | D11: ='Plano Estatístico Analitic 2021'!D98 -> 49 | E11: ='Plano Estatístico Analitic 2021'!E98 -> 45 | F11: ='Plano Estatístico Analitic 2021'!F98 -> 42 | G11: ='Plano Estatístico Analitic 2021'!G98 -> 61 | H11: ='Plano Estatístico Analitic 2021'!H98 -> 44 | I11: ='Plano Estatístico Analitic 2021'!I98 -> 13 | ... O11: ='Plano Estatístico Analitic 2021'!O98 -> 37.45202
A12: Nº de Usuários com Alta na Reabilitação | B12: ='Plano Estatístico Analitic 2021'!B106 -> 27 | C12: ='Plano Estatístico Analitic 2021'!C106 -> 8 | D12: ='Plano Estatístico Analitic 2021'!D106 -> 13 | E12: ='Plano Estatístico Analitic 2021'!E106 -> 14 | F12: ='Plano Estatístico Analitic 2021'!F106 -> 2 | G12: ='Plano Estatístico Analitic 2021'!G106 -> 12 | H12: ='Plano Estatístico Analitic 2021'!H106 -> 24 | I12: ='Plano Estatístico Analitic 2021'!I106 -> 7 | ... O12: ='Plano Estatístico Analitic 2021'!O106 -> 20.066667
A13: Nº de Transferências Internas de Usuários (NATEA) | B13: ='Plano Estatístico Analitic 2021'!B114 -> 38 | C13: ='Plano Estatístico Analitic 2021'!C114 -> 13 | D13: ='Plano Estatístico Analitic 2021'!D114 -> 15 | E13: ='Plano Estatístico Analitic 2021'!E114 -> 6 | F13: ='Plano Estatístico Analitic 2021'!F114 -> 22 | G13: ='Plano Estatístico Analitic 2021'!G114 -> 2 | H13: ='Plano Estatístico Analitic 2021'!H114 | I13: ='Plano Estatístico Analitic 2021'!I114 | ... O13: ='Plano Estatístico Analitic 2021'!O114 -> 12.6
A14: Nº de Usuários em Atendimento Odontológico | B14: ='Plano Estatístico Analitic 2021'!B121 -> 157 | C14: ='Plano Estatístico Analitic 2021'!C121 -> 139 | D14: ='Plano Estatístico Analitic 2021'!D121 -> 201 | E14: ='Plano Estatístico Analitic 2021'!E121 -> 194 | F14: ='Plano Estatístico Analitic 2021'!F121 -> 256 | G14: ='Plano Estatístico Analitic 2021'!G121 -> 277 | H14: ='Plano Estatístico Analitic 2021'!H121 -> 281 | I14: ='Plano Estatístico Analitic 2021'!I121 -> 276 | ... O14: ='Plano Estatístico Analitic 2021'!O121 -> 234.66667
A15: Nº de Procedimentos Odontologia (CEO II) | B15: ='Plano Estatístico Analitic 2021'!B128 -> 1213 | C15: ='Plano Estatístico Analitic 2021'!C128 -> 1208 | D15: ='Plano Estatístico Analitic 2021'!D128 -> 1131 | E15: ='Plano Estatístico Analitic 2021'!E128 -> 1132 | F15: ='Plano Estatístico Analitic 2021'!F128 -> 1456 | G15: ='Plano Estatístico Analitic 2021'!G128 -> 1480 | H15: ='Plano Estatístico Analitic 2021'!H128 -> 1763 | I15: ='Plano Estatístico Analitic 2021'!I128 -> 1566 | ... O15: ='Plano Estatístico Analitic 2021'!O128 -> 1424.8333
A16: Estatística da Oficina | B16: ='Plano Estatístico Analitic 2021'!B134 -> 510 | C16: ='Plano Estatístico Analitic 2021'!C134 -> 401 | D16: ='Plano Estatístico Analitic 2021'!D134 -> 515 | E16: ='Plano Estatístico Analitic 2021'!E134 -> 459 | F16: ='Plano Estatístico Analitic 2021'!F134 -> 475 | G16: ='Plano Estatístico Analitic 2021'!G134 -> 516 | H16: ='Plano Estatístico Analitic 2021'!H134 -> 841 | I16: ='Plano Estatístico Analitic 2021'!I134 -> 701 | ... O16: ='Plano Estatístico Analitic 2021'!O134 -> 594
A17: Nº de Absenteísmo de Usuário | B17: ='Plano Estatístico Analitic 2021'!B203 -> 4437 | C17: ='Plano Estatístico Analitic 2021'!C203 -> 4527 | D17: ='Plano Estatístico Analitic 2021'!D203 -> 6422 | E17: ='Plano Estatístico Analitic 2021'!E203 -> 3968 | F17: ='Plano Estatístico Analitic 2021'!F203 -> 4302 | G17: ='Plano Estatístico Analitic 2021'!G203 -> 5376 | H17: ='Plano Estatístico Analitic 2021'!H203 -> 4443 | I17: ='Plano Estatístico Analitic 2021'!I203 -> 4458 | ... O17: ='Plano Estatístico Analitic 2021'!O203 -> 4427.1667
A18: Nº Atendimentos Time de Resposta Rápida (TRR) | B18: ='Plano Estatístico Analitic 2021'!B207 -> 5 | C18: ='Plano Estatístico Analitic 2021'!C207 -> 7 | D18: ='Plano Estatístico Analitic 2021'!D206 -> 9 | E18: ='Plano Estatístico Analitic 2021'!E207 -> 17 | F18: ='Plano Estatístico Analitic 2021'!F207 -> 15 | G18: ='Plano Estatístico Analitic 2021'!G207 -> 13 | H18: ='Plano Estatístico Analitic 2021'!H207 -> 18 | I18: ='Plano Estatístico Analitic 2021'!I207 -> 10 | J18: ='Plano Estatístico Analitic 2021'!J207 -> 10 | K18: ='Plano Estatístico Analitic 2021'!K207 -> 13 | L18: ='Plano Estatístico Analitic 2021'!L207 -> 22 | ... O18: ='Plano Estatístico Analitic 2021'!O207 -> 13.416667
A19: Nº Procedimentos Enfermagem | B19: ='Plano Estatístico Analitic 2021'!B211 -> 9 | C19: ='Plano Estatístico Analitic 2021'!C211 -> 45 | D19: ='Plano Estatístico Analitic 2021'!D210 -> 46 | E19: ='Plano Estatístico Analitic 2021'!E210 -> 39 | F19: ='Plano Estatístico Analitic 2021'!F210 -> 59 | G19: ='Plano Estatístico Analitic 2021'!G210 -> 54 | H19: ='Plano Estatístico Analitic 2021'!H210 -> 70 | I19: ='Plano Estatístico Analitic 2021'!I210 -> 79 | J19: ='Plano Estatístico Analitic 2021'!J210 -> 63 | K19: ='Plano Estatístico Analitic 2021'!K210 -> 53 | ... M19: ='Plano Estatístico Analitic 2021'!M210 -> 46 | N19: ='Plano Estatístico Analitic 2021'!N211 -> 627 | O19: ='Plano Estatístico Analitic 2021'!O211 -> 52.25
A20: Total de Exames de Imagens e Métodos Gráficos | B20: ='Plano Estatístico Analitic 2021'!B242 -> 1898 | C20: ='Plano Estatístico Analitic 2021'!C242 -> 2261 | D20: ='Plano Estatístico Analitic 2021'!D242 -> 3003 | E20: ='Plano Estatístico Analitic 2021'!E242 -> 4615 | F20: ='Plano Estatístico Analitic 2021'!F242 -> 6383 | G20: ='Plano Estatístico Analitic 2021'!G242 -> 7132 | H20: ='Plano Estatístico Analitic 2021'!H242 -> 6079 | I20: ='Plano Estatístico Analitic 2021'!I242 -> 7862 | ... O20: ='Plano Estatístico Analitic 2021'!O242 -> 5730.5833
A21: Nº de Usuários em Tratamento (NATEA) | B21: ='Plano Estatístico Analitic 2021'!B249 -> 46 | C21: ='Plano Estatístico Analitic 2021'!C249 -> 61 | D21: ='Plano Estatístico Analitic 2021'!D249 -> 80 | E21: ='Plano Estatístico Analitic 2021'!E249 -> 105 | F21: ='Plano Estatístico Analitic 2021'!F249 -> 245 | G21: ='Plano Estatístico Analitic 2021'!G249 -> 254 | H21: ='Plano Estatístico Analitic 2021'!H249 -> 249 | I21: ='Plano Estatístico Analitic 2021'!I249 -> 245 | ... M21: ='Plano Estatístico Analitic 2021'!M249 -> 271 | N21: ='Plano Estatístico Analitic 2021'!N243 -> 2218.2903 | O21: ='Plano Estatístico Analitic 2021'!O243 -> 187.85488
A22: Nº de Entradas de Novos Usuários (NATEA) | B22: ='Plano Estatístico Analitic 2021'!B254 -> 9 | C22: ='Plano Estatístico Analitic 2021'!C254 -> 3 | D22: ='Plano Estatístico Analitic 2021'!D254 -> 4 | E22: ='Plano Estatístico Analitic 2021'!E254 -> 19 | F22: ='Plano Estatístico Analitic 2021'!F254 -> 119 | G22: ='Plano Estatístico Analitic 2021'!G254 -> 7 | H22: ='Plano Estatístico Analitic 2021'!H254 -> 1 | I22: ='Plano Estatístico Analitic 2021'!I254 -> 0 | ... O22: ='Plano Estatístico Analitic 2021'!O254 -> 17.545455
A23: Nº de Saídas Realizadas (NATEA) | B23: ='Plano Estatístico Analitic 2021'!B261 -> 0 | C23: ='Plano Estatístico Analitic 2021'!C261 -> 1 | D23: ='Plano Estatístico Analitic 2021'!D261 -> 0 | E23: ='Plano Estatístico Analitic 2021'!E261 -> 0 | F23: ='Plano Estatístico Analitic 2021'!F261 -> 1 | G23: ='Plano Estatístico Analitic 2021'!G261 -> 0 | H23: ='Plano Estatístico Analitic 2021'!H261 -> 6 | I23: ='Plano Estatístico Analitic 2021'!I261 -> 4 | ... O23: ='Plano Estatístico Analitic 2021'!O261 -> 5.3333333
A24: Índice de Satisfação do Usuário | B24: ='Plano Estatístico Analitic 2021'!B288 -> 0.96684 | C24: ='Plano Estatístico Analitic 2021'!C288 -> 0.96471429 | D24: ='Plano Estatístico Analitic 2021'!D288 -> 0.95141429 | E24: ='Plano Estatístico Analitic 2021'!E288 -> 0.96107143 | F24: ='Plano Estatístico Analitic 2021'!F288 -> 0.9602 | G24: ='Plano Estatístico Analitic 2021'!G288 -> 0.9554 | H24: ='Plano Estatístico Analitic 2021'!H288 -> 0.95758571 | I24: ='Plano Estatístico Analitic 2021'!I288 -> 0.95857143 | ... O24: ='Plano Estatístico Analitic 2021'!O288 -> 0.96224798
A25: Número de Atendimentos no Serviço Social | B25: ='Plano Estatístico Analitic 2021'!B295 -> 439 | C25: ='Plano Estatístico Analitic 2021'!C295 -> 299 | D25: ='Plano Estatístico Analitic 2021'!D295 -> 304 | E25: ='Plano Estatístico Analitic 2021'!E295 -> 330 | F25: ='Plano Estatístico Analitic 2021'!F295 -> 618 | G25: ='Plano Estatístico Analitic 2021'!G295 -> 518 | H25: ='Plano Estatístico Analitic 2021'!H295 -> 626 | I25: ='Plano Estatístico Analitic 2021'!I295 -> 426 | ... O25: ='Plano Estatístico Analitic 2021'!O295 -> 452.16667
A26: Treinamento Hora/Homem | B26: ='Plano Estatístico Analitic 2021'!B305 -> 0.10527778 | C26: ='Plano Estatístico Analitic 2021'!C305 -> 0.071331019 | D26: ='Plano Estatístico Analitic 2021'!D305 -> 0.10288194 | E26: ='Plano Estatístico Analitic 2021'!E305 -> 0.21008102 | F26: ='Plano Estatístico Analitic 2021'!F305 -> 0.14515046 | G26: ='Plano Estatístico Analitic 2021'!G305 -> 0.079733796 | H26: ='Plano Estatístico Analitic 2021'!H305 -> 0.13797454 | I26: ='Plano Estatístico Analitic 2021'!I305 -> 0.17135417 | ... N26: ='Plano Estatístico Analitic 2021'!N305 -> 1.4245833 | O26: =N26 -> 1.4245833
A27: CME - Pacotes/Caixas preparados | B27: ='Plano Estatístico Analitic 2021'!B314 -> 1706 | C27: ='Plano Estatístico Analitic 2021'!C314 -> 1640 | D27: ='Plano Estatístico Analitic 2021'!D314 -> 1821 | E27: ='Plano Estatístico Analitic 2021'!E314 -> 1657 | F27: ='Plano Estatístico Analitic 2021'!F314 -> 1689 | G27: ='Plano Estatístico Analitic 2021'!G314 -> 1832 | H27: ='Plano Estatístico Analitic 2021'!H314 -> 1966 | I27: ='Plano Estatístico Analitic 2021'!I314 -> 1840 | ... O27: ='Plano Estatístico Analitic 2021'!O314 -> 1762.4167
A28: Número de Manutenções Corretivas | B28: ='Plano Estatístico Analitic 2021'!B320 -> 9 | C28: ='Plano Estatístico Analitic 2021'!C320 -> 10 | D28: ='Plano Estatístico Analitic 2021'!D320 -> 4 | E28: ='Plano Estatístico Analitic 2021'!F320 -> 8 | F28: ='Plano Estatístico Analitic 2021'!G320 -> 21 | G28: ='Plano Estatístico Analitic 2021'!H320 -> 19 | H28: ='Plano Estatístico Analitic 2021'!I320 -> 26 | I28: ='Plano Estatístico Analitic 2021'!J320 -> 29 | J28: ='Plano Estatístico Analitic 2021'!K320 -> 8 | K28: ='Plano Estatístico Analitic 2021'!L320 -> 14 | L28: ='Plano Estatístico Analitic 2021'!M320 -> 35 | M28: ='Plano Estatístico Analitic 2021'!N320 -> 191 | N28: ='Plano Estatístico Analitic 2021'!N320 -> 191 | O28: ='Plano Estatístico Analitic 2021'!O320 -> 15.916667
A29: Número de Manutenções Preventivas | B29: ='Plano Estatístico Analitic 2021'!B321 -> 50 | C29: ='Plano Estatístico Analitic 2021'!C321 -> 51 | D29: 0 | E29: 0 | F29: 0 | G29: 0 | H29: 0 | I29: 0 | J29: 0 | K29: 0 | L29: 0 | M29: 0 | N29: ='Plano Estatístico Analitic 2021'!N321 -> 562 | O29: ='Plano Estatístico Analitic 2021'!O321 -> 46.833333
A30: Total de Reparos da Manutenção | B30: ='Plano Estatístico Analitic 2021'!B352 -> 96 | C30: ='Plano Estatístico Analitic 2021'!C352 -> 43 | D30: ='Plano Estatístico Analitic 2021'!D352 -> 80 | E30: ='Plano Estatístico Analitic 2021'!E352 -> 56 | F30: ='Plano Estatístico Analitic 2021'!F352 -> 78 | G30: ='Plano Estatístico Analitic 2021'!G352 -> 55 | H30: ='Plano Estatístico Analitic 2021'!H352 -> 89 | I30: ='Plano Estatístico Analitic 2021'!I352 -> 114 | ... O30: ='Plano Estatístico Analitic 2021'!O352 -> 67.5
A31: Total de Funcionários | B31: ='Plano Estatístico Analitic 2021'!B363 -> 302 | C31: ='Plano Estatístico Analitic 2021'!C363 -> 302 | D31: ='Plano Estatístico Analitic 2021'!D363 -> 326 | E31: ='Plano Estatístico Analitic 2021'!E363 -> 330 | F31: ='Plano Estatístico Analitic 2021'!F363 -> 336 | G31: ='Plano Estatístico Analitic 2021'!G363 -> 336 | H31: ='Plano Estatístico Analitic 2021'!H363 -> 337 | I31: ='Plano Estatístico Analitic 2021'!I363 -> 333 | ... O31: ='Plano Estatístico Analitic 2021'!O363 -> 331.83333
A32: Total de Médicos | B32: ='Plano Estatístico Analitic 2021'!B370 -> 61 | C32: ='Plano Estatístico Analitic 2021'!C370 -> 62 | D32: ='Plano Estatístico Analitic 2021'!D370 -> 62 | E32: ='Plano Estatístico Analitic 2021'!E370 -> 62 | F32: ='Plano Estatístico Analitic 2021'!F370 -> 61 | G32: ='Plano Estatístico Analitic 2021'!G370 -> 60 | H32: ='Plano Estatístico Analitic 2021'!H370 -> 61 | I32: ='Plano Estatístico Analitic 2021'!I370 -> 61 | ... O32: ='Plano Estatístico Analitic 2021'!O370 -> 60
A33: Total de Odontologia | B33: ='Plano Estatístico Analitic 2021'!B371 -> 8 | C33: ='Plano Estatístico Analitic 2021'!C371 -> 8 | D33: ='Plano Estatístico Analitic 2021'!D371 -> 8 | E33: ='Plano Estatístico Analitic 2021'!E371 -> 8 | F33: ='Plano Estatístico Analitic 2021'!F371 -> 8 | G33: ='Plano Estatístico Analitic 2021'!G371 -> 9 | H33: ='Plano Estatístico Analitic 2021'!H371 -> 8 | I33: ='Plano Estatístico Analitic 2021'!I371 -> 8 | ... O33: ='Plano Estatístico Analitic 2021'!O371 -> 7.9166667
A34: Total de Radiologia | B34: ='Plano Estatístico Analitic 2021'!B372 -> 2 | C34: ='Plano Estatístico Analitic 2021'!C372 -> 2 | D34: ='Plano Estatístico Analitic 2021'!D372 -> 2 | E34: ='Plano Estatístico Analitic 2021'!E372 -> 2 | F34: ='Plano Estatístico Analitic 2021'!F372 -> 2 | G34: ='Plano Estatístico Analitic 2021'!G372 -> 2 | H34: ='Plano Estatístico Analitic 2021'!H372 -> 2 | I34: ='Plano Estatístico Analitic 2021'!I372 -> 2 | ... O34: ='Plano Estatístico Analitic 2021'!O372 -> 2
A35: Total Fisioterapeuta | B35: ='Plano Estatístico Analitic 2021'!B373 -> 13 | C35: ='Plano Estatístico Analitic 2021'!C373 -> 13 | D35: ='Plano Estatístico Analitic 2021'!D373 -> 13 | E35: ='Plano Estatístico Analitic 2021'!E373 -> 15 | F35: ='Plano Estatístico Analitic 2021'!F373 -> 14 | G35: ='Plano Estatístico Analitic 2021'!G373 -> 14 | H35: ='Plano Estatístico Analitic 2021'!H373 -> 15 | I35: ='Plano Estatístico Analitic 2021'!I373 -> 15 | ... O35: ='Plano Estatístico Analitic 2021'!O373 -> 13.083333
A36: Total de Terapeuta Ocupacional | B36: ='Plano Estatístico Analitic 2021'!B374 -> 32 | C36: ='Plano Estatístico Analitic 2021'!C374 -> 32 | D36: ='Plano Estatístico Analitic 2021'!D374 -> 32 | E36: ='Plano Estatístico Analitic 2021'!E374 -> 32 | F36: ='Plano Estatístico Analitic 2021'!F374 -> 16 | G36: ='Plano Estatístico Analitic 2021'!G374 -> 16 | H36: ='Plano Estatístico Analitic 2021'!H374 -> 32 | I36: ='Plano Estatístico Analitic 2021'!I374 -> 32 | ... O36: ='Plano Estatístico Analitic 2021'!O374 -> 25.5
A37: Total de Fonoaudiologista | B37: ='Plano Estatístico Analitic 2021'!B375 -> 13 | C37: ='Plano Estatístico Analitic 2021'!C375 -> 13 | D37: ='Plano Estatístico Analitic 2021'!D375 -> 13 | E37: ='Plano Estatístico Analitic 2021'!E375 -> 13 | F37: ='Plano Estatístico Analitic 2021'!F375 -> 14 | G37: ='Plano Estatístico Analitic 2021'!G375 -> 13 | H37: ='Plano Estatístico Analitic 2021'!H375 -> 13 | I37: ='Plano Estatístico Analitic 2021'!I375 -> 13 | ... O37: ='Plano Estatístico Analitic 2021'!O375 -> 13.5
A38: Total de Educador Físico | B38: ='Plano Estatístico Analitic 2021'!B376 -> 4 | C38: ='Plano Estatístico Analitic 2021'!C376 -> 5 | D38: ='Plano Estatístico Analitic 2021'!D376 -> 5 | E38: ='Plano Estatístico Analitic 2021'!E376 -> 5 | F38: ='Plano Estatístico Analitic 2021'!F376 -> 5 | G38: ='Plano Estatístico Analitic 2021'!G376 -> 5 | H38: ='Plano Estatístico Analitic 2021'!H376 -> 5 | I38: ='Plano Estatístico Analitic 2021'!I376 -> 5 | ... O38: ='Plano Estatístico Analitic 2021'!O376 -> 4.8333333
A39: Total de Terceiros | B39: ='Plano Estatístico Analitic 2021'!B410 -> 17 | C39: ='Plano Estatístico Analitic 2021'!C410 -> 17 | D39: ='Plano Estatístico Analitic 2021'!D365 -> 17 | E39: ='Plano Estatístico Analitic 2021'!E365 -> 17 | F39: ='Plano Estatístico Analitic 2021'!F365 -> 17 | G39: ='Plano Estatístico Analitic 2021'!G365 -> 14 | H39: ='Plano Estatístico Analitic 2021'!H365 -> 17 | I39: ='Plano Estatístico Analitic 2021'!I365 -> 17 | J39: ='Plano Estatístico Analitic 2021'!J365 -> 17 | K39: ='Plano Estatístico Analitic 2021'!K365 -> 16 | ... M39: ='Plano Estatístico Analitic 2021'!M365 -> 17 | N39: ='Plano Estatístico Analitic 2021'!N410 -> 17 | O39: ='Plano Estatístico Analitic 2021'!O410 -> 16.583333
A40: Funcionários em Férias | B40: ='Plano Estatístico Analitic 2021'!B392 -> 25 | C40: ='Plano Estatístico Analitic 2021'!C392 -> 22 | D40: ='Plano Estatístico Analitic 2021'!D392 -> 18 | E40: ='Plano Estatístico Analitic 2021'!E392 -> 18 | F40: ='Plano Estatístico Analitic 2021'!F392 -> 23 | G40: ='Plano Estatístico Analitic 2021'!G392 -> 36 | H40: ='Plano Estatístico Analitic 2021'!H392 -> 37 | I40: ='Plano Estatístico Analitic 2021'!I392 -> 37 | ... O40: ='Plano Estatístico Analitic 2021'!O392 -> 25.166667
A41: Funcionários de Licenças | B41: ='Plano Estatístico Analitic 2021'!B393 -> 5 | C41: ='Plano Estatístico Analitic 2021'!C393 -> 3 | D41: ='Plano Estatístico Analitic 2021'!D393 -> 4 | E41: ='Plano Estatístico Analitic 2021'!E393 -> 4 | F41: ='Plano Estatístico Analitic 2021'!F393 -> 3 | G41: ='Plano Estatístico Analitic 2021'!G393 -> 4 | H41: ='Plano Estatístico Analitic 2021'!H393 -> 3 | I41: ='Plano Estatístico Analitic 2021'!I393 -> 5 | ... O41: ='Plano Estatístico Analitic 2021'!O393 -> 4.4166667
...
