Workbook
Name Altasporespecialidade: #REF!
Name Altasporunidade: #REF!
Name Ambulatóriodereferência: #REF!
Name Anestesia: #REF!
Name Atividadessociais: #REF!
Name Centrocirúrgico: #REF!
Name Centroobstétrico: #REF!
Name CME: #REF!
Name DP: #REF!
Name Ecocardiograma: #REF!
Name Eletrocardiograma: #REF!
Name Endoscopiadigestivaalta: #REF!
Name Endoscopiadigestivabaixa: #REF!
Name Examesexternos: #REF!
Name Fisioterapia: #REF!
Name Hemodiálises: #REF!
Name Hemoterapia: #REF!
Name indice: #REF!
Name Índicedegirodeleitosunidade: #REF!
Name Internaçõesporespecialidade: #REF!
Name Internaçõesporfaixaetária: #REF!
Name Internaçõespormunicípio: #REF!
Name Internaçõesporunidade: #REF!
Name Laboratóriodeanálisesclínicas: #REF!
Name Leitosdiaporespecialidade: #REF!
Name Leitosdiaporunidade: #REF!
Name Leitosporunidade: #REF!
Name Manutenção: #REF!
Name Médiadepermanênciaporunidade: #REF!
Name Médiadiáriadepacientesporunidade: #REF!
Name Nutriçãodietética: #REF!
Name Óbitosinstitucionais: #REF!
Name Óbitosnãoinstitucionais: #REF!
Name Óbitosporespecialidade: #REF!
Name Óbitosporfaixaetária: #REF!
Name Óbitosporunidade: #REF!
Name Pacientesdiaporespecialidade: #REF!
Name Pacientesdiaporunidade: #REF!
Name Pacientessaídosespecialidade: #REF!
Name Pacientessaídosporunidade: #REF!
Name Porcentagemdeocupaçãoporunidade: #REF!
Name Processamentoroupa: #REF!
Name Radiologia: #REF!
Name Ressonância: #REF!
Name Resumogeral: #REF!
Name Taxademortalidadeportipo: #REF!
Name Taxademortalidadeporunidade: #REF!
Name Testeergométrico: #REF!
Name Tomografia: #REF!
Name Transferênciainternaporunidadeenviada: #REF!
Name Transferênciainternaporunidaderecebida: #REF!
Name Ultrasonografia: #REF!

Sheet Plano Estatístico Analitic 2019
B1: PLANO ESTATÍSTICO 2019
A2: CENTRO INTEGRADO DE INCLUSÃO E REABILITAÇÃO - CIIR
A4: PLANO ESTATÍSTICO | B4: JAN | C4: FEV | D4: MAR | E4: ABR | F4: MAI | G4: JUN | H4: JUL | I4: AGO | J4: SET | K4: OUT | L4: NOV | M4: DEZ | N4: ACUM | O4: MÉDIA
A5: 1 - Estatística do Ambulatório
A6: 1.1. Nº de Consultórios e Salas
A7: Consultórios | B7: 20 | C7: 20 | D7: 20 | E7: 20 | F7: 20 | G7: 20 | H7: 20 | I7: 20 | J7: 20 | K7: 20 | L7: 20 | M7: 20 | N7: =INDEX(B7:M7,COUNT(B7:M7)) -> 20 | O7: =IF(N7=0,0,AVERAGE(B7:M7)) -> 20
A8: Salas de Triagem | B8: 2 | C8: 2 | D8: 2 | E8: 2 | F8: 2 | G8: 2 | H8: 2 | I8: 2 | J8: 2 | K8: 2 | L8: 2 | M8: 2 | N8: =INDEX(B8:M8,COUNT(B8:M8)) -> 2 | O8: =IF(N8=0,0,AVERAGE(B8:M8)) -> 2
A9: Salas de Terapias | B9: 5 | C9: 5 | D9: 5 | E9: 5 | F9: 5 | G9: 5 | H9: 5 | I9: 5 | J9: 5 | K9: 5 | L9: 5 | M9: 5 | N9: =INDEX(B9:M9,COUNT(B9:M9)) -> 5 | O9: =IF(N9=0,0,AVERAGE(B9:M9)) -> 5
A10: Salas de Reabilitações | B10: 10 | C10: 10 | D10: 10 | E10: 10 | F10: 10 | G10: 10 | H10: 10 | I10: 10 | J10: 10 | K10: 10 | L10: 10 | M10: 10 | N10: =INDEX(B10:M10,COUNT(B10:M10)) -> 10 | O10: =IF(N10=0,0,AVERAGE(B10:M10)) -> 10
A11: Consultórios Odontológicos | B11: 4 | C11: 4 | D11: 4 | E11: 4 | F11: 4 | G11: 4 | H11: 4 | I11: 4 | J11: 4 | K11: 4 | L11: 4 | M11: 4 | N11: =INDEX(B11:M11,COUNT(B11:M11)) -> 4 | O11: =IF(N11=0,0,AVERAGE(B11:M11)) -> 4
A12: Sala de Exames | B12: 17 | C12: 17 | D12: 17 | E12: 17 | F12: 17 | G12: 17 | H12: 17 | I12: 17 | J12: 17 | K12: 17 | L12: 17 | M12: 17 | N12: =INDEX(B12:M12,COUNT(B12:M12)) -> 17 | O12: =IF(N12=0,0,AVERAGE(B12:M12)) -> 17
A13: Total | B13: =SUM(B7:B12) -> 58 | C13: =IF(SUM(C7:C12)=0,"",SUM(C7:C12)) -> 58 | D13: =IF(SUM(D7:D12)=0,"",SUM(D7:D12)) -> 58 | E13: =IF(SUM(E7:E12)=0,"",SUM(E7:E12)) -> 58 | F13: =IF(SUM(F7:F12)=0,"",SUM(F7:F12)) -> 58 | G13: =IF(SUM(G7:G12)=0,"",SUM(G7:G12)) -> 58 | H13: =IF(SUM(H7:H12)=0,"",SUM(H7:H12)) -> 58 | I13: =IF(SUM(I7:I12)=0,"",SUM(I7:I12)) -> 58 | J13: =IF(SUM(J7:J12)=0,"",SUM(J7:J12)) -> 58 | ... M13: =IF(SUM(M7:M12)=0,"",SUM(M7:M12)) -> 58 | N13: =SUM(N7:N12) -> 58 | O13: =SUM(O7:O12) -> 58
A15: 1.2. Nº de Atendimentos Ambulatoriais
A16: Atendimentos Médicos | B16: =SUM(B24:B36,B50:B53) -> 2213 | C16: =SUM(C24:C36,C50:C53) -> 1741 | D16: =SUM(D24:D36,D50:D53) -> 1518 | E16: =SUM(E24:E36,E50:E53) -> 1831 | F16: =SUM(F24:F36,F50:F53) -> 2117 | G16: =SUM(G24:G36,G50:G53) -> 1704 | H16: =SUM(H24:H36,H50:H53) -> 2149 | I16: =SUM(I24:I36,I50:I53) -> 2624 | ... M16: =SUM(M24:M36,M50:M53) -> 2630 | N16: =SUM(B16:M16) -> 27220 | O16: =IF(N16=0,0,AVERAGE(B16:M16)) -> 2268.3333
A17: Atendimentos Não Médicos | B17: =SUM(B45:B48,B54) -> 1566 | C17: =SUM(C45:C48,C54) -> 1357 | D17: =SUM(D45:D48,D54) -> 1248 | E17: =SUM(E45:E48,E54) -> 1486 | F17: =SUM(F45:F48,F54) -> 1553 | G17: =SUM(G45:G48,G54) -> 1279 | H17: =SUM(H45:H48,H54) -> 1377 | I17: =SUM(I45:I48,I54) -> 1233 | ... M17: =SUM(M45:M48,M54) -> 2275 | N17: =SUM(B17:M17) -> 18452 | O17: =IF(N17=0,0,AVERAGE(B17:M17)) -> 1537.6667
A18: Procedimentos Terapêuticos | B18: =SUM(B42:B44,B49) -> 7561 | C18: =SUM(C42:C44,C49) -> 8096 | D18: =SUM(D42:D44,D49) -> 7447 | E18: =SUM(E42:E44,E49) -> 8677 | F18: =SUM(F42:F44,F49) -> 9792 | G18: =SUM(G42:G44,G49) -> 10896 | H18: =SUM(H42:H44,H49) -> 12392 | I18: =SUM(I42:I44,I49) -> 11915 | ... M18: =SUM(M42:M44,M49) -> 8636 | N18: =SUM(B18:M18) -> 115302 | O18: =IF(N18=0,0,AVERAGE(B18:M18)) -> 9608.5
A19: Procedimentos Odontológicos | B19: =SUM(B37:B41) -> 208 | C19: =SUM(C37:C41) -> 539 | D19: =SUM(D37:D41) -> 513 | E19: =SUM(E37:E41) -> 1024 | F19: =SUM(F37:F41) -> 1630 | G19: =SUM(G37:G41) -> 1127 | H19: =SUM(H37:H41) -> 1918 | I19: =SUM(I37:I41) -> 1795 | ... M19: =SUM(M37:M41) -> 1365 | N19: =SUM(B19:M19) -> 15384 | O19: =IF(N19=0,0,AVERAGE(B19:M19)) -> 1282
A20: Prótese Buco-Maxilo-Facial | H20: =H55 -> 2 | I20: =I55 -> 4 | J20: =J55 -> 0 | K20: =K55 -> 0 | L20: =L55 -> 3 | M20: =M55 -> 0 | N20: =SUM(B20:M20) -> 9 | O20: =IF(N20=0,0,AVERAGE(B20:M20)) -> 1.5
A21: Total | B21: =IF(SUM(B16:B20)=0,"",SUM(B16:B20)) -> 11548 | C21: =IF(SUM(C16:C20)=0,"",SUM(C16:C20)) -> 11733 | D21: =IF(SUM(D16:D20)=0,"",SUM(D16:D20)) -> 10726 | E21: =IF(SUM(E16:E20)=0,"",SUM(E16:E20)) -> 13018 | F21: =IF(SUM(F16:F20)=0,"",SUM(F16:F20)) -> 15092 | G21: =IF(SUM(G16:G20)=0,"",SUM(G16:G20)) -> 15006 | H21: =IF(SUM(H16:H20)=0,"",SUM(H16:H20)) -> 17838 | I21: =IF(SUM(I16:I20)=0,"",SUM(I16:I20)) -> 17571 | ... M21: =IF(SUM(M16:M20)=0,"",SUM(M16:M20)) -> 14906 | N21: =SUM(B21:M21) -> 176367 | O21: =SUM(O16:O20) -> 14698
A23: 1.3. Nº de Atendimentos Ambulatoriais - Por Especialidade
A24: Anestesiologia | B24: 17 | C24: 20 | D24: 30 | E24: 54 | F24: 69 | G24: 56 | H24: 54 | I24: 54 | J24: 82 | K24: 63 | L24: 76 | M24: 60 | N24: =SUM(B24:M24) -> 635 | O24: =IF(N24=0,0,AVERAGE(B24:M24)) -> 52.916667
A25: Clínica Médica | B25: 55 | C25: 70 | D25: 92 | E25: 77 | F25: 114 | G25: 72 | H25: 103 | I25: 114 | J25: 116 | K25: 101 | L25: 135 | M25: 113 | N25: =SUM(B25:M25) -> 1162 | O25: =IF(N25=0,0,AVERAGE(B25:M25)) -> 96.833333
A26: Cardiologista | B26: 107 | C26: 65 | D26: 81 | E26: 111 | F26: 106 | G26: 161 | H26: 180 | I26: 260 | J26: 260 | K26: 210 | L26: 214 | M26: 225 | N26: =SUM(B26:M26) -> 1980 | O26: =IF(N26=0,0,AVERAGE(B26:M26)) -> 165
A27: Fisiatra | B27: 174 | C27: 90 | D27: 89 | E27: 99 | F27: 123 | G27: 86 | H27: 107 | I27: 153 | J27: 137 | K27: 162 | L27: 177 | M27: 109 | N27: =SUM(B27:M27) -> 1506 | O27: =IF(N27=0,0,AVERAGE(B27:M27)) -> 125.5
A28: Geneticista | B28: 65 | C28: 46 | D28: 41 | E28: 55 | F28: 66 | G28: 57 | H28: 65 | I28: 65 | J28: 58 | K28: 108 | L28: 108 | M28: 43 | N28: =SUM(B28:M28) -> 777 | O28: =IF(N28=0,0,AVERAGE(B28:M28)) -> 64.75
A29: Neurologia Adulto | B29: 143 | C29: 103 | D29: 96 | E29: 186 | F29: 183 | G29: 219 | H29: 125 | I29: 165 | J29: 202 | K29: 188 | L29: 123 | M29: 177 | N29: =SUM(B29:M29) -> 1910 | O29: =IF(N29=0,0,AVERAGE(B29:M29)) -> 159.16667
A30: Neurologia Infantil | B30: 308 | C30: 246 | D30: 272 | E30: 295 | F30: 217 | G30: 103 | H30: 221 | I30: 288 | J30: 270 | K30: 277 | L30: 284 | M30: 278 | N30: =SUM(B30:M30) -> 3059 | O30: =IF(N30=0,0,AVERAGE(B30:M30)) -> 254.91667
A31: Oftalmologista | B31: 197 | C31: 400 | D31: 170 | E31: 193 | F31: 165 | G31: 125 | H31: 167 | I31: 258 | J31: 292 | K31: 344 | L31: 360 | M31: 345 | N31: =SUM(B31:M31) -> 3016 | O31: =IF(N31=0,0,AVERAGE(B31:M31)) -> 251.33333
A32: Ortopedista | B32: 378 | C32: 151 | D32: 122 | E32: 172 | F32: 268 | G32: 181 | H32: 276 | I32: 526 | J32: 332 | K32: 336 | L32: 252 | M32: 222 | N32: =SUM(B32:M32) -> 3216 | O32: =IF(N32=0,0,AVERAGE(B32:M32)) -> 268
A33: Otorrinolaringologista | B33: 497 | C33: 202 | D33: 184 | E33: 244 | F33: 252 | G33: 198 | H33: 336 | I33: 289 | J33: 366 | K33: 360 | L33: 371 | M33: 313 | N33: =SUM(B33:M33) -> 3612 | O33: =IF(N33=0,0,AVERAGE(B33:M33)) -> 301
A34: Urologista | B34: 50 | C34: 53 | D34: 54 | E34: 34 | F34: 89 | G34: 61 | H34: 109 | I34: 95 | J34: 148 | K34: 71 | L34: 110 | M34: 78 | N34: =SUM(B34:M34) -> 952 | O34: =IF(N34=0,0,AVERAGE(B34:M34)) -> 79.333333
A35: Proctogastroenterologia | B35: 23 | C35: 10 | D35: 23 | E35: 12 | F35: 41 | G35: 21 | H35: 30 | I35: 57 | J35: 36 | K35: 47 | L35: 98 | M35: 92 | N35: =SUM(B35:M35) -> 490 | O35: =IF(N35=0,0,AVERAGE(B35:M35)) -> 40.833333
A36: Psiquiatra | B36: 105 | C36: 122 | D36: 87 | E36: 99 | F36: 109 | G36: 132 | H36: 109 | I36: 95 | J36: 149 | K36: 187 | L36: 179 | M36: 177 | N36: =SUM(B36:M36) -> 1550 | O36: =IF(N36=0,0,AVERAGE(B36:M36)) -> 129.16667
A37: Cirurgião Dentista Esp. Necessidades Especiais | B37: 89 | C37: 172 | D37: 212 | E37: 499 | F37: 1117 | G37: =G95 -> 771 | H37: =H95 -> 1191 | I37: =I95 -> 1035 | J37: =J95 -> 883 | K37: =K95 -> 1119 | L37: =L95 -> 1089 | M37: =M95 -> 721 | N37: =SUM(B37:M37) -> 8898 | O37: =IF(N37=0,0,AVERAGE(B37:M37)) -> 741.5
A38: Cirurgião Dentista Esp. Endodontia | B38: 62 | C38: 203 | D38: 83 | E38: 80 | F38: 80 | G38: =G97 -> 25 | H38: =H97 -> 38 | I38: =I97 -> 23 | J38: =J97 -> 30 | K38: =K97 -> 56 | L38: =L97 -> 168 | M38: =M97 -> 108 | N38: =SUM(B38:M38) -> 956 | O38: =IF(N38=0,0,AVERAGE(B38:M38)) -> 79.666667
A39: Cirurgião Dentista Esp. Periodontia | B39: 49 | C39: 59 | D39: 218 | E39: 393 | F39: 283 | G39: =G96 -> 232 | H39: =H96 -> 481 | I39: =I96 -> 524 | J39: =J96 -> 469 | K39: =K96 -> 432 | L39: =L96 -> 525 | M39: =M96 -> 430 | N39: =SUM(B39:M39) -> 4095 | O39: =IF(N39=0,0,AVERAGE(B39:M39)) -> 341.25
A40: Cirurgião Dentista Esp. Buco Maxilo Facial | B40: 8 | C40: 105 | E40: 52 | F40: 150 | G40: =G98 -> 99 | H40: =H98 -> 208 | I40: =I98 -> 213 | J40: =J98 -> 123 | K40: =K98 -> 180 | L40: =L98 -> 184 | M40: =M98 -> 98 | N40: =SUM(B40:M40) -> 1420 | O40: =IF(N40=0,0,AVERAGE(B40:M40)) -> 129.09091
A41: Cirurgião Dentista Esp. Estomatologia | L41: =L99 -> 7 | M41: =M99 -> 8 | N41: =SUM(B41:M41) -> 15 | O41: =IF(N41=0,0,AVERAGE(B41:M41)) -> 7.5
A42: Fisioterapia | B42: 4361 | C42: 4724 | D42: 4255 | E42: 4985 | F42: 4961 | G42: 6028 | H42: 7519 | I42: =6343+74 -> 6417 | J42: 5452 | K42: 3375 | L42: 2595 | M42: 3369 | N42: =SUM(B42:M42) -> 58041 | O42: =IF(N42=0,0,AVERAGE(B42:M42)) -> 4836.75
A43: Terapia Ocupacional | B43: 1674 | C43: 1794 | D43: 1650 | E43: 1635 | F43: 2356 | G43: 2423 | H43: 2556 | I43: =2545+58 -> 2603 | J43: 2545 | K43: 3480 | L43: 2905 | M43: 2817 | N43: =SUM(B43:M43) -> 28438 | O43: =IF(N43=0,0,AVERAGE(B43:M43)) -> 2369.8333
...

Sheet Planilha2
A1: 1.16. Absenteísmo por Município
A2: Acara | B2: 1 | C2: 1 | D2: 1 | E2: 1 | N2: =SUM(B2:M2) -> 4 | O2: =IF(N2=0,0,AVERAGE(B2:M2)) -> 1
A3: Ananindeua | B3: 287 | C3: 301 | D3: 650 | E3: 9 | N3: =SUM(B3:M3) -> 1247 | O3: =IF(N3=0,0,AVERAGE(B3:M3)) -> 311.75
A4: Anajas | B4: 2 | C4: 8 | D4: 5 | E4: 3 | N4: =SUM(B4:M4) -> 18 | O4: =IF(N4=0,0,AVERAGE(B4:M4)) -> 4.5
A5: Bagre | B5: 2 | C5: 2 | D5: 7 | E5: 2 | N5: =SUM(B5:M5) -> 13 | O5: =IF(N5=0,0,AVERAGE(B5:M5)) -> 3.25
A6: Belém | B6: 585 | C6: 800 | D6: 465 | E6: 294 | N6: =SUM(B6:M6) -> 2144 | O6: =IF(N6=0,0,AVERAGE(B6:M6)) -> 536
A7: Benevides | B7: 40 | C7: 35 | D7: 45 | E7: 10 | N7: =SUM(B7:M7) -> 130 | O7: =IF(N7=0,0,AVERAGE(B7:M7)) -> 32.5
A8: Barcarena | B8: 6 | C8: 10 | D8: 15 | E8: 28 | N8: =SUM(B8:M8) -> 59 | O8: =IF(N8=0,0,AVERAGE(B8:M8)) -> 14.75
A9: Bujaru | B9: 1 | C9: 1 | D9: 13 | N9: =SUM(B9:M9) -> 15 | O9: =IF(N9=0,0,AVERAGE(B9:M9)) -> 5
A10: Bom Jesus do Tocantis | B10: 1 | C10: 1 | D10: 3 | E10: 2 | N10: =SUM(B10:M10) -> 7 | O10: =IF(N10=0,0,AVERAGE(B10:M10)) -> 1.75
A11: Cametá | B11: 9 | C11: 25 | D11: 12 | E11: 5 | N11: =SUM(B11:M11) -> 51 | O11: =IF(N11=0,0,AVERAGE(B11:M11)) -> 12.75
A12: Capanema | B12: 4 | C12: 3 | D12: 2 | E12: 2 | N12: =SUM(B12:M12) -> 11 | O12: =IF(N12=0,0,AVERAGE(B12:M12)) -> 2.75
A13: Castanhal | B13: 8 | C13: 6 | D13: 14 | E13: 9 | N13: =SUM(B13:M13) -> 37 | O13: =IF(N13=0,0,AVERAGE(B13:M13)) -> 9.25
A14: Colares | B14: 25 | C14: 14 | D14: 30 | E14: 40 | N14: =SUM(B14:M14) -> 109 | O14: =IF(N14=0,0,AVERAGE(B14:M14)) -> 27.25
A15: Curralinho | B15: 2 | C15: 3 | D15: 2 | E15: 2 | N15: =SUM(B15:M15) -> 9 | O15: =IF(N15=0,0,AVERAGE(B15:M15)) -> 2.25
A16: Igarapé Açu | B16: 2 | C16: 5 | D16: 7 | E16: 8 | N16: =SUM(B16:M16) -> 22 | O16: =IF(N16=0,0,AVERAGE(B16:M16)) -> 5.5
A17: Igarapé Mirim | B17: 2 | C17: 5 | D17: 13 | E17: 8 | N17: =SUM(B17:M17) -> 28 | O17: =IF(N17=0,0,AVERAGE(B17:M17)) -> 7
A18: Inhangapi | B18: 4 | C18: 2 | D18: 6 | E18: 5 | N18: =SUM(B18:M18) -> 17 | O18: =IF(N18=0,0,AVERAGE(B18:M18)) -> 4.25
A19: Irituia | B19: 3 | C19: 3 | D19: 5 | E19: 4 | N19: =SUM(B19:M19) -> 15 | O19: =IF(N19=0,0,AVERAGE(B19:M19)) -> 3.75
A20: Limoeiro do Ajuru | B20: 2 | C20: 2 | D20: 7 | E20: 9 | N20: =SUM(B20:M20) -> 20 | O20: =IF(N20=0,0,AVERAGE(B20:M20)) -> 5
A21: Medicilândia | B21: 2 | C21: 1 | D21: 1 | N21: =SUM(B21:M21) -> 4 | O21: =IF(N21=0,0,AVERAGE(B21:M21)) -> 1.3333333
A22: Marituba | B22: 5 | C22: 5 | D22: 8 | E22: 2 | N22: =SUM(B22:M22) -> 20 | O22: =IF(N22=0,0,AVERAGE(B22:M22)) -> 5
A23: Maracanã | B23: 6 | C23: 5 | D23: 3 | E23: 4 | N23: =SUM(B23:M23) -> 18 | O23: =IF(N23=0,0,AVERAGE(B23:M23)) -> 4.5
A24: Mãe do Rio | B24: 2 | C24: 5 | D24: 3 | E24: 3 | N24: =SUM(B24:M24) -> 13 | O24: =IF(N24=0,0,AVERAGE(B24:M24)) -> 3.25
A25: Muaná | B25: 1 | C25: 2 | D25: 4 | N25: =SUM(B25:M25) -> 7 | O25: =IF(N25=0,0,AVERAGE(B25:M25)) -> 2.3333333
A26: Nova Esperança Piria | B26: 1 | C26: 2 | D26: 5 | E26: 4 | N26: =SUM(B26:M26) -> 12 | O26: =IF(N26=0,0,AVERAGE(B26:M26)) -> 3
A27: Novo Repartimento | B27: 5 | C27: 2 | D27: 2 | E27: 1 | N27: =SUM(B27:M27) -> 10 | O27: =IF(N27=0,0,AVERAGE(B27:M27)) -> 2.5
A28: Nova Timboteua | B28: 1 | C28: 2 | D28: 5 | E28: 1 | N28: =SUM(B28:M28) -> 9 | O28: =IF(N28=0,0,AVERAGE(B28:M28)) -> 2.25
A29: Ponta de Pedras | B29: 3 | C29: 2 | D29: 6 | E29: 6 | N29: =SUM(B29:M29) -> 17 | O29: =IF(N29=0,0,AVERAGE(B29:M29)) -> 4.25
A30: Paraupebas | B30: 1 | C30: 3 | D30: 5 | E30: 8 | N30: =SUM(B30:M30) -> 17 | O30: =IF(N30=0,0,AVERAGE(B30:M30)) -> 4.25
A31: Peixe Boi | B31: 2 | C31: 1 | D31: 3 | E31: 1 | N31: =SUM(B31:M31) -> 7 | O31: =IF(N31=0,0,AVERAGE(B31:M31)) -> 1.75
A32: Quatipuru | B32: 1 | C32: 1 | D32: 4 | E32: 1 | N32: =SUM(B32:M32) -> 7 | O32: =IF(N32=0,0,AVERAGE(B32:M32)) -> 1.75
A33: Redenção | B33: 1 | C33: 2 | D33: 4 | N33: =SUM(B33:M33) -> 7 | O33: =IF(N33=0,0,AVERAGE(B33:M33)) -> 2.3333333
A34: Santa Luzia do Para | B34: 4 | C34: 10 | D34: 3 | E34: 6 | N34: =SUM(B34:M34) -> 23 | O34: =IF(N34=0,0,AVERAGE(B34:M34)) -> 5.75
A35: Santa Maria do Para | B35: 5 | C35: 10 | D35: 17 | E35: 9 | N35: =SUM(B35:M35) -> 41 | O35: =IF(N35=0,0,AVERAGE(B35:M35)) -> 10.25
A36: São Miguel do Guamá | B36: 5 | C36: 6 | D36: 10 | E36: 13 | N36: =SUM(B36:M36) -> 34 | O36: =IF(N36=0,0,AVERAGE(B36:M36)) -> 8.5
A37: São Sebastião da Boa Vista | B37: 15 | C37: 20 | D37: 16 | E37: 18 | N37: =SUM(B37:M37) -> 69 | O37: =IF(N37=0,0,AVERAGE(B37:M37)) -> 17.25
A38: Santa Cruz do Arari | B38: 1 | C38: 2 | D38: 2 | N38: =SUM(B38:M38) -> 5 | O38: =IF(N38=0,0,AVERAGE(B38:M38)) -> 1.6666667
A39: Santa Izabel | B39: 2 | C39: 7 | D39: 3 | E39: 10 | N39: =SUM(B39:M39) -> 22 | O39: =IF(N39=0,0,AVERAGE(B39:M39)) -> 5.5
A40: Santo Antônio do taua | B40: 2 | C40: 6 | D40: 9 | E40: 6 | N40: =SUM(B40:M40) -> 23 | O40: =IF(N40=0,0,AVERAGE(B40:M40)) -> 5.75
...

Sheet Planilha1
A2: Centro de Custos | B2: Grupo
A3: Ambulatório Anestesiologia | B3: Ambulatório
A4: Ambulatório Clínica Médica | B4: Ambulatório
A5: Ambulatório Cardiologia | B5: Ambulatório
A6: Ambulatório Fisiatria | B6: Ambulatório
A7: Ambulatório Genética Médica | B7: Ambulatório
A8: Ambulatório Neurologia Adulto | B8: Ambulatório
A9: Ambulatório Neurologia Infantil | B9: Ambulatório
A10: Ambulatório Oftalmologia | B10: Ambulatório
A11: Ambulatório Ortopedia | B11: Ambulatório
A12: Ambulatório Otorrinolaringologia | B12: Ambulatório
A13: Ambulatório Urologia | B13: Ambulatório
... A121: Atividades Manuais | B121: Arte e Cultura

Sheet Mapa de produção sintético-2019
B1: PLANO ESTATÍSTICO 2019
A2: CENTRO INTEGRADO DE INCLUSÃO E REABILITAÇÃO - CIIR
A3: Principais dados estatísticos de 2019
A5: Itens de Avaliação | B5: 43466 | C5: 43497 | D5: 43525 | E5: 43556 | F5: 43586 | G5: 43617 | H5: 43647 | I5: 43678 | J5: 43709 | K5: 43739 | L5: 43770 | M5: 43800 | N5: Acumulado | O5: Média
A6: Nº de Consultórios e Salas | B6: ='Plano Estatístico Analitic 2019'!B13 -> 58 | C6: ='Plano Estatístico Analitic 2019'!C13 -> 58 | D6: ='Plano Estatístico Analitic 2019'!D13 -> 58 | E6: ='Plano Estatístico Analitic 2019'!E13 -> 58 | F6: ='Plano Estatístico Analitic 2019'!F13 -> 58 | G6: ='Plano Estatístico Analitic 2019'!G13 -> 58 | H6: ='Plano Estatístico Analitic 2019'!H13 -> 58 | I6: ='Plano Estatístico Analitic 2019'!I13 -> 58 | ... O6: ='Plano Estatístico Analitic 2019'!O13 -> 58
A7: Nº de Atendimentos Ambulatoriais | B7: ='Plano Estatístico Analitic 2019'!B21 -> 11548 | C7: ='Plano Estatístico Analitic 2019'!C21 -> 11733 | D7: ='Plano Estatístico Analitic 2019'!D21 -> 10726 | E7: ='Plano Estatístico Analitic 2019'!E21 -> 13018 | F7: ='Plano Estatístico Analitic 2019'!F21 -> 15092 | G7: ='Plano Estatístico Analitic 2019'!G21 -> 15006 | H7: ='Plano Estatístico Analitic 2019'!H21 -> 17838 | I7: ='Plano Estatístico Analitic 2019'!I21 -> 17571 | ... O7: ='Plano Estatístico Analitic 2019'!O21 -> 14698
A8: Nº de Avaliação Global | B8: ='Plano Estatístico Analitic 2019'!B63 -> 67 | C8: ='Plano Estatístico Analitic 2019'!C63 -> 37 | D8: ='Plano Estatístico Analitic 2019'!D63 -> 26 | E8: ='Plano Estatístico Analitic 2019'!E63 -> 31 | F8: ='Plano Estatístico Analitic 2019'!F63 -> 36 | G8: ='Plano Estatístico Analitic 2019'!G63 -> 34 | H8: ='Plano Estatístico Analitic 2019'!H63 -> 87 | I8: ='Plano Estatístico Analitic 2019'!I63 -> 105 | ... O8: ='Plano Estatístico Analitic 2019'!O63 -> 51.166667
A9: N° de Usuários em Reabilitação | B9: ='Plano Estatístico Analitic 2019'!B70 -> 277 | C9: ='Plano Estatístico Analitic 2019'!C70 -> 280 | D9: ='Plano Estatístico Analitic 2019'!D70 -> 284 | E9: ='Plano Estatístico Analitic 2019'!E70 -> 316 | F9: ='Plano Estatístico Analitic 2019'!F70 -> 362 | G9: ='Plano Estatístico Analitic 2019'!G70 -> 383 | H9: ='Plano Estatístico Analitic 2019'!H70 -> 394 | I9: ='Plano Estatístico Analitic 2019'!I70 -> 409 | ... O9: ='Plano Estatístico Analitic 2019'!O70 -> 421.7197
A10: N° de Novos Usuários em Reabilitação | B10: ='Plano Estatístico Analitic 2019'!B77 -> 66 | C10: ='Plano Estatístico Analitic 2019'!C77 -> 3 | D10: ='Plano Estatístico Analitic 2019'!D77 -> 4 | E10: ='Plano Estatístico Analitic 2019'!E77 -> 32 | F10: ='Plano Estatístico Analitic 2019'!F77 -> 48 | G10: ='Plano Estatístico Analitic 2019'!G77 -> 21 | H10: ='Plano Estatístico Analitic 2019'!H77 -> 12 | I10: ='Plano Estatístico Analitic 2019'!I77 -> 15 | ... O10: ='Plano Estatístico Analitic 2019'!O77 -> 42.257576
A11: Nº de Usuários com Alta na Reabilitação | B11: ='Plano Estatístico Analitic 2019'!B84 -> 7 | C11: ='Plano Estatístico Analitic 2019'!C84 | D11: ='Plano Estatístico Analitic 2019'!D84 | E11: ='Plano Estatístico Analitic 2019'!E84 | F11: ='Plano Estatístico Analitic 2019'!F84 -> 2 | G11: ='Plano Estatístico Analitic 2019'!G84 | H11: ='Plano Estatístico Analitic 2019'!H84 -> 2 | I11: ='Plano Estatístico Analitic 2019'!I84 -> 2 | ... O11: ='Plano Estatístico Analitic 2019'!O84 -> 7.25
A12: Nº de Usuários em Atendimento Odontológico | B12: ='Plano Estatístico Analitic 2019'!B92 -> 169 | C12: ='Plano Estatístico Analitic 2019'!C92 -> 352 | D12: ='Plano Estatístico Analitic 2019'!D92 -> 389 | E12: ='Plano Estatístico Analitic 2019'!E92 -> 307 | F12: ='Plano Estatístico Analitic 2019'!F92 -> 289 | G12: ='Plano Estatístico Analitic 2019'!G92 -> 301 | H12: ='Plano Estatístico Analitic 2019'!H92 -> 363 | I12: ='Plano Estatístico Analitic 2019'!I92 -> 354 | ... O12: ='Plano Estatístico Analitic 2019'!O92 -> 325.91667
A13: Nº de Procedimentos Odontologia (CEO II) | B13: ='Plano Estatístico Analitic 2019'!B100 -> 208 | C13: ='Plano Estatístico Analitic 2019'!C100 -> 539 | D13: ='Plano Estatístico Analitic 2019'!D100 -> 605 | E13: ='Plano Estatístico Analitic 2019'!E100 -> 992 | F13: ='Plano Estatístico Analitic 2019'!F100 -> 1576 | G13: ='Plano Estatístico Analitic 2019'!G100 -> 1127 | H13: ='Plano Estatístico Analitic 2019'!H100 -> 1918 | I13: ='Plano Estatístico Analitic 2019'!I100 -> 1795 | ... O13: ='Plano Estatístico Analitic 2019'!O100 -> 1281.25
A14: Estatística da Oficina | B14: ='Plano Estatístico Analitic 2019'!B106 -> 84 | C14: ='Plano Estatístico Analitic 2019'!C106 -> 122 | D14: ='Plano Estatístico Analitic 2019'!D106 -> 134 | E14: ='Plano Estatístico Analitic 2019'!E106 -> 130 | F14: ='Plano Estatístico Analitic 2019'!F106 -> 257 | G14: ='Plano Estatístico Analitic 2019'!G106 -> 195 | H14: ='Plano Estatístico Analitic 2019'!H106 -> 196 | I14: ='Plano Estatístico Analitic 2019'!I106 -> 274 | ... O14: ='Plano Estatístico Analitic 2019'!O106 -> 264.5
A15: Nº de Absenteísmo de Usuário | B15: ='Plano Estatístico Analitic 2019'!B175 -> 1456 | C15: ='Plano Estatístico Analitic 2019'!C175 -> 1786 | D15: ='Plano Estatístico Analitic 2019'!D175 -> 2253 | E15: ='Plano Estatístico Analitic 2019'!E175 -> 2268 | F15: ='Plano Estatístico Analitic 2019'!F175 -> 1881 | G15: ='Plano Estatístico Analitic 2019'!G175 -> 1476 | H15: ='Plano Estatístico Analitic 2019'!H175 -> 2650 | I15: ='Plano Estatístico Analitic 2019'!I175 -> 2323 | ... O15: ='Plano Estatístico Analitic 2019'!O175 -> 2325.4167
A16: Nº Atendimentos Time de Resposta Rápida (TRR) | B16: ='Plano Estatístico Analitic 2019'!B179 -> 24 | C16: ='Plano Estatístico Analitic 2019'!C179 -> 13 | D16: ='Plano Estatístico Analitic 2019'!D178 -> 11 | E16: ='Plano Estatístico Analitic 2019'!E179 -> 14 | F16: ='Plano Estatístico Analitic 2019'!F179 -> 12 | G16: ='Plano Estatístico Analitic 2019'!G179 -> 8 | H16: ='Plano Estatístico Analitic 2019'!H179 -> 7 | I16: ='Plano Estatístico Analitic 2019'!I179 -> 10 | J16: ='Plano Estatístico Analitic 2019'!J179 -> 10 | K16: ='Plano Estatístico Analitic 2019'!K179 -> 10 | L16: ='Plano Estatístico Analitic 2019'!L179 -> 13 | ... O16: ='Plano Estatístico Analitic 2019'!O179 -> 11.583333
A17: Nº Procedimentos Enfermagem | B17: ='Plano Estatístico Analitic 2019'!B183 -> 24 | C17: ='Plano Estatístico Analitic 2019'!C183 -> 19 | D17: ='Plano Estatístico Analitic 2019'!D182 -> 16 | E17: ='Plano Estatístico Analitic 2019'!E182 -> 19 | F17: ='Plano Estatístico Analitic 2019'!F182 -> 11 | G17: ='Plano Estatístico Analitic 2019'!G182 -> 19 | H17: ='Plano Estatístico Analitic 2019'!H182 -> 7 | I17: ='Plano Estatístico Analitic 2019'!I182 -> 10 | J17: ='Plano Estatístico Analitic 2019'!J182 -> 10 | K17: ='Plano Estatístico Analitic 2019'!K182 -> 14 | ... M17: ='Plano Estatístico Analitic 2019'!M182 -> 8 | N17: ='Plano Estatístico Analitic 2019'!N183 -> 172 | O17: ='Plano Estatístico Analitic 2019'!O183 -> 14.333333
A18: Total de Exames de Imagens e Métodos Gráficos | B18: ='Plano Estatístico Analitic 2019'!B204 -> 604 | C18: ='Plano Estatístico Analitic 2019'!C204 -> 772 | D18: ='Plano Estatístico Analitic 2019'!D204 -> 726 | E18: ='Plano Estatístico Analitic 2019'!E204 -> 1235 | F18: ='Plano Estatístico Analitic 2019'!F204 -> 2031 | G18: ='Plano Estatístico Analitic 2019'!G204 -> 1963 | H18: ='Plano Estatístico Analitic 2019'!H204 -> 1962 | I18: ='Plano Estatístico Analitic 2019'!I204 -> 2095 | ... O18: ='Plano Estatístico Analitic 2019'!O204 -> 1846.8333
A19: Índice de Satisfação do Usuário | B19: ='Plano Estatístico Analitic 2019'!B225 -> 0.9314 | C19: ='Plano Estatístico Analitic 2019'!C225 -> 0.933425 | D19: ='Plano Estatístico Analitic 2019'!D225 -> 0.921675 | E19: ='Plano Estatístico Analitic 2019'!E225 -> 0.937425 | F19: ='Plano Estatístico Analitic 2019'!F225 -> 0.92196 | G19: ='Plano Estatístico Analitic 2019'!G225 -> 0.9265 | H19: ='Plano Estatístico Analitic 2019'!H225 -> 0.93175 | I19: ='Plano Estatístico Analitic 2019'!I225 -> 0.91676667 | ... O19: ='Plano Estatístico Analitic 2019'!O225 -> 0.92476125
A20: Número de Atendimentos no Serviço Social | B20: ='Plano Estatístico Analitic 2019'!B232 -> 314 | C20: ='Plano Estatístico Analitic 2019'!C232 -> 333 | D20: ='Plano Estatístico Analitic 2019'!D232 -> 309 | E20: ='Plano Estatístico Analitic 2019'!E232 -> 331 | F20: ='Plano Estatístico Analitic 2019'!F232 -> 416 | G20: ='Plano Estatístico Analitic 2019'!G232 -> 339 | H20: ='Plano Estatístico Analitic 2019'!H232 -> 386 | I20: ='Plano Estatístico Analitic 2019'!I232 -> 412 | ... O20: ='Plano Estatístico Analitic 2019'!O232 -> 444.5
A21: Treinamento Hora/Homem | B21: ='Plano Estatístico Analitic 2019'!B242 -> 0.19400463 | C21: ='Plano Estatístico Analitic 2019'!C242 -> 2.38:39 | D21: ='Plano Estatístico Analitic 2019'!D242 -> 0.24121528 | E21: ='Plano Estatístico Analitic 2019'!E242 -> 0.17101852 | F21: ='Plano Estatístico Analitic 2019'!F242 -> 0.33346065 | G21: ='Plano Estatístico Analitic 2019'!G242 -> 0.26663194 | H21: ='Plano Estatístico Analitic 2019'!H242 -> 0.2419213 | I21: ='Plano Estatístico Analitic 2019'!I242 -> 0.19400463 | ... N21: ='Plano Estatístico Analitic 2019'!N242 -> 2.3386806 | O21: =N21 -> 2.3386806
A22: CME - Pacotes/Caixas preparados | B22: ='Plano Estatístico Analitic 2019'!B251 -> 1609 | C22: ='Plano Estatístico Analitic 2019'!C251 -> 1792 | D22: ='Plano Estatístico Analitic 2019'!D251 -> 2532 | E22: ='Plano Estatístico Analitic 2019'!E251 -> 2176 | F22: ='Plano Estatístico Analitic 2019'!F251 -> 3312 | G22: ='Plano Estatístico Analitic 2019'!G251 -> 2461 | H22: ='Plano Estatístico Analitic 2019'!H251 -> 2412 | I22: ='Plano Estatístico Analitic 2019'!I251 -> 2145 | ... O22: ='Plano Estatístico Analitic 2019'!O251 -> 2703.202
A23: Número de Manutenções Corretivas | B23: ='Plano Estatístico Analitic 2019'!B257 -> 3 | C23: ='Plano Estatístico Analitic 2019'!C257 -> 3 | D23: ='Plano Estatístico Analitic 2019'!D257 -> 6 | E23: ='Plano Estatístico Analitic 2019'!F257 -> 4 | F23: ='Plano Estatístico Analitic 2019'!G257 -> 8 | G23: ='Plano Estatístico Analitic 2019'!H257 -> 10 | H23: ='Plano Estatístico Analitic 2019'!I257 -> 5 | I23: ='Plano Estatístico Analitic 2019'!J257 -> 7 | J23: ='Plano Estatístico Analitic 2019'!K257 -> 6 | K23: ='Plano Estatístico Analitic 2019'!L257 -> 9 | L23: ='Plano Estatístico Analitic 2019'!M257 -> 11 | M23: ='Plano Estatístico Analitic 2019'!N257 -> 78 | N23: ='Plano Estatístico Analitic 2019'!N257 -> 78 | O23: ='Plano Estatístico Analitic 2019'!O257 -> 6.5
A24: Número de Manutenções Preventivas | B24: ='Plano Estatístico Analitic 2019'!B258 -> 0 | C24: ='Plano Estatístico Analitic 2019'!C258 -> 0 | D24: 0 | E24: 0 | F24: 0 | G24: 0 | H24: 0 | I24: 0 | J24: 0 | K24: 0 | L24: 0 | M24: 0 | N24: ='Plano Estatístico Analitic 2019'!N258 -> 347 | O24: ='Plano Estatístico Analitic 2019'!O258 -> 57.833333
A25: Total de Reparos da Manutenção | B25: ='Plano Estatístico Analitic 2019'!B288 -> 50 | C25: ='Plano Estatístico Analitic 2019'!C288 -> 83 | D25: ='Plano Estatístico Analitic 2019'!D288 -> 33 | E25: ='Plano Estatístico Analitic 2019'!E288 -> 42 | F25: ='Plano Estatístico Analitic 2019'!F288 -> 22 | G25: ='Plano Estatístico Analitic 2019'!G288 -> 26 | H25: ='Plano Estatístico Analitic 2019'!H288 -> 58 | I25: ='Plano Estatístico Analitic 2019'!I288 -> 100 | ... O25: ='Plano Estatístico Analitic 2019'!O288 -> 64.333333
A26: Total de Funcionários | B26: ='Plano Estatístico Analitic 2019'!B298 -> 174 | C26: ='Plano Estatístico Analitic 2019'!C298 -> 184 | D26: ='Plano Estatístico Analitic 2019'!D298 -> 187 | E26: ='Plano Estatístico Analitic 2019'!E298 -> 186 | F26: ='Plano Estatístico Analitic 2019'!F298 -> 190 | G26: ='Plano Estatístico Analitic 2019'!G298 -> 193 | H26: ='Plano Estatístico Analitic 2019'!H298 -> 201 | I26: ='Plano Estatístico Analitic 2019'!I298 -> 198 | ... O26: ='Plano Estatístico Analitic 2019'!O298 -> 197.75
A27: Total de Médicos | B27: ='Plano Estatístico Analitic 2019'!B305 -> 37 | C27: ='Plano Estatístico Analitic 2019'!C305 -> 39 | D27: ='Plano Estatístico Analitic 2019'!D305 -> 42 | E27: ='Plano Estatístico Analitic 2019'!E305 -> 44 | F27: ='Plano Estatístico Analitic 2019'!F305 -> 45 | G27: ='Plano Estatístico Analitic 2019'!G305 -> 46 | H27: ='Plano Estatístico Analitic 2019'!H305 -> 47 | I27: ='Plano Estatístico Analitic 2019'!I305 -> 48 | ... O27: ='Plano Estatístico Analitic 2019'!O305 -> 44
A28: Total de Odontologia | B28: ='Plano Estatístico Analitic 2019'!B306 -> 8 | C28: ='Plano Estatístico Analitic 2019'!C306 -> 9 | D28: ='Plano Estatístico Analitic 2019'!D306 -> 9 | E28: ='Plano Estatístico Analitic 2019'!E306 -> 9 | F28: ='Plano Estatístico Analitic 2019'!F306 -> 9 | G28: ='Plano Estatístico Analitic 2019'!G306 -> 9 | H28: ='Plano Estatístico Analitic 2019'!H306 -> 9 | I28: ='Plano Estatístico Analitic 2019'!I306 -> 9 | ... O28: ='Plano Estatístico Analitic 2019'!O306 -> 8.9166667
A29: Total de Radiologia | B29: ='Plano Estatístico Analitic 2019'!B307 -> 4 | C29: ='Plano Estatístico Analitic 2019'!C307 -> 4 | D29: ='Plano Estatístico Analitic 2019'!D307 -> 4 | E29: ='Plano Estatístico Analitic 2019'!E307 -> 4 | F29: ='Plano Estatístico Analitic 2019'!F307 -> 4 | G29: ='Plano Estatístico Analitic 2019'!G307 -> 4 | H29: ='Plano Estatístico Analitic 2019'!H307 -> 3 | I29: ='Plano Estatístico Analitic 2019'!I307 -> 3 | ... O29: ='Plano Estatístico Analitic 2019'!O307 -> 3.5833333
A30: Total Fisioterapeuta | B30: ='Plano Estatístico Analitic 2019'!B308 -> 12 | C30: ='Plano Estatístico Analitic 2019'!C308 -> 12 | D30: ='Plano Estatístico Analitic 2019'!D308 -> 12 | E30: ='Plano Estatístico Analitic 2019'!E308 -> 12 | F30: ='Plano Estatístico Analitic 2019'!F308 -> 12 | G30: ='Plano Estatístico Analitic 2019'!G308 -> 12 | H30: ='Plano Estatístico Analitic 2019'!H308 -> 12 | I30: ='Plano Estatístico Analitic 2019'!I308 -> 12 | ... O30: ='Plano Estatístico Analitic 2019'!O308 -> 12.25
A31: Total de Terapeuta Ocupacional | B31: ='Plano Estatístico Analitic 2019'!B309 -> 9 | C31: ='Plano Estatístico Analitic 2019'!C309 -> 9 | D31: ='Plano Estatístico Analitic 2019'!D309 -> 9 | E31: ='Plano Estatístico Analitic 2019'!E309 -> 13 | F31: ='Plano Estatístico Analitic 2019'!F309 -> 13 | G31: ='Plano Estatístico Analitic 2019'!G309 -> 13 | H31: ='Plano Estatístico Analitic 2019'!H309 -> 13 | I31: ='Plano Estatístico Analitic 2019'!I309 -> 13 | ... O31: ='Plano Estatístico Analitic 2019'!O309 -> 12.416667
A32: Total de Fonoaudiologista | B32: ='Plano Estatístico Analitic 2019'!B310 -> 10 | C32: ='Plano Estatístico Analitic 2019'!C310 -> 10 | D32: ='Plano Estatístico Analitic 2019'!D310 -> 10 | E32: ='Plano Estatístico Analitic 2019'!E310 -> 12 | F32: ='Plano Estatístico Analitic 2019'!F310 -> 12 | G32: ='Plano Estatístico Analitic 2019'!G310 -> 12 | H32: ='Plano Estatístico Analitic 2019'!H310 -> 12 | I32: ='Plano Estatístico Analitic 2019'!I310 -> 12 | ... O32: ='Plano Estatístico Analitic 2019'!O310 -> 11.666667
A33: Total de Educador Físico | B33: ='Plano Estatístico Analitic 2019'!B311 -> 3 | C33: ='Plano Estatístico Analitic 2019'!C311 -> 3 | D33: ='Plano Estatístico Analitic 2019'!D311 -> 3 | E33: ='Plano Estatístico Analitic 2019'!E311 -> 4 | F33: ='Plano Estatístico Analitic 2019'!F311 -> 4 | G33: ='Plano Estatístico Analitic 2019'!G311 -> 4 | H33: ='Plano Estatístico Analitic 2019'!H311 -> 4 | I33: ='Plano Estatístico Analitic 2019'!I311 -> 4 | ... O33: ='Plano Estatístico Analitic 2019'!O311 -> 3.75
A34: Total de Terceiros | B34: ='Plano Estatístico Analitic 2019'!B344 -> 16 | C34: ='Plano Estatístico Analitic 2019'!C344 -> 16 | D34: ='Plano Estatístico Analitic 2019'!D300 -> 16 | E34: ='Plano Estatístico Analitic 2019'!E300 -> 16 | F34: ='Plano Estatístico Analitic 2019'!F300 -> 16 | G34: ='Plano Estatístico Analitic 2019'!G300 -> 16 | H34: ='Plano Estatístico Analitic 2019'!H300 -> 19 | I34: ='Plano Estatístico Analitic 2019'!I300 -> 14 | J34: ='Plano Estatístico Analitic 2019'!J300 -> 19 | K34: ='Plano Estatístico Analitic 2019'!K300 -> 20 | ... M34: ='Plano Estatístico Analitic 2019'!M300 -> 16 | N34: ='Plano Estatístico Analitic 2019'!N344 -> 16 | O34: ='Plano Estatístico Analitic 2019'!O344 -> 17.166667
A35: Funcionários em Férias | B35: ='Plano Estatístico Analitic 2019'!B327 -> 1 | C35: ='Plano Estatístico Analitic 2019'!C327 -> 1 | D35: ='Plano Estatístico Analitic 2019'!D327 -> 1 | E35: ='Plano Estatístico Analitic 2019'!E327 -> 3 | F35: ='Plano Estatístico Analitic 2019'!F327 -> 4 | G35: ='Plano Estatístico Analitic 2019'!G327 -> 12 | H35: ='Plano Estatístico Analitic 2019'!H327 -> 22 | I35: ='Plano Estatístico Analitic 2019'!I327 -> 17 | ... O35: ='Plano Estatístico Analitic 2019'!O327 -> 9.5
A36: Funcionários de Licenças | B36: ='Plano Estatístico Analitic 2019'!B328 -> 1 | C36: ='Plano Estatístico Analitic 2019'!C328 -> 1 | D36: ='Plano Estatístico Analitic 2019'!D328 -> 1 | E36: ='Plano Estatístico Analitic 2019'!E328 -> 2 | F36: ='Plano Estatístico Analitic 2019'!F328 -> 2 | G36: ='Plano Estatístico Analitic 2019'!G328 -> 0 | H36: ='Plano Estatístico Analitic 2019'!H328 -> 4 | I36: ='Plano Estatístico Analitic 2019'!I328 -> 4 | ... O36: ='Plano Estatístico Analitic 2019'!O328 -> 2.8181818
A37: Admissões | B37: ='Plano Estatístico Analitic 2019'!B329 -> 21 | C37: ='Plano Estatístico Analitic 2019'!C329 -> 12 | D37: ='Plano Estatístico Analitic 2019'!D329 -> 3 | E37: ='Plano Estatístico Analitic 2019'!E329 -> 6 | F37: ='Plano Estatístico Analitic 2019'!F329 -> 7 | G37: ='Plano Estatístico Analitic 2019'!G329 -> 10 | H37: ='Plano Estatístico Analitic 2019'!H329 -> 11 | I37: ='Plano Estatístico Analitic 2019'!I329 -> 4 | ... O37: ='Plano Estatístico Analitic 2019'!O329 -> 9.1666667
A38: Demissões | B38: ='Plano Estatístico Analitic 2019'!B330 -> 3 | C38: ='Plano Estatístico Analitic 2019'!C330 -> 2 | D38: ='Plano Estatístico Analitic 2019'!D330 -> 4 | E38: ='Plano Estatístico Analitic 2019'!E330 -> 3 | F38: ='Plano Estatístico Analitic 2019'!F330 -> 3 | G38: ='Plano Estatístico Analitic 2019'!G330 -> 6 | H38: ='Plano Estatístico Analitic 2019'!H330 -> 4 | I38: ='Plano Estatístico Analitic 2019'!I330 -> 7 | ... O38: ='Plano Estatístico Analitic 2019'!O330 -> 3.6666667
A39: % do Pessoal - Serviços Adm | B39: ='Plano Estatístico Analitic 2019'!B337 -> 0.36781609 | C39: ='Plano Estatístico Analitic 2019'!C337 -> 0.33152174 | D39: ='Plano Estatístico Analitic 2019'!D337 -> 0.37967914 | E39: ='Plano Estatístico Analitic 2019'!E337 -> 0.42473118 | F39: ='Plano Estatístico Analitic 2019'!F337 -> 0.37368421 | G39: ='Plano Estatístico Analitic 2019'!G337 -> 0.34196891 | H39: ='Plano Estatístico Analitic 2019'!H337 -> 0.34328358 | I39: ='Plano Estatístico Analitic 2019'!I337 -> 0.31818182 | ... O39: ='Plano Estatístico Analitic 2019'!O337 -> 0.35962722
A40: % do Pessoal de Assistência | B40: ='Plano Estatístico Analitic 2019'!B338 -> 0.37356322 | C40: ='Plano Estatístico Analitic 2019'!C338 -> 0.40217391 | D40: ='Plano Estatístico Analitic 2019'!D338 -> 0.35828877 | E40: ='Plano Estatístico Analitic 2019'!E338 -> 0.33870968 | F40: ='Plano Estatístico Analitic 2019'!F338 -> 0.37368421 | G40: ='Plano Estatístico Analitic 2019'!G338 -> 0.38860104 | H40: ='Plano Estatístico Analitic 2019'!H338 -> 0.4079602 | I40: ='Plano Estatístico Analitic 2019'!I338 -> 0.42424242 | ... O40: ='Plano Estatístico Analitic 2019'!O338 -> 0.39138881
A41: % do Pessoal Serviços de Apoio | B41: ='Plano Estatístico Analitic 2019'!B339 -> 0.18965517 | C41: ='Plano Estatístico Analitic 2019'!C339 -> 0.19021739 | D41: ='Plano Estatístico Analitic 2019'!D339 -> 0.18716578 | E41: ='Plano Estatístico Analitic 2019'!E339 -> 0.18817204 | F41: ='Plano Estatístico Analitic 2019'!F339 -> 0.18421053 | G41: ='Plano Estatístico Analitic 2019'!G339 -> 0.20725389 | H41: ='Plano Estatístico Analitic 2019'!H339 -> 0.18905473 | I41: ='Plano Estatístico Analitic 2019'!I339 -> 0.1969697 | ... O41: ='Plano Estatístico Analitic 2019'!O339 -> 0.18748396
...
